{"text_format":"1","workbook":"xlsx","n_sheets":12,"sheets":["HESAP","GENELVERİ","KULLANMA KLAVUZU","İNEK","D.BUZAĞI-DÜVE","E.BUZAĞI-TOSUN","GÜNLÜK YEM (KGBAŞ)","AHIR YEM (KGGÜN)","TOPLAM YEM ","NET GELİR","İNEK GİZLİ","İNEK ARŞİV"],"not_rendered":{"charts":0,"images":3,"macros":1,"external_links":0,"defined_names":786,"comments":0,"pivot_tables":0},"unopened":[],"bounds":{"document_bytes":16777216,"sheet_cells":100000,"rows_first":2000,"rows_last":500,"rows_between":2000,"halvings":0,"cell_chars":16384,"cell_head_chars":4096},"cells_cut":0,"cells_raw":0,"read":"whole","date_system":"1900"}

{"sheet":"HESAP","index":0,"n_rows":18,"n_cols":207,"rows_kept":18,"cut":false,"hidden":true,"merged":[[0,180,0,187],[0,201,0,204],[0,33,0,46],[0,47,0,64],[0,65,0,82],[0,83,0,100],[0,101,0,119],[0,120,0,155],[0,156,0,170],[0,188,0,194],[0,171,0,176]]}
[null,null,null,null,null,null,null,null,null,null,null,null,null,null,null,null,null,null,null,null,null,null,null,null,null,null,null,null,null,null,null,null,null,null,null,null,null,null,null,null,null,null,null,null,null,null,null,"YEM FİYAT",null,null,null,null,null,null,null,null,null,null,null,null,null,null,null,null,null,"AHIR GÜNLÜK YEM TÜKETİMİ (kg/gün)",null,null,null,null,null,null,null,null,null,null,null,null,null,null,null,null,null,"AHIR TOPLAM YEM TÜKETİMİ (KG)",null,null,null,null,null,null,null,null,null,null,null,null,null,null,null,null,null,"AHIR TOPLAM YEM MASRAFI (TL)",null,null,null,null,null,null,null,null,null,null,null,null,null,null,null,null,null,null,null,null,null,null,null,null,null,null,null,null,null,null,null,null,null,null,null,null,null,null,null,null,null,null,null,null,null,null,null,null,null,null,null,null,null,null,null,null,null,null,null,null,null,null,null,null,null,null,null,null,null,null,null,null,null,null,null,null,null,null,null,null,null,null,null,null,null,null,"GELİR GİDER",null,null,null,null,null,null,null,null,null,null,null,null,"MADDE BALANS"]
[null,"HAYVAN \nCİNSİ","CA\n (kg)","LAKTASYON SIRASI","AHIR GCAA\n(g)","TOPLAM BAKIM SÜRESİ\n(gün)","AHIR BAKIM SÜRESİ\n(gün)","HAYVAN SAYISI","SATILAN HAYVAN SAYISI","DOĞUM ORANI\n(%)","BUZAĞI YAŞAMA ORANI (%)","DANA YAŞAMA ORANI (%)","SATILAN HAYVAN SAYISI\n(baş)","İNEK BBHB","BBHB CİNSİNDEN HAYVAN VARLIĞI","BBHB CİNSİNDEN TOPLAM HAYVAN VARLIĞI","KARKAS RANDIMANI\n%","TAHMİNİ KARKAS AĞIRLIĞI\n(KG)","TOPLAM KARKAS AĞIRLIĞI\n(KG)","KARKASTAN ELDE EDİLEN KEMİKSİZ ET MİKTARI (KG)","İNSAN TÜKETİMİNE SUNULAN ET PROTEİNİ MİKTARI (KG)","İNSAN TÜKETİMİNE SUNULAN TOPLAM ET PROTEİNİ MİKTARI (KG)","İNSAN TÜKETİMİNE SUNULAN ET PROTEİNİN GENEL TOPLAMI (KG)","İNSAN TÜKETİMİNE SUNULAN TOPLAM PROTEİN (KG)","İNSAN TÜKETİMİNE SUNULAN SÜT PROTEİNİN GENEL TOPLAMI (KG)","İNSAN TÜKETİMİNE SUNULAN TOPLAM SÜT PROTEİN (KG)","TOPLAM SÜT ÜRETİMİ\n(KG)","LAKTASYON SÜT VERİMİ\n(KG)","SÜT PROTEİN ORANI AHIR (%)","TOPLAM AHIR SÜT VERİMİ\n(KG)","LAKTASYON AHIR SÜT VERİMİ\n(KG)","AHIR GÜNLÜK SÜT VERİMİ\n(KG)","AHIR SAĞIM SÜRESİ\n(GÜN)","BİRİM KARKAS FİTATI\n(TL/KG)","BİRİM HAYVAN FİTATI\n(TL/BAŞ)","TOPLAM SATILAN HAYVAN GELİRİ\n(TL)","BİRİM AHIR SÜT  FİTATI\n(TL/KG)","HAYVAN BAŞI SÜT GELİRİ\n(TL/BAŞ)","TOPLAM SÜT GELİRİ\n(TL)","AHIR GÜBRE BİRİM FİYATI\n(TL/KG)",null,"AHIR GÜNLÜK GÜBRE ÜRETİMİ\n(KG/BAŞ)","TOPLAM AHIR GÜBRE ÜRETİMİ\n(KG)","AHIR GÜBRE GELİRİ\n(TL)","TOPLAM GÜBRE GELİRİ\n(TL)","TOPLAM  GELİR\n(TL)","TOPLAM  İŞLETME GELİR\n(TL)",{"$f":"İNEK!A3","v":"Sığır Süt Yemi, 24 HP, 3100 ME"},{"$f":"İNEK!A4","v":"Sığır Süt Yemi,18 HP, 2600 ME"},{"$f":"İNEK!A5","v":"Yulaf Kuru Otu, Başaklı"},{"$f":"İNEK!A6","v":"Arpa , Ezme"},{"$f":"İNEK!A7","v":"Buğday Samanı"},{"$f":"İNEK!A8","v":"Çayır Merası, Soğuk Mevsim, Bakımlı"},{"$f":"İNEK!A9","v":"Yonca Kuru Otu, 5. Kalite  %13-15 HP, <%48-54 NDF"},{"$f":"İNEK!A10","v":"Sığır Süt Yemi,16 HP, 2400 ME"},{"$f":"İNEK!A11","v":"Pamuk Tohumu Küspesi, Pres, % 28 HP "},{"$f":"İNEK!A12","v":"Baklagil Kuru Otu, Olgun >%46 NDF"},{"$f":"İNEK!A13","v":"Ayçiçeği Küspesi, Solvent, %32 HP"},{"$f":"İNEK!A14","v":"Soya Küspesi , Solvent, %51"},{"$f":"İNEK!A15","v":"Çayır Kuru Otu , Soğuk Mevsim,Olgun >%60 NDF"},{"$f":"İNEK!A16","v":"Mısır Silajı, %33-40 KM"},{"$f":"İNEK!A17","v":"MIsır Gluteni,63"},{"$f":"İNEK!A18","v":"Yağ, Bitkisel"},{"$f":"İNEK!A19","v":"Kalsiyum Karbonat, CaCO3"},{"$f":"İNEK!A20","v":"Amonyum Fosfat (Monobazik), (NH4) 2HPO4"},{"$f":"AV2","v":"Sığır Süt Yemi, 24 HP, 3100 ME"},"Sığır Süt Yemi,18 HP, 2600 ME","Yulaf Kuru Otu, Başaklı","Arpa , Ezme","Buğday Samanı","Çayır Merası, Soğuk Mevsim, Bakımlı","Yonca Kuru Otu, 5. Kalite  %13-15 HP, <%48-54 NDF","Sığır Süt Yemi,16 HP, 2400 ME","Pamuk Tohumu Küspesi, Pres, % 28 HP ","Baklagil Kuru Otu, Olgun >%46 NDF","Ayçiçeği Küspesi, Solvent, %32 HP","Soya Küspesi , Solvent, %51","Çayır Kuru Otu , Soğuk Mevsim,Olgun >%60 NDF","Mısır Silajı, %33-40 KM","MIsır Gluteni,63","Yağ, Bitkisel","Kalsiyum Karbonat, CaCO3","Amonyum Fosfat (Monobazik), (NH4) 2HPO4",{"$f":"AV2","v":"Sığır Süt Yemi, 24 HP, 3100 ME"},"Sığır Süt Yemi,18 HP, 2600 ME","Yulaf Kuru Otu, Başaklı","Arpa , Ezme","Buğday Samanı","Çayır Merası, Soğuk Mevsim, Bakımlı","Yonca Kuru Otu, 5. Kalite  %13-15 HP, <%48-54 NDF","Sığır Süt Yemi,16 HP, 2400 ME","Pamuk Tohumu Küspesi, Pres, % 28 HP ","Baklagil Kuru Otu, Olgun >%46 NDF","Ayçiçeği Küspesi, Solvent, %32 HP","Soya Küspesi , Solvent, %51","Çayır Kuru Otu , Soğuk Mevsim,Olgun >%60 NDF","Mısır Silajı, %33-40 KM","MIsır Gluteni,63","Yağ, Bitkisel","Kalsiyum Karbonat, CaCO3","Amonyum Fosfat (Monobazik), (NH4) 2HPO4","Sığır Süt Yemi, 24 HP, 3100 ME","Sığır Süt Yemi,18 HP, 2600 ME","Yulaf Kuru Otu, Başaklı","Arpa , Ezme","Buğday Samanı","Çayır Merası, Soğuk Mevsim, Bakımlı","Yonca Kuru Otu, 5. Kalite  %13-15 HP, <%48-54 NDF","Sığır Süt Yemi,16 HP, 2400 ME","Pamuk Tohumu Küspesi, Pres, % 28 HP ","Baklagil Kuru Otu, Olgun >%46 NDF","Ayçiçeği Küspesi, Solvent, %32 HP","Soya Küspesi , Solvent, %51","Çayır Kuru Otu , Soğuk Mevsim,Olgun >%60 NDF","Mısır Silajı, %33-40 KM","MIsır Gluteni,63","Yağ, Bitkisel","Kalsiyum Karbonat, CaCO3","Amonyum Fosfat (Monobazik), (NH4) 2HPO4","TOPLAM YEM  MASRAFI\n(TL)","AHIRDA BİRİM İŞÇİYE DÜŞEN HAYVAN SAYISI (BAŞ/KİŞİ)","AHIRDA  İŞÇİ SAYISI (BAŞ/KİŞİ)","AHIRDA TOPLAM İŞÇİ MALİYETİ (TL)","TOPLAM İŞÇİ MALİYETİ (TL)","GENEL TOPLAM İŞÇİ MALİYETİ (TL)","HER 100 BAŞ İÇİN DÜŞEN YILLIK VETERİNER MUAYENE SAYISI","TOPLAM VETERİNER ZİYARET SAYISI","TOPLAM VETERİNER ZİYARET MASRAFI (TL)","TOPLAM VETERİNER ZİYARET MASRAFI (TL)","SUNİ TOHUMLAMA SAYISI","SUNİ TOHUMLAMA MASRAFI (TL)","100 BAŞ İÇİN DÜŞEN YILLIK KUTU İLAÇ SAYISI","100 BAŞ İÇİN DÜŞEN YILLIK AŞI SAYISI","100 BAŞ İÇİN DÜŞEN YILLIK KUTU DEZENFAKTAN SAYISI","YILLIK AŞI SAYISI"," YILLIK KUTU İLAÇ SAYISI","YILLIK KUTU DEZENFAKTAN SAYISI","YILLIK AŞI MASRAFI (TL)"," YILLIK KUTU İLAÇ MASRAFI (TL)","YILLIK KUTU DEZENFAKTAN MASRAFI (TL)","YILLIK TOPLAM İLAÇ AŞI VE DEZENFEKTAN MASRAFI","ELEKTİRİK TÜKETİM KWh","SU TÜKETİMİ (TON)","DOĞALGAZ TÜKETİMİ (m3)","MAZOT TÜKETİMİ (lt)","NAKLİYE (ADET)","HABERLEŞME (ADET)","ULAŞIM (ADET)","ELEKTİRİK TÜKETİM (TL)","SU TÜKETİMİ (TL)","DOĞALGAZ TÜKETİMİ (TL)","MAZOT TÜKETİMİ (TL)","NAKLİYE (TL)","HABERLEŞME (TL)","ULAŞIM (TL)","TOPLAM DİĞER HARCAMALAR (TL)",{"$f":"GENELVERİ!C1","v":"Bina 1"},{"$f":"GENELVERİ!D1","v":"Bina 2"},{"$f":"GENELVERİ!E1","v":"Alet Ekipman 1"},{"$f":"GENELVERİ!F1","v":"Alet Ekipman 2"},{"$f":"GENELVERİ!G1","v":"Alet Ekipman 3"},"TOPLAM BİNA (TL)","BİNA GENEL TOLAM (TL)","TOPLAM ALET EKİPMAN(TL)","ALET EKİPMAN GENEL TOLAM(TL)","BİNA AMORTİSMAN %","BİNA AMORTİSMAN TL","TOPLAM BİNA AMORTİSMAN TL","ALET EKİPMAN AMORTİSMAN %","ALET EKİPMAN AMORTİSMAN TL","TOPLAM ALET EKİPMAN AMORTİSMAN TL",{"$f":"GENELVERİ!H1","v":"Teşvik"},"TEŞVİK GENEL TOPLAM (TL)",{"$f":"GENELVERİ!I1","v":"Vergi"},"VERGİ GENEL TOPLAM (TL)",{"$f":"GENELVERİ!J1","v":"Faiz"},"FAİZ GENEL TOPLAM (TL)","AHIR YEM ENERJİ TOPLAM\nMJ/bakım süresi (gün)","TOPLAM İNEK YEM ENERJİSİ (MJ/YIL)","TOPLAM YEM ENERJİSİ (MJ/YIL)","1 KG HAYVANSAL PROTEİN İÇİN TÜKETİLEN YEM ENERJİSİ (MJ)",{"$f":"İNEK!A26","v":"KM (kg/gün)"},{"$f":"İNEK!A36","v":"ADF (% KM en az)"},{"$f":"İNEK!A37","v":"NDF (% KM en az)"},{"$f":"İNEK!A27","v":"ME (Mcal/gün)"}," AHIR METAN SALINIM TOPLAMI"," D AHIR METAN SALINIM TOPLAMI"," METAN SALINIM TOPLAMI","TOPLAM METAN SALINIMI (MJ/GÜN)","1 KG HAYVANSAL PROTEİN İÇİN METAN SALINIMI (MJ)","BÜRÜT GELİR (TL)","BÜRÜT GELİR TOPLAMI (TL)","TOPLAM BÜRÜT GELİR (TL)","MASRAFLAR TOPLAMI (TL)","TOPLAM MASRAF (TL)","NET GELİR (TL)","TOPLAM NET GELİR (TL)","AHIR GİREN YEM KM (KG)","AHIR ÇIKAN SÜT KM(KG)","AHIR ÇIKAN CA KM(KG)","AHIR ÇIKAN GÜBRE KM (solunum dahil) (KG)","TOPLAM GİREN YEM KM (KG)","TOPLAM ÇIKAN ÜRÜN  KM(KG)","GİREN MADDE (su hariç) (KG)","ÇIKAN MADDE (KG)","HAYVAN TÜKETİMİNE SUNULAN SU","FARK (KG)"]
[null,"İnek Kuru dönem",{"$f":"İNEK!L3","v":700},{"$f":"İNEK!J2","v":3},null,{"$f":"G3","v":60},{"$f":"İNEK!L5","v":60},{"$f":"İNEK!D23","v":100},{"$f":"M3","v":25},{"$f":"GENELVERİ!B11","v":"0,90"},{"$f":"GENELVERİ!B12","v":"0,95"},{"$f":"GENELVERİ!B13","v":"0,95"},{"$f":"İNEK!L9","v":25},{"$f":"POWER(C3,3/4)/POWER(500,3/4)*H3","v":128.70518013148848},{"$f":"(N6+N5+N4+N3)/4","v":103.35167671821542},{"$f":"O3+O10+O15","v":163.27800028432495},{"$f":"İNEK!L10/100","v":0.5},{"$f":"Q3*C3","v":350},{"$f":"M3*R3","v":8750},{"$f":"I3*R3*İNEK!L11/100","v":7000},{"$f":"T3*İNEK!L12/100","v":1400},{"$f":"U3+U4+U5+U6","v":1400},null,null,null,null,{"$f":"SUM(AD4:AD6)","v":627000},{"$f":"SUM(AE4:AE6)","v":7125},null,null,null,null,null,{"$f":"GENELVERİ!B2","v":"30"},{"$f":"AH3*R3","v":10500},{"$f":"AI3*I3","v":262500},{"$f":"GENELVERİ!G11","v":"2"},null,null,{"$f":"GENELVERİ!G12","v":"0,01"},null,{"$f":"FZ3/0.3","v":49.000000000000234},{"$f":"AP3*H3*G3","v":294000.0000000014},{"$f":"AN3*AQ3","v":2940.0000000000141},{"$f":"AR3","v":2940.0000000000141},{"$f":"AM3+AJ3+AS3","v":265440},null,{"$f":"İNEK!B3","v":2.4},{"$f":"İNEK!B4","v":2.2000000000000002},{"$f":"İNEK!B5","v":0.6},{"$f":"İNEK!B6","v":1.5},{"$f":"İNEK!B7","v":0.5},{"$f":"İNEK!B8","v":0.01},{"$f":"İNEK!B9","v":1},{"$f":"İNEK!B10","v":2},{"$f":"İNEK!B11","v":2.5},{"$f":"İNEK!B12","v":1},{"$f":"İNEK!B13","v":2},{"$f":"İNEK!B14","v":5},{"$f":"İNEK!B15","v":0.7},{"$f":"İNEK!B16","v":0.5},{"$f":"İNEK!B17","v":10},{"$f":"İNEK!B18","v":15},{"$f":"İNEK!B19","v":1},{"$f":"İNEK!B20","v":1},{"$f":"İNEK!C3","v":0},{"$f":"İNEK!C4","v":0},{"$f":"İNEK!C5","v":0},{"$f":"İNEK!C6","v":0},{"$f":"İNEK!C7","v":7.1698106960094483},{"$f":"İNEK!C8","v":0},{"$f":"İNEK!C9","v":0},{"$f":"İNEK!C10","v":0},{"$f":"İNEK!C11","v":0},{"$f":"İNEK!C12","v":0},{"$f":"İNEK!C13","v":0},{"$f":"İNEK!C14","v":0},{"$f":"İNEK!C15","v":0},{"$f":"İNEK!C16","v":19.783390337966253},{"$f":"İNEK!C17","v":0},{"$f":"İNEK!C18","v":1},{"$f":"İNEK!C19","v":9.600953258870738E-3},{"$f":"İNEK!C20","v":2.0880961562422567E-2},{"$f":"BN3*$H3*$G3","v":0},0,0,0,43018.86417605669,0,0,0,0,0,{"$f":"BX3*$H3*$G3","v":0},0,0,118700.34202779751,0,6000,57.605719553224425,125.28576937453539,{"$f":"CF3*AV3","v":0},0,0,0,21509.432088028345,0,0,0,0,0,{"$f":"CP3*BF3","v":0},0,0,59350.171013898755,0,90000,57.605719553224425,125.28576937453539,{"$f":"SUM(CX3:DO3)","v":171042.49459085485},{"$f":"İNEK!L13","v":50},{"$f":"H3/DQ3","v":2},{"$f":"GENELVERİ!$D$11/20*HESAP!DR3*HESAP!G3","v":0},{"$f":"DS3","v":0},null,{"$f":"GENELVERİ!N2","v":"0"},{"$f":"DV3*H3/100","v":0},{"$f":"DW3*GENELVERİ!$D$12","v":0},null,{"$f":"GENELVERİ!B22","v":"0"},{"$f":"DZ3*GENELVERİ!D13","v":0},{"$f":"GENELVERİ!O2","v":"0"},{"$f":"GENELVERİ!P2","v":"0"},{"$f":"GENELVERİ!Q2","v":"0"},{"$f":"EB3*$H3/100","v":0},0,0,{"$f":"EE3*GENELVERİ!$D$16","v":0},{"$f":"EF3*GENELVERİ!$D$14","v":0},{"$f":"EG3*GENELVERİ!$D$15","v":0},null,{"$f":"GENELVERİ!B15","v":"0"},{"$f":"GENELVERİ!B16","v":"0"},{"$f":"GENELVERİ!B17","v":"0"},{"$f":"GENELVERİ!B18","v":"0"},{"$f":"GENELVERİ!B19","v":"0"},{"$f":"GENELVERİ!B20","v":"0"},{"$f":"GENELVERİ!B21","v":"0"},{"$f":"EL3*GENELVERİ!D17","v":0},{"$f":"EM3*GENELVERİ!G16","v":0},{"$f":"EN3*GENELVERİ!G17","v":0},{"$f":"EO3*GENELVERİ!D18","v":0},{"$f":"EP3*GENELVERİ!G13","v":0},{"$f":"EQ3*GENELVERİ!G14","v":0},{"$f":"ER3*GENELVERİ!G15","v":0},null,{"$f":"GENELVERİ!C2","v":"0"},{"$f":"GENELVERİ!D2","v":"0"},{"$f":"GENELVERİ!E2","v":"0"},{"$f":"GENELVERİ!F2","v":"0"},{"$f":"GENELVERİ!G2","v":"0"},{"$f":"FA3+FB3","v":0},null,{"$f":"FC3+FD3+FE3","v":0},null,{"$f":"GENELVERİ!L2","v":"0,05"},{"$f":"FF3*FJ3","v":0},null,{"$f":"GENELVERİ!M2","v":"0,10"},{"$f":"FH3*FM3","v":0},null,{"$f":"GENELVERİ!H2","v":"0"},{"$f":"FP3","v":"0"},{"$f":"GENELVERİ!I2","v":"0"},null,{"$f":"GENELVERİ!J2","v":"0"},null,{"$f":"İNEK!C27*4.183*H3*G3","v":775471.40696420835},{"$f":"FV3+FV4+FV5+FV6","v":6209459.5975570027},null,null,{"$f":"İNEK!C26","v":14.70000000000007},{"$f":"İNEK!C36","v":30.086188801921793},{"$f":"İNEK!C37","v":55.182840838810378},{"$f":"İNEK!C27","v":30.897737148944472},{"$f":"5.58+0.848*FZ3*GB3/100","v":12.458872207602779},{"$f":"IF(GD3=5.58,0,IF(GD3>5.6,GD3))","v":12.458872207602779},{"$f":"SUM(GE3:GE3)*H3*G3","v":74753.233245616677},null,null,{"$f":"AT3","v":265440},{"$f":"FP3+GI3","v":265440},null,{"$f":"DP3+DT3+DX3+EA3+EH3+EI3+EJ3+ES3+ET3+EU3+EV3+EW3+EX3+EY3+FK3+FN3+FR3+FT3","v":171042.49459085485},null,{"$f":"GJ3-GL3","v":94397.505409145146},null,{"$f":"(FZ3*G3)*H3","v":88200.000000000422},null,{"$f":"C3*I3*0.3","v":5250},{"$f":"AQ3*0.3","v":88200.000000000422},{"$f":"GP3","v":88200.000000000422},{"$f":"GQ3+GR3+GS3","v":93450.000000000422},{"$f":"EO3+EM3*1000+CW3+CV3+CU3+CT3+CS3+CR3+CQ3+CP3+CO3+CN3+CM3+CL3+CK3+CJ3+CI3+CH3+CG3+CF3+C3*H3-C3*H3","v":167902.09769278197},{"$f":"AQ3+AD3+I3*C3","v":311500.0000000014},{"$f":"GV3-GW3","v":-143597.90230721942}]
[null,"İnek Lakbaşı",{"$f":"İNEK!M3","v":500},null,null,{"$f":"G4","v":75},{"$f":"İNEK!M5","v":75},{"$f":"İNEK!D23-(İNEK!M2+(1-J3)*H3)","v":88},{"$f":"M4","v":0},null,null,null,{"$f":"İNEK!M9","v":0},{"$f":"POWER(C4,3/4)/POWER(500,3/4)*H4","v":88},null,null,{"$f":"İNEK!M10/100","v":0.5},{"$f":"Q4*C4","v":250},{"$f":"M4*R4","v":0},{"$f":"I4*R4*İNEK!M11/100","v":0},{"$f":"T4*İNEK!M12/100","v":0},null,null,null,null,{"$f":"AC4*AD4/100","v":7840.8},null,null,{"$f":"1.9+İNEK!M7*0.4","v":3.3},{"$f":"AE4*H4","v":237600},{"$f":"AF4*AG4","v":2700},{"$f":"İNEK!M6","v":30},{"$f":"İNEK!M8","v":90},{"$f":"GENELVERİ!B3","v":"25"},{"$f":"AH4*R4","v":6250},{"$f":"AI4*I4","v":0},{"$f":"GENELVERİ!G11","v":"2"},{"$f":"AE4*AK4","v":5400},{"$f":"AL4*H4","v":475200},null,null,{"$f":"FZ4/0.3","v":60.166666666666671},{"$f":"AP4*H4*G4","v":397100},{"$f":"AN3*AQ4","v":3971},{"$f":"AR4","v":3971},{"$f":"AM4+AJ4+AS4","v":479171},null,{"$f":"AV3","v":2.4},{"$f":"AW3","v":2.2000000000000002},0.6,1.5,0.5,0.01,1,2,2.5,1,2,5,0.7,0.5,10,{"$f":"BK3","v":15},1,1,{"$f":"İNEK!D3","v":8.7140349260625971},{"$f":"İNEK!D4","v":0},{"$f":"İNEK!D5","v":0},{"$f":"İNEK!D6","v":2.1247640038056801},{"$f":"İNEK!D7","v":0},{"$f":"İNEK!D8","v":0},{"$f":"İNEK!D9","v":0},{"$f":"İNEK!D10","v":0},{"$f":"İNEK!D11","v":4.6012634495078188},{"$f":"İNEK!D12","v":0},{"$f":"İNEK!D13","v":0},{"$f":"İNEK!D14","v":0},{"$f":"İNEK!D15","v":0},{"$f":"İNEK!D16","v":7.3481690318432387},{"$f":"İNEK!D17","v":1.5217748688129613},{"$f":"İNEK!D18","v":0.27341675757779454},{"$f":"İNEK!D19","v":0},{"$f":"İNEK!D20","v":0},57512.630512013136,0,0,14023.442425117488,0,0,0,0,30368.338766751604,0,0,0,0,48497.915610165379,10043.714134165546,1804.550600013444,0,0,138030.31322883151,0,0,21035.163637676233,0,0,0,0,75920.846916879003,0,0,0,0,24248.957805082689,100437.14134165546,27068.259000201659,0,0,{"$f":"SUM(CX4:DO4)","v":386740.68193032657},{"$f":"İNEK!M13","v":40},{"$f":"H4/DQ4","v":2.2000000000000002},{"$f":"GENELVERİ!$D$11/20*HESAP!DR4*HESAP!G4","v":0},{"$f":"DS4","v":0},null,{"$f":"GENELVERİ!N3","v":"1"},{"$f":"DV4*H4/100","v":0.88},{"$f":"DW4*GENELVERİ!$D$12","v":0},null,null,null,{"$f":"GENELVERİ!O3","v":"100"},{"$f":"GENELVERİ!P3","v":"1"},{"$f":"GENELVERİ!Q3","v":"1"},88,0.88,0.88,{"$f":"EE4*GENELVERİ!$D$16","v":0},{"$f":"EF4*GENELVERİ!$D$14","v":0},{"$f":"EG4*GENELVERİ!$D$15","v":0},null,null,null,null,null,null,null,null,null,null,null,null,null,null,null,null,{"$f":"GENELVERİ!C3","v":"0"},{"$f":"GENELVERİ!D3","v":"0"},{"$f":"GENELVERİ!E3","v":"0"},{"$f":"GENELVERİ!F3","v":"0"},{"$f":"GENELVERİ!G3","v":"0"},{"$f":"FA4+FB4","v":0},null,{"$f":"FC4+FD4+FE4","v":0},null,{"$f":"GENELVERİ!L3","v":"0,05"},{"$f":"FF4*FJ4","v":0},null,{"$f":"GENELVERİ!M3","v":"0,10"},{"$f":"FH4*FM4","v":0},null,{"$f":"GENELVERİ!H3","v":"0"},{"$f":"FP4","v":"0"},{"$f":"GENELVERİ!I3","v":"0"},null,{"$f":"GENELVERİ!J3","v":"0"},null,{"$f":"İNEK!F27*4.183*H4*G4","v":1509310.3630391003},null,null,null,{"$f":"İNEK!F26","v":18.05},{"$f":"İNEK!F36","v":18.999999898130142},{"$f":"İNEK!F37","v":33.421828682594018},{"$f":"İNEK!F27","v":54.669707946272439},{"$f":"5.58+0.848*FZ4*GB4/100","v":10.69567878547257},{"$f":"IF(GD4=5.58,0,IF(GD4>5.6,GD4))","v":10.69567878547257},{"$f":"SUM(GE4:GE4)*H4*G4","v":70591.479984118967},null,null,{"$f":"AT4","v":479171},{"$f":"FP4+GI4","v":479171},null,{"$f":"DP4+DT4+DX4+EA4+EH4+EI4+EJ4+ES4+ET4+EU4+EV4+EW4+EX4+EY4+FK4+FN4+FR4+FT4","v":386740.68193032657},null,{"$f":"GJ4-GL4","v":92430.318069673434},null,{"$f":"(FZ4*G4)*H4","v":119130},{"$f":"(AD4*(6.809+1.223*İNEK!M7))/100","v":26348.652000000002},{"$f":"C4*I4*0.3","v":0},{"$f":"AQ4*0.3","v":119130},{"$f":"GP4","v":119130},{"$f":"GQ4+GR4+GS4","v":145478.652},{"$f":"EO4+EM4*1000+CW4+CV4+CU4+CT4+CS4+CR4+CQ4+CP4+CO4+CN4+CM4+CL4+CK4+CJ4+CI4+CH4+CG4+CF4+C4*H4-C4*H4","v":162250.59204822659},{"$f":"AQ4+AD4+I4*C4","v":634700},{"$f":"GV4-GW4","v":-472449.40795177338}]
[null,"İnek lak ort",{"$f":"İNEK!N3","v":560},null,null,{"$f":"G5","v":160},{"$f":"İNEK!N5","v":160},{"$f":"H4-İNEK!N2","v":88},{"$f":"M5","v":0},null,null,null,{"$f":"İNEK!N9","v":0},{"$f":"POWER(C5,3/4)/POWER(500,3/4)*H5","v":95.806767884592148},null,null,{"$f":"İNEK!N10/100","v":0.5},{"$f":"Q5*C5","v":280},{"$f":"M5*R5","v":0},{"$f":"I5*R5*İNEK!N11/100","v":0},{"$f":"T5*İNEK!N12/100","v":0},null,null,null,null,{"$f":"AC5*AD5/100","v":8923.2000000000007},null,null,{"$f":"1.9+İNEK!N7*0.4","v":3.38},{"$f":"AE5*H5","v":264000},{"$f":"AF5*AG5","v":3000},{"$f":"İNEK!N6","v":25},{"$f":"İNEK!N8","v":120},{"$f":"GENELVERİ!B4","v":"26"},{"$f":"AH5*R5","v":7280},{"$f":"AI5*I5","v":0},{"$f":"GENELVERİ!G11","v":"2"},{"$f":"AE5*AK5","v":6000},{"$f":"AL5*H5","v":528000},null,null,{"$f":"FZ5/0.3","v":62.583333333333329},{"$f":"AP5*H5*G5","v":881173.33333333326},{"$f":"AN3*AQ5","v":8811.7333333333336},{"$f":"AR5","v":8811.7333333333336},{"$f":"AM5+AJ5+AS5","v":536811.73333333328},null,{"$f":"AV4","v":2.4},2.2000000000000002,0.6,1.5,0.5,0.01,1,2,2.5,1,2,5,0.7,0.5,10,15,1,1,{"$f":"İNEK!E3","v":0.12407693701180234},{"$f":"İNEK!E4","v":0},{"$f":"İNEK!E5","v":0},{"$f":"İNEK!E6","v":8.6947797679919887},{"$f":"İNEK!E7","v":0},{"$f":"İNEK!E8","v":52.636184435361656},{"$f":"İNEK!E9","v":0},{"$f":"İNEK!E10","v":0},{"$f":"İNEK!E11","v":0},{"$f":"İNEK!E12","v":0},{"$f":"İNEK!E13","v":0},{"$f":"İNEK!E14","v":0},{"$f":"İNEK!E15","v":0},{"$f":"İNEK!E16","v":0},{"$f":"İNEK!E17","v":0},{"$f":"İNEK!E18","v":0},{"$f":"İNEK!E19","v":8.6617782495970574E-2},{"$f":"İNEK!E20","v":8.5831083183124809E-2},1747.0032731261767,0,0,122422.4991333272,0,741117.47684989218,0,0,0,0,0,0,0,0,0,0,1219.5783775432656,1208.5016512183975,4192.8078555028242,0,0,183633.7486999908,0,7411.1747684989223,0,0,0,0,0,0,0,0,0,0,1219.5783775432656,1208.5016512183975,{"$f":"SUM(CX5:DO5)","v":197665.81135275422},{"$f":"İNEK!N13","v":40},{"$f":"H5/DQ5","v":2.2000000000000002},{"$f":"GENELVERİ!$D$11/20*HESAP!DR5*HESAP!G5","v":0},{"$f":"DS5","v":0},null,{"$f":"GENELVERİ!N4","v":"0"},{"$f":"DV5*H5/100","v":0},{"$f":"DW5*GENELVERİ!$D$12","v":0},null,null,null,{"$f":"GENELVERİ!O4","v":"0"},{"$f":"GENELVERİ!P4","v":"0"},{"$f":"GENELVERİ!Q4","v":"0"},0,0,0,{"$f":"EE5*GENELVERİ!$D$16","v":0},{"$f":"EF5*GENELVERİ!$D$14","v":0},{"$f":"EG5*GENELVERİ!$D$15","v":0},null,null,null,null,null,null,null,null,null,null,null,null,null,null,null,null,{"$f":"GENELVERİ!C4","v":"0"},{"$f":"GENELVERİ!D4","v":"0"},{"$f":"GENELVERİ!E4","v":"0"},{"$f":"GENELVERİ!F4","v":"0"},{"$f":"GENELVERİ!G4","v":"0"},{"$f":"FA5+FB5","v":0},null,{"$f":"FC5+FD5+FE5","v":0},null,{"$f":"GENELVERİ!L4","v":"0,05"},{"$f":"FF5*FJ5","v":0},null,{"$f":"GENELVERİ!M4","v":"0,10"},{"$f":"FH5*FM5","v":0},null,{"$f":"GENELVERİ!H4","v":"0"},{"$f":"FP5","v":"0"},{"$f":"GENELVERİ!I4","v":"0"},null,{"$f":"GENELVERİ!J4","v":"0"},null,{"$f":"İNEK!I27*4.183*H5*G5","v":2916240.4873945215},null,null,null,{"$f":"İNEK!I26","v":18.774999999999999},{"$f":"İNEK!I36","v":22.389518588484613},{"$f":"İNEK!I37","v":42.100194076800463},{"$f":"İNEK!I27","v":49.514547644730186},{"$f":"5.58+0.848*FZ5*GB5/100","v":12.282856099355556},{"$f":"IF(GD5=5.58,0,IF(GD5>5.6,GD5))","v":12.282856099355556},{"$f":"SUM(GE5:GE5)*H5*G5","v":172942.6138789262},null,null,{"$f":"AT5","v":536811.73333333328},{"$f":"FP5+GI5","v":536811.73333333328},null,{"$f":"DP5+DT5+DX5+EA5+EH5+EI5+EJ5+ES5+ET5+EU5+EV5+EW5+EX5+EY5+FK5+FN5+FR5+FT5","v":197665.81135275422},null,{"$f":"GJ5-GL5","v":339145.92198057903},null,{"$f":"(FZ5*G5)*H5","v":264352},{"$f":"(AD5*(6.809+1.223*İNEK!N7))/100","v":29922.023999999998},{"$f":"C5*I5*0.3","v":0},{"$f":"AQ5*0.3","v":264351.99999999994},{"$f":"GP5","v":264352},{"$f":"GQ5+GR5+GS5","v":294274.02399999992},{"$f":"EO5+EM5*1000+CW5+CV5+CU5+CT5+CS5+CR5+CQ5+CP5+CO5+CN5+CM5+CL5+CK5+CJ5+CI5+CH5+CG5+CF5+C5*H5-C5*H5","v":867715.05928510719},{"$f":"AQ5+AD5+I5*C5","v":1145173.3333333333},{"$f":"GV5-GW5","v":-277458.27404822607}]
[null,"inek lakson",{"$f":"İNEK!O3","v":600},null,null,{"$f":"G6","v":75},{"$f":"İNEK!O5","v":75},{"$f":"H5-İNEK!O2","v":88},{"$f":"M6","v":0},null,null,null,{"$f":"İNEK!O9","v":0},{"$f":"POWER(C6,3/4)/POWER(500,3/4)*H6","v":100.89475885678107},null,null,{"$f":"İNEK!O10/100","v":0.5},{"$f":"Q6*C6","v":300},{"$f":"M6*R6","v":0},{"$f":"I6*R6*İNEK!O11/100","v":0},{"$f":"T6*İNEK!O12/100","v":0},null,null,null,null,{"$f":"AC6*AD6/100","v":4338.84},null,null,{"$f":"1.9+İNEK!O7*0.4","v":3.46},{"$f":"AE6*H6","v":125400},{"$f":"AF6*AG6","v":1425},{"$f":"İNEK!O6","v":15},{"$f":"İNEK!O8","v":95},{"$f":"GENELVERİ!B5","v":"30"},{"$f":"AH6*R6","v":9000},{"$f":"AI6*I6","v":0},{"$f":"GENELVERİ!G11","v":"2"},{"$f":"AE6*AK6","v":2850},{"$f":"AL6*H6","v":250800},null,null,{"$f":"FZ6/0.3","v":42.887324872800676},{"$f":"AP6*H6*G6","v":283056.34416048444},{"$f":"AN3*AQ6","v":2830.5634416048447},{"$f":"AR6","v":2830.5634416048447},{"$f":"AM6+AJ6+AS6","v":253630.56344160484},null,{"$f":"AV5","v":2.4},2.2000000000000002,0.6,1.5,0.5,0.01,1,2,2.5,1,2,5,0.7,0.5,10,15,1,1,{"$f":"İNEK!F3","v":3.9827099996117696},{"$f":"İNEK!F4","v":0},{"$f":"İNEK!F5","v":0},{"$f":"İNEK!F6","v":6.0032199513818671},{"$f":"İNEK!F7","v":1.4974439352651451E-8},{"$f":"İNEK!F8","v":0},{"$f":"İNEK!F9","v":0},{"$f":"İNEK!F10","v":0},{"$f":"İNEK!F11","v":0},{"$f":"İNEK!F12","v":0},{"$f":"İNEK!F13","v":0},{"$f":"İNEK!F14","v":0},{"$f":"İNEK!F15","v":0},{"$f":"İNEK!F16","v":10.14565302216235},{"$f":"İNEK!F17","v":0},{"$f":"İNEK!F18","v":0.13137079639662147},{"$f":"İNEK!F19","v":4.275646847673481E-2},{"$f":"İNEK!F20","v":8.2821304805933069E-2},26285.885997437679,0,0,39621.251679120323,9.8831299727499564E-5,0,0,0,0,0,0,0,0,66961.309946271504,0,867.04725621770172,282.19269194644977,546.62061171915832,63086.126393850427,0,0,59431.877518680485,4.9415649863749782E-5,0,0,0,0,0,0,0,0,33480.654973135752,0,13005.708843265526,282.19269194644977,546.62061171915832,{"$f":"SUM(CX6:DO6)","v":169833.18108201344},{"$f":"İNEK!O13","v":40},{"$f":"H6/DQ6","v":2.2000000000000002},{"$f":"GENELVERİ!$D$11/20*HESAP!DR6*HESAP!G6","v":0},{"$f":"DS6","v":0},null,{"$f":"GENELVERİ!N5","v":"0"},{"$f":"DV6*H6/100","v":0},{"$f":"DW6*GENELVERİ!$D$12","v":0},null,null,null,{"$f":"GENELVERİ!O5","v":"0"},{"$f":"GENELVERİ!P5","v":"0"},{"$f":"GENELVERİ!Q5","v":"0"},0,0,0,{"$f":"EE6*GENELVERİ!$D$16","v":0},{"$f":"EF6*GENELVERİ!$D$14","v":0},{"$f":"EG6*GENELVERİ!$D$15","v":0},null,null,null,null,null,null,null,null,null,null,null,null,null,null,null,null,{"$f":"GENELVERİ!C5","v":"0"},{"$f":"GENELVERİ!D5","v":"0"},{"$f":"GENELVERİ!E5","v":"0"},{"$f":"GENELVERİ!F5","v":"0"},{"$f":"GENELVERİ!G5","v":"0"},{"$f":"FA6+FB6","v":0},null,{"$f":"FC6+FD6+FE6","v":0},null,{"$f":"GENELVERİ!L5","v":"0,05"},{"$f":"FF6*FJ6","v":0},null,{"$f":"GENELVERİ!M5","v":"0,10"},{"$f":"FH6*FM6","v":0},null,{"$f":"GENELVERİ!H5","v":"0"},{"$f":"FP6","v":"0"},{"$f":"GENELVERİ!I5","v":"0"},null,{"$f":"GENELVERİ!J5","v":"0"},null,{"$f":"İNEK!L27*4.183*H6*G6","v":1008437.3401591722},null,null,null,{"$f":"İNEK!L26","v":12.866197461840203},{"$f":"İNEK!L36","v":18.999999982089772},{"$f":"İNEK!L37","v":36.430916905900162},{"$f":"İNEK!L27","v":36.527261866543959},{"$f":"5.58+0.848*FZ6*GB6/100","v":9.55480810291869},{"$f":"IF(GD6=5.58,0,IF(GD6>5.6,GD6))","v":9.55480810291869},{"$f":"SUM(GE6:GE6)*H6*G6","v":63061.733479263356},null,null,{"$f":"AT6","v":253630.56344160484},{"$f":"FP6+GI6","v":253630.56344160484},null,{"$f":"DP6+DT6+DX6+EA6+EH6+EI6+EJ6+ES6+ET6+EU6+EV6+EW6+EX6+EY6+FK6+FN6+FR6+FT6","v":169833.18108201344},null,{"$f":"GJ6-GL6","v":83797.3823595914},null,{"$f":"(FZ6*G6)*H6","v":84916.903248145347},{"$f":"(AD6*(6.809+1.223*İNEK!O7))/100","v":14519.689800000002},{"$f":"C6*I6*0.3","v":0},{"$f":"AQ6*0.3","v":84916.903248145332},{"$f":"GP6","v":84916.903248145347},{"$f":"GQ6+GR6+GS6","v":99436.59304814534},{"$f":"EO6+EM6*1000+CW6+CV6+CU6+CT6+CS6+CR6+CQ6+CP6+CO6+CN6+CM6+CL6+CK6+CJ6+CI6+CH6+CG6+CF6+C6*H6-C6*H6","v":134564.3082815441},{"$f":"AQ6+AD6+I6*C6","v":408456.34416048444},{"$f":"GV6-GW6","v":-273892.03587894037}]
[null,"E.DOĞUM "]
[null,"D.DOĞUM "]
[null,null,null,null,null,null,null,{"$f":"H3+H10+H13+H15+H18","v":268},{"$f":"SUM(I3:I6,I10:I13,I15:I18)","v":84},null,null,null,null,null,null,null,null,null,{"$f":"SUM(S3:S6,S10:S13,S15:S18)","v":27098.570000000003},null,null,null,{"$f":"SUM(V3+V10+V15)","v":3141.7826200000004},{"$f":"W9+Y9","v":24244.622620000002},{"$f":"SUM(Z4:Z6)","v":21102.84},null,{"$f":"AA3","v":627000},null,null,null,null,null,null,null,null,{"$f":"SUM(AJ3:AJ6,AJ10:AJ13,AJ15:AJ18)","v":873841.10000000009},null,null,{"$f":"SUM(AM4:AM8)","v":1254000},null,null,null,null,null,{"$f":"SUM(AS3:AS6,AS10:AS13,AS15:AS18)","v":29949.896672640614},{"$f":"AJ9+AM9+AS9","v":2157790.9966726406},{"$f":"SUM(AT3:AT6,AT10:AT13,AT15:AT18)","v":2157790.996672641},{"$f":"'E.BUZAĞI-TOSUN'!A3","v":"Çayır-Baklagil Kuru Otu, Olgun> %53 NDF"},{"$f":"'E.BUZAĞI-TOSUN'!A4","v":"Yağ, Ca Sabunları"},{"$f":"'E.BUZAĞI-TOSUN'!A5","v":"Buğday, Ezme"},{"$f":"'E.BUZAĞI-TOSUN'!A6","v":"Buzağı Başlangıç Yemi"},{"$f":"'E.BUZAĞI-TOSUN'!A7","v":"Buzağı Büyütme Yemi"},{"$f":"'E.BUZAĞI-TOSUN'!A8","v":"Sığır Besi Yemi"},{"$f":"'E.BUZAĞI-TOSUN'!A9","v":"Mısır Silajı, %33-40 KM"},{"$f":"'E.BUZAĞI-TOSUN'!A10","v":"Çayır Merası, Soğuk Mevsim, Bakımlı"},{"$f":"'E.BUZAĞI-TOSUN'!A11","v":"Soya Küspesi, Ekspeller, %45 HP"},{"$f":"'E.BUZAĞI-TOSUN'!A12","v":"Çayır Kuru Otu, Soğuk Mevsim"},{"$f":"'E.BUZAĞI-TOSUN'!A13","v":"Buğday Samanı"},{"$f":"'E.BUZAĞI-TOSUN'!A14","v":"Çayır Merası, Soğuk Mevsim, Bakımlı"},{"$f":"'E.BUZAĞI-TOSUN'!A15","v":"Melas, Şeker Pancarı"},{"$f":"'E.BUZAĞI-TOSUN'!A16","v":"Arpa , Ezme"},{"$f":"'E.BUZAĞI-TOSUN'!A17","v":"Amonyum Fosfat (Dibazik), (NH4) 2HPO4"},{"$f":"'E.BUZAĞI-TOSUN'!A18","v":"Kalsiyum Karbonat, CaCO3"},{"$f":"'E.BUZAĞI-TOSUN'!A19","v":"Süt"},{"$f":"'E.BUZAĞI-TOSUN'!A20","v":"Süt İkamesi, 18 HP, 20 YAĞ"},{"$f":"AV9","v":"Çayır-Baklagil Kuru Otu, Olgun> %53 NDF"},"Yağ, Ca Sabunları","Buğday, Ezme","Buzağı Başlangıç Yemi","Buzağı Büyütme Yemi","Sığır Besi Yemi","Mısır Silajı, %33-40 KM","Çayır Merası, Soğuk Mevsim, Bakımlı","Soya Küspesi, Ekspeller, %45 HP","Çayır Kuru Otu, Soğuk Mevsim","Buğday Samanı","Çayır Merası, Soğuk Mevsim, Bakımlı","Melas, Şeker Pancarı","Arpa , Ezme","Amonyum Fosfat (Dibazik), (NH4) 2HPO4","Kalsiyum Karbonat, CaCO3","Süt","Süt İkamesi, 18 HP, 20 YAĞ",{"$f":"AV9","v":"Çayır-Baklagil Kuru Otu, Olgun> %53 NDF"},"Yağ, Ca Sabunları","Buğday, Ezme","Buzağı Başlangıç Yemi","Buzağı Büyütme Yemi","Sığır Besi Yemi","Mısır Silajı, %33-40 KM","Çayır Merası, Soğuk Mevsim, Bakımlı","Soya Küspesi, Ekspeller, %45 HP","Çayır Kuru Otu, Soğuk Mevsim","Buğday Samanı","Çayır Merası, Soğuk Mevsim, Bakımlı","Melas, Şeker Pancarı","Arpa , Ezme","Amonyum Fosfat (Dibazik), (NH4) 2HPO4","Kalsiyum Karbonat, CaCO3","Süt","Süt İkamesi, 18 HP, 20 YAĞ",null,null,null,null,null,null,null,null,null,null,null,null,null,null,null,null,null,null,{"$f":"SUM(DP3:DP6,DP10:DP13,DP15:DP18)","v":1597415.499005323},null,null,null,null,{"$f":"SUM(DT3:DT6,DT10:DT13,DT15:DT18)","v":0},null,null,null,{"$f":"DX3+DX4+DX5+DX6+DX10+DX11+DX12+DX13+DX15+DX16+DX17+DX18","v":0},null,{"$f":"EA3","v":0},null,null,null,null,null,null,null,null,null,{"$f":"SUM(EH3:EJ6,EH10:EJ13,EH15:EJ18)","v":0},null,null,null,null,null,null,null,null,null,null,null,null,null,null,{"$f":"ES3+ET3+EU3+EV3+EW3+EX3+EY3","v":0},null,null,null,null,null,null,null,null,null,null,null,{"$f":"FK3+FK4+FK5+FK6+FK10+FK11+FK12+FK13+FK15+FK16+FK17+FK18","v":0},null,null,{"$f":"FN3+FN4+FN5+FN6+FN10+FN11+FN12+FN13+FN15+FN16+FN17+FN18","v":0},null,{"$f":"FP3+FP4+FP5+FP6+FP10+FP11+FP12+FP13+FP15+FP16+FP17+FP18","v":0},null,{"$f":"FR3+FR4+FR5+FR6+FR10+FR11+FR12+FR13+FR15+FR16+FR17+FR18","v":0},null,{"$f":"FT3+FT4+FT5+FT6+FT10+FT11+FT12+FT13+FT15+FT16+FT17+FT18","v":0},null,null,{"$f":"SUM(FW3,FV10:FV13,FV15:FV18)","v":9877822.9847175814},{"$f":"FX9/X9","v":407.42325172630717},null,null,null,null,null,null,null,{"$f":"SUM(GF3:GF6,GF10:GF13,GF15:GF18)","v":755562.87793497345},{"$f":"GG9/X9","v":31.164142654532},{"$f":"AU9","v":2157790.996672641},null,{"$f":"SUM(GJ3:GJ6,GJ10:GJ13,GJ15:GJ18)","v":2157790.996672641},null,{"$f":"SUM(GL3:GL6,GL10:GL13,GL15:GL18)","v":1597415.499005323},null,{"$f":"SUM(GN3:GN6,GN10:GN13,GN15:GN18)","v":560375.49766731763},null,null,null,null,{"$f":"SUM(GT3:GT6,GT10:GT13,GT15:GT18)","v":898496.9001792185},{"$f":"SUM(GU3:GU6,GU10:GU13,GU15:GU18)","v":974537.26597921841},{"$f":"SUM(GV3:GV6,GV10:GV13,GV15:GV18)","v":1918339.2954140743},{"$f":"SUM(GW3:GW6,GW10:GW13,GW15:GW18)","v":3670351.0672640619},{"$f":"SUM(GX3:GX6,GX10:GX13,GX15:GX18)","v":-1752011.7718499871},{"$f":"GV9-GW9-GX9","v":0}]
[null,"Erkek Buzağı",{"$f":"'E.BUZAĞI-TOSUN'!O21","v":89},null,{"$f":"'E.BUZAĞI-TOSUN'!L4","v":750},{"$f":"G10","v":60},{"$f":"'E.BUZAĞI-TOSUN'!L5","v":60},{"$f":"'E.BUZAĞI-TOSUN'!L2","v":40},{"$f":"M10","v":0},null,null,null,{"$f":"'E.BUZAĞI-TOSUN'!L6","v":0},{"$f":"POWER(C10,3/4)/POWER(500,3/4)*H10","v":10.961626322449431},{"$f":"(N13+N12+N11+N10)/4","v":25.458821443585688},null,{"$f":"'E.BUZAĞI-TOSUN'!L7/100","v":0.5},{"$f":"Q10*C10","v":44.5},{"$f":"I10*R10","v":0},{"$f":"S10*'E.BUZAĞI-TOSUN'!L8/100","v":0},{"$f":"T10*'E.BUZAĞI-TOSUN'!L9/100","v":0},{"$f":"U10+U11+U12+U13","v":1704.7520000000004},null,null,null,null,null,null,null,null,null,null,null,{"$f":"GENELVERİ!B6","v":"40"},{"$f":"AH10*R10","v":1780},{"$f":"AI10*I10","v":0},null,null,null,null,null,{"$f":"FZ10/0.3","v":4.1582445892072082},{"$f":"AP10*H10*G10","v":9979.7870140972991},{"$f":"AN3*AQ10","v":99.797870140972989},{"$f":"AR10","v":99.797870140972989},{"$f":"AM10+AJ10+AS10","v":99.797870140972989},null,{"$f":"'E.BUZAĞI-TOSUN'!B3","v":1},{"$f":"'E.BUZAĞI-TOSUN'!B4","v":15},{"$f":"'E.BUZAĞI-TOSUN'!B5","v":1.5},{"$f":"'E.BUZAĞI-TOSUN'!B6","v":2.5},{"$f":"'E.BUZAĞI-TOSUN'!B7","v":3},{"$f":"'E.BUZAĞI-TOSUN'!B8","v":2},{"$f":"'E.BUZAĞI-TOSUN'!B9","v":0.6},{"$f":"'E.BUZAĞI-TOSUN'!B10","v":0.01},{"$f":"'E.BUZAĞI-TOSUN'!B11","v":5},{"$f":"'E.BUZAĞI-TOSUN'!B12","v":1},{"$f":"'E.BUZAĞI-TOSUN'!B13","v":0.6},{"$f":"'E.BUZAĞI-TOSUN'!B14","v":0.01},{"$f":"'E.BUZAĞI-TOSUN'!B15","v":3},{"$f":"'E.BUZAĞI-TOSUN'!B16","v":1.5},{"$f":"'E.BUZAĞI-TOSUN'!B17","v":1},{"$f":"'E.BUZAĞI-TOSUN'!B18","v":1},{"$f":"'E.BUZAĞI-TOSUN'!B19","v":2},{"$f":"'E.BUZAĞI-TOSUN'!B20","v":1},{"$f":"'E.BUZAĞI-TOSUN'!C3","v":0},{"$f":"'E.BUZAĞI-TOSUN'!C4","v":0.31601671214772759},{"$f":"'E.BUZAĞI-TOSUN'!C5","v":0},{"$f":"'E.BUZAĞI-TOSUN'!C6","v":0},{"$f":"'E.BUZAĞI-TOSUN'!C7","v":0},{"$f":"'E.BUZAĞI-TOSUN'!C8","v":0},{"$f":"'E.BUZAĞI-TOSUN'!C9","v":0},{"$f":"'E.BUZAĞI-TOSUN'!C10","v":0},{"$f":"'E.BUZAĞI-TOSUN'!C11","v":0.44230943557287594},{"$f":"'E.BUZAĞI-TOSUN'!C12","v":0},{"$f":"'E.BUZAĞI-TOSUN'!C13","v":0},{"$f":"'E.BUZAĞI-TOSUN'!C14","v":0},{"$f":"'E.BUZAĞI-TOSUN'!C15","v":0},{"$f":"'E.BUZAĞI-TOSUN'!C16","v":0},{"$f":"'E.BUZAĞI-TOSUN'!C17","v":1.9581208119317853E-7},{"$f":"'E.BUZAĞI-TOSUN'!C18","v":0},{"$f":"'E.BUZAĞI-TOSUN'!C19","v":4.4000000000000004},{"$f":"'E.BUZAĞI-TOSUN'!C20","v":0},{"$f":"BN10*$H10*$G10","v":0},758.44010915454624,0,0,0,0,0,0,1061.5426453749021,0,{"$f":"BX10*$H10*$G10","v":0},0,0,0,4.6994899486362842E-4,0,10560,0,{"$f":"CF10*AV10","v":0},11376.601637318194,0,0,0,0,0,0,5307.7132268745108,0,{"$f":"CP10*BF10","v":0},0,0,0,4.6994899486362842E-4,0,21120,0,{"$f":"SUM(CX10:DO10)","v":37804.315334141698},{"$f":"'E.BUZAĞI-TOSUN'!L10","v":70},{"$f":"H10/DQ10","v":0.5714285714285714},{"$f":"GENELVERİ!$D$11/20*HESAP!DR10*HESAP!G10","v":0},{"$f":"DS10","v":0},null,{"$f":"GENELVERİ!N6","v":"1"},{"$f":"DV10*H10/100","v":0.4},{"$f":"DW10*GENELVERİ!$D$12","v":0},null,null,null,{"$f":"GENELVERİ!O6","v":"0"},{"$f":"GENELVERİ!P6","v":"1"},{"$f":"GENELVERİ!Q6","v":"1"},{"$f":"EB10*$H10/100","v":0},{"$f":"EC10*$H10/100","v":0.4},{"$f":"ED10*$H10/100","v":0.4},{"$f":"EE10*GENELVERİ!$D$16","v":0},{"$f":"EF10*GENELVERİ!$D$14","v":0},{"$f":"EG10*GENELVERİ!$D$15","v":0},null,null,null,null,null,null,null,null,null,null,null,null,null,null,null,null,{"$f":"GENELVERİ!C6","v":"0"},{"$f":"GENELVERİ!D6","v":"0"},{"$f":"GENELVERİ!E6","v":"0"},{"$f":"GENELVERİ!F6","v":"0"},{"$f":"GENELVERİ!G6","v":"0"},{"$f":"FA10+FB10","v":0},null,{"$f":"FC10+FD10+FE10","v":0},null,{"$f":"GENELVERİ!L6","v":"0,05"},{"$f":"FF10*FJ10","v":0},null,{"$f":"GENELVERİ!M6","v":"0,10"},{"$f":"FH10*FM10","v":0},null,{"$f":"GENELVERİ!H6","v":"0"},{"$f":"FP10","v":"0"},{"$f":"GENELVERİ!I6","v":"0"},null,{"$f":"GENELVERİ!J6","v":"0"},null,{"$f":"'E.BUZAĞI-TOSUN'!C25*4.183*H10*G10","v":62970.623271645447},null,null,null,{"$f":"'E.BUZAĞI-TOSUN'!C24","v":1.2474733767621624},{"$f":"'E.BUZAĞI-TOSUN'!C34","v":0},{"$f":"'E.BUZAĞI-TOSUN'!C35","v":0},{"$f":"'E.BUZAĞI-TOSUN'!C25","v":6.2724742281900401},{"$f":"5.58+0.848*FZ10*GB10/100","v":5.58},{"$f":"IF(GD10=5.58,0,IF(GD10>5.6,GD10))","v":0},{"$f":"SUM(GE10:GE10)*H10*G10","v":0},null,null,{"$f":"AT10","v":99.797870140972989},{"$f":"FP10+GI10","v":99.797870140972989},null,{"$f":"DP10+DT10+DX10+EA10+EH10+EI10+EJ10+ES10+ET10+EU10+EV10+EW10+EX10+EY10+FK10+FN10+FR10+FT10","v":37804.315334141698},null,{"$f":"GJ10-GL10","v":-37704.517464000724},null,{"$f":"(FZ10*G10)*H10","v":2993.9361042291898},null,{"$f":"I10*C10*0.3","v":0},{"$f":"AQ10*0.3","v":2993.9361042291898},{"$f":"GP10","v":2993.9361042291898},{"$f":"GQ10+GR10+GS10","v":2993.9361042291898},{"$f":"EO10+EM10*1000+CW10+CV10+CU10+CT10+CS10+CR10+CQ10+CP10+CO10+CN10+CM10+CL10+CK10+CJ10+CI10+CH10+CG10+CF10+C10*H10-C10*H10","v":12379.983224478443},{"$f":"AQ10+AD10+I10*C10","v":9979.7870140972991},{"$f":"GV10-GW10","v":2400.1962103811438}]
[null,"Tosun Başlangıç",{"$f":"'E.BUZAĞI-TOSUN'!O23","v":191},null,{"$f":"'E.BUZAĞI-TOSUN'!M4","v":850},{"$f":"G11","v":120},{"$f":"'E.BUZAĞI-TOSUN'!M5","v":120},{"$f":"'E.BUZAĞI-TOSUN'!M2","v":40},0,null,null,null,{"$f":"'E.BUZAĞI-TOSUN'!M6","v":0},{"$f":"POWER(C11,3/4)/POWER(500,3/4)*H11","v":19.436027886571392},null,null,{"$f":"'E.BUZAĞI-TOSUN'!M7/100","v":0.55000000000000004},{"$f":"Q11*C11","v":105.05000000000001},{"$f":"M11*R11","v":0},{"$f":"S11*'E.BUZAĞI-TOSUN'!M8/100","v":0},{"$f":"T11*'E.BUZAĞI-TOSUN'!M9/100","v":0},null,null,null,null,null,null,null,null,null,null,null,null,{"$f":"GENELVERİ!B8","v":"35"},{"$f":"AH11*R11","v":3676.7500000000005},{"$f":"AI11*I11","v":0},null,null,null,null,null,{"$f":"FZ11/0.3","v":14.855674002391916},{"$f":"AP11*H11*G11","v":71307.235211481195},{"$f":"AN3*AQ11","v":713.07235211481191},{"$f":"AR11","v":713.07235211481191},{"$f":"AM11+AJ11+AS11","v":713.07235211481191},null,{"$f":"AV10","v":1},{"$f":"AW10","v":15},1.5,2.5,3,2,0.6,0.01,5,1,0.6,0.01,3,1.5,1,1,2,1,{"$f":"'E.BUZAĞI-TOSUN'!D3","v":0},{"$f":"'E.BUZAĞI-TOSUN'!D4","v":0.77281061635428572},{"$f":"'E.BUZAĞI-TOSUN'!D5","v":1.6027105856240389},{"$f":"'E.BUZAĞI-TOSUN'!D6","v":0},{"$f":"'E.BUZAĞI-TOSUN'!D7","v":0},{"$f":"'E.BUZAĞI-TOSUN'!D8","v":0},{"$f":"'E.BUZAĞI-TOSUN'!D9","v":4.3072338976905327},{"$f":"'E.BUZAĞI-TOSUN'!D10","v":0},{"$f":"'E.BUZAĞI-TOSUN'!D11","v":0.70904342455895142},{"$f":"'E.BUZAĞI-TOSUN'!D12","v":0},{"$f":"'E.BUZAĞI-TOSUN'!D13","v":0},{"$f":"'E.BUZAĞI-TOSUN'!D14","v":0},{"$f":"'E.BUZAĞI-TOSUN'!D15","v":0},{"$f":"'E.BUZAĞI-TOSUN'!D16","v":0},{"$f":"'E.BUZAĞI-TOSUN'!D17","v":6.8988244002715415E-2},{"$f":"'E.BUZAĞI-TOSUN'!D18","v":5.4031233696375039E-2},{"$f":"'E.BUZAĞI-TOSUN'!D19","v":0},{"$f":"'E.BUZAĞI-TOSUN'!D20","v":0},0,3709.4909585005712,7693.0108109953871,0,0,0,20674.722708914556,0,3403.4084378829666,0,0,0,0,0,331.14357121303397,259.34992174260015,0,0,0,55642.364377508566,11539.516216493081,0,0,0,12404.833625348734,0,17017.042189414831,0,0,0,0,0,331.14357121303397,259.34992174260015,0,0,97194.249901720847,{"$f":"'E.BUZAĞI-TOSUN'!M10","v":70},{"$f":"H11/DQ11","v":0.5714285714285714},{"$f":"GENELVERİ!$D$11/20*HESAP!DR11*HESAP!G11","v":0},{"$f":"DS11","v":0},null,{"$f":"GENELVERİ!N8","v":"0"},{"$f":"DV11*H11/100","v":0},{"$f":"DW11*GENELVERİ!$D$12","v":0},null,null,null,{"$f":"GENELVERİ!O8","v":"0"},{"$f":"GENELVERİ!P8","v":"0"},{"$f":"GENELVERİ!Q8","v":"0"},0,0,0,{"$f":"EE11*GENELVERİ!$D$16","v":0},{"$f":"EF11*GENELVERİ!$D$14","v":0},{"$f":"EG11*GENELVERİ!$D$15","v":0},null,null,null,null,null,null,null,null,null,null,null,null,null,null,null,null,{"$f":"GENELVERİ!C8","v":"0"},{"$f":"GENELVERİ!D8","v":"0"},{"$f":"GENELVERİ!E8","v":"0"},{"$f":"GENELVERİ!F8","v":"0"},{"$f":"GENELVERİ!G8","v":"0"},{"$f":"FA11+FB11","v":0},null,{"$f":"FC11+FD11+FE11","v":0},null,{"$f":"GENELVERİ!L8","v":"0,05"},0,null,{"$f":"GENELVERİ!M8","v":"0,10"},{"$f":"FH11*FM11","v":0},null,{"$f":"GENELVERİ!H8","v":"0"},{"$f":"FP11","v":"0"},{"$f":"GENELVERİ!I8","v":"0"},null,{"$f":"GENELVERİ!J8","v":"0"},null,{"$f":"'E.BUZAĞI-TOSUN'!F25*4.183*H11*G11","v":290273.16233390098},null,null,null,{"$f":"'E.BUZAĞI-TOSUN'!F24","v":4.4567022007175749},{"$f":"'E.BUZAĞI-TOSUN'!F34","v":19.00000083921336},{"$f":"'E.BUZAĞI-TOSUN'!F35","v":34.480653186056841},{"$f":"'E.BUZAĞI-TOSUN'!F25","v":14.456986728718471},{"$f":"5.58+0.848*FZ11*GB11/100","v":6.8831216249013423},{"$f":"IF(GD11=5.58,0,IF(GD11>5.6,GD11))","v":6.8831216249013423},{"$f":"SUM(GE11:GE11)*H11*G11","v":33038.983799526446},null,null,{"$f":"AT11","v":713.07235211481191},{"$f":"FP11+GI11","v":713.07235211481191},null,{"$f":"DP11+DT11+DX11+EA11+EH11+EI11+EJ11+ES11+ET11+EU11+EV11+EW11+EX11+EY11+FK11+FN11+FR11+FT11","v":97194.249901720847},null,{"$f":"GJ11-GL11","v":-96481.177549606029},null,{"$f":"(FZ11*G11)*H11","v":21392.170563444361},null,{"$f":"I11*C13*0.3","v":0},{"$f":"AQ11*0.3","v":21392.170563444357},{"$f":"GP11","v":21392.170563444361},{"$f":"GQ11+GR11+GS11","v":21392.170563444357},{"$f":"EO11+EM11*1000+CW11+CV11+CU11+CT11+CS11+CR11+CQ11+CP11+CO11+CN11+CM11+CL11+CK11+CJ11+CI11+CH11+CG11+CF11+C11*H11-C11*H11","v":36071.126409249118},{"$f":"AQ11+AD11+I11*C11","v":71307.235211481195},{"$f":"GV11-GW11","v":-35236.108802232076}]
[null,"Tosun Besleme Ortası",{"$f":"'E.BUZAĞI-TOSUN'!O25","v":371},null,{"$f":"'E.BUZAĞI-TOSUN'!N4","v":1000},{"$f":"G12","v":180},{"$f":"'E.BUZAĞI-TOSUN'!N5","v":180},{"$f":"'E.BUZAĞI-TOSUN'!N2","v":40},0,null,null,null,{"$f":"'E.BUZAĞI-TOSUN'!N6","v":0},{"$f":"POWER(C12,3/4)/POWER(500,3/4)*H12","v":31.978855771179443},null,null,{"$f":"'E.BUZAĞI-TOSUN'!N7/100","v":0.6},{"$f":"Q12*C12","v":222.6},{"$f":"M12*R12","v":0},{"$f":"S12*'E.BUZAĞI-TOSUN'!M9/100","v":0},{"$f":"T12*'E.BUZAĞI-TOSUN'!N91/100","v":0},null,null,null,null,null,null,null,null,null,null,null,null,{"$f":"GENELVERİ!B8","v":"35"},{"$f":"AH12*R12","v":7791},{"$f":"AI12*I12","v":0},null,null,null,null,null,{"$f":"FZ12/0.3","v":24.552546301607421},{"$f":"AP12*H12*G12","v":176778.33337157342},{"$f":"AN3*AQ12","v":1767.7833337157342},{"$f":"AR12","v":1767.7833337157342},{"$f":"AM12+AJ12+AS12","v":1767.7833337157342},null,{"$f":"AV11","v":1},15,1.5,2.5,3,2,0.6,0.01,5,1,0.6,0.01,3,1.5,1,1,2,1,{"$f":"'E.BUZAĞI-TOSUN'!E3","v":0},{"$f":"'E.BUZAĞI-TOSUN'!E4","v":0},{"$f":"'E.BUZAĞI-TOSUN'!E5","v":0},{"$f":"'E.BUZAĞI-TOSUN'!E6","v":0},{"$f":"'E.BUZAĞI-TOSUN'!E7","v":0},{"$f":"'E.BUZAĞI-TOSUN'!E8","v":0},{"$f":"'E.BUZAĞI-TOSUN'!E9","v":0},{"$f":"'E.BUZAĞI-TOSUN'!E10","v":25},{"$f":"'E.BUZAĞI-TOSUN'!E11","v":0},{"$f":"'E.BUZAĞI-TOSUN'!E12","v":0},{"$f":"'E.BUZAĞI-TOSUN'!E13","v":0},{"$f":"'E.BUZAĞI-TOSUN'!E14","v":0},{"$f":"'E.BUZAĞI-TOSUN'!E15","v":0},{"$f":"'E.BUZAĞI-TOSUN'!E16","v":2.5},{"$f":"'E.BUZAĞI-TOSUN'!E17","v":2.2645082662199542E-2},{"$f":"'E.BUZAĞI-TOSUN'!E18","v":4.3118807820025737E-2},{"$f":"'E.BUZAĞI-TOSUN'!E19","v":0},{"$f":"'E.BUZAĞI-TOSUN'!E20","v":0},0,0,0,0,0,0,0,180000,0,0,0,0,0,18000,163.04459516783669,310.45541630418535,0,0,0,0,0,0,0,0,0,1800,0,0,0,0,0,27000,163.04459516783669,310.45541630418535,0,0,29273.500011472024,{"$f":"'E.BUZAĞI-TOSUN'!N10","v":70},{"$f":"H12/DQ12","v":0.5714285714285714},{"$f":"GENELVERİ!$D$11/20*HESAP!DR12*HESAP!G12","v":0},{"$f":"DS12","v":0},null,{"$f":"GENELVERİ!N8","v":"0"},{"$f":"DV12*H12/100","v":0},{"$f":"DW12*GENELVERİ!$D$12","v":0},null,null,null,{"$f":"GENELVERİ!O8","v":"0"},{"$f":"GENELVERİ!P8","v":"0"},{"$f":"GENELVERİ!Q8","v":"0"},0,0,0,{"$f":"EE12*GENELVERİ!$D$16","v":0},{"$f":"EF12*GENELVERİ!$D$14","v":0},{"$f":"EG12*GENELVERİ!$D$15","v":0},null,null,null,null,null,null,null,null,null,null,null,null,null,null,null,null,{"$f":"GENELVERİ!C8","v":"0"},{"$f":"GENELVERİ!D8","v":"0"},{"$f":"GENELVERİ!E8","v":"0"},{"$f":"GENELVERİ!F8","v":"0"},{"$f":"GENELVERİ!G8","v":"0"},{"$f":"FA12+FB12","v":0},null,{"$f":"FC12+FD12+FE12","v":0},null,{"$f":"GENELVERİ!L8","v":"0,05"},0,null,{"$f":"GENELVERİ!M8","v":"0,10"},{"$f":"FH12*FM12","v":0},null,{"$f":"GENELVERİ!H8","v":"0"},{"$f":"FP12","v":"0"},{"$f":"GENELVERİ!I8","v":"0"},null,{"$f":"GENELVERİ!J8","v":"0"},null,{"$f":"'E.BUZAĞI-TOSUN'!I25*4.183*H12*G12","v":572369.92920000001},null,null,null,{"$f":"'E.BUZAĞI-TOSUN'!I24","v":7.365763890482226},{"$f":"'E.BUZAĞI-TOSUN'!I34","v":23.326035968180758},{"$f":"'E.BUZAĞI-TOSUN'!I35","v":43.423429321792177},{"$f":"'E.BUZAĞI-TOSUN'!I25","v":19.0045},{"$f":"5.58+0.848*FZ12*GB12/100","v":8.2923002508906052},{"$f":"IF(GD12=5.58,0,IF(GD12>5.6,GD12))","v":8.2923002508906052},{"$f":"SUM(GE12:GE12)*H12*G12","v":59704.561806412356},null,null,{"$f":"AT12","v":1767.7833337157342},{"$f":"FP12+GI12","v":1767.7833337157342},null,{"$f":"DP12+DT12+DX12+EA12+EH12+EI12+EJ12+ES12+ET12+EU12+EV12+EW12+EX12+EY12+FK12+FN12+FR12+FT12","v":29273.500011472024},null,{"$f":"GJ12-GL12","v":-27505.716677756289},null,{"$f":"(FZ12*G12)*H12","v":53033.500011472024},null,null,{"$f":"AQ12*0.3","v":53033.500011472024},{"$f":"GP12","v":53033.500011472024},{"$f":"GQ12+GR12+GS12","v":53033.500011472024},{"$f":"EO12+EM12*1000+CW12+CV12+CU12+CT12+CS12+CR12+CQ12+CP12+CO12+CN12+CM12+CL12+CK12+CJ12+CI12+CH12+CG12+CF12+C12*H12-C12*H12","v":198473.50001147203},{"$f":"AQ12+AD12+I12*C12","v":176778.33337157342},{"$f":"GV12-GW12","v":21695.166639898613}]
[null,"Tosun Bitiş",{"$f":"'E.BUZAĞI-TOSUN'!O27","v":491},null,{"$f":"'E.BUZAĞI-TOSUN'!O4","v":1200},{"$f":"G13","v":100},{"$f":"'E.BUZAĞI-TOSUN'!O5","v":100},{"$f":"'E.BUZAĞI-TOSUN'!O2","v":40},40,null,null,null,{"$f":"'E.BUZAĞI-TOSUN'!O6","v":40},{"$f":"POWER(C13,3/4)/POWER(500,3/4)*H13","v":39.458775794142475},null,null,{"$f":"'E.BUZAĞI-TOSUN'!O7/100","v":0.62},{"$f":"Q13*C13","v":304.42},{"$f":"M13*R13","v":12176.800000000001},{"$f":"S13*'E.BUZAĞI-TOSUN'!M10/100","v":8523.760000000002},{"$f":"T13*'E.BUZAĞI-TOSUN'!O9/100","v":1704.7520000000004},null,null,null,null,null,null,null,null,null,null,null,null,{"$f":"GENELVERİ!B8","v":"35"},{"$f":"AH13*R13","v":10654.7},{"$f":"AI13*I13","v":426188},null,null,null,null,null,{"$f":"FZ13/0.3","v":31.220405948701345},{"$f":"AP13*H13*G13","v":124881.62379480539},{"$f":"AN3*AQ13","v":1248.8162379480539},{"$f":"AR13","v":1248.8162379480539},{"$f":"AM13+AJ13+AS13","v":427436.81623794808},null,{"$f":"AV12","v":1},15,1.5,2.5,3,2,0.6,0.01,5,1,0.6,0.01,3,1.5,1,1,2,1,{"$f":"'E.BUZAĞI-TOSUN'!F3","v":0},{"$f":"'E.BUZAĞI-TOSUN'!F4","v":0.92245948060402227},{"$f":"'E.BUZAĞI-TOSUN'!F5","v":2},{"$f":"'E.BUZAĞI-TOSUN'!F6","v":0},{"$f":"'E.BUZAĞI-TOSUN'!F7","v":0},{"$f":"'E.BUZAĞI-TOSUN'!F8","v":0},{"$f":"'E.BUZAĞI-TOSUN'!F9","v":8.6242642450684421},{"$f":"'E.BUZAĞI-TOSUN'!F10","v":0},{"$f":"'E.BUZAĞI-TOSUN'!F11","v":0.40306627847975379},{"$f":"'E.BUZAĞI-TOSUN'!F12","v":0},{"$f":"'E.BUZAĞI-TOSUN'!F13","v":0},{"$f":"'E.BUZAĞI-TOSUN'!F14","v":0},{"$f":"'E.BUZAĞI-TOSUN'!F15","v":0},{"$f":"'E.BUZAĞI-TOSUN'!F16","v":3.5154688067393027},{"$f":"'E.BUZAĞI-TOSUN'!F17","v":2.0224814716820052E-2},{"$f":"'E.BUZAĞI-TOSUN'!F18","v":5.6955278228026519E-2},{"$f":"'E.BUZAĞI-TOSUN'!F19","v":0},{"$f":"'E.BUZAĞI-TOSUN'!F20","v":0},0,3689.837922416089,8000,0,0,0,34497.056980273774,0,1612.265113919015,0,0,0,0,14061.875226957211,80.89925886728021,227.82111291210606,0,0,0,55347.568836241335,12000,0,0,0,20698.234188164264,0,8061.3255695950747,0,0,0,0,21092.812840435814,80.89925886728021,227.82111291210606,0,0,117508.66180621588,{"$f":"'E.BUZAĞI-TOSUN'!O10","v":70},{"$f":"H13/DQ13","v":0.5714285714285714},{"$f":"GENELVERİ!$D$11/20*HESAP!DR13*HESAP!G13","v":0},{"$f":"DS13","v":0},null,{"$f":"GENELVERİ!N8","v":"0"},{"$f":"DV13*H13/100","v":0},{"$f":"DW13*GENELVERİ!$D$12","v":0},null,null,null,{"$f":"GENELVERİ!O8","v":"0"},{"$f":"GENELVERİ!P8","v":"0"},{"$f":"GENELVERİ!Q8","v":"0"},0,0,0,{"$f":"EE13*GENELVERİ!$D$16","v":0},{"$f":"EF13*GENELVERİ!$D$14","v":0},{"$f":"EG13*GENELVERİ!$D$15","v":0},null,null,null,null,null,null,null,null,null,null,null,null,null,null,null,null,{"$f":"GENELVERİ!C8","v":"0"},{"$f":"GENELVERİ!D8","v":"0"},{"$f":"GENELVERİ!E8","v":"0"},{"$f":"GENELVERİ!F8","v":"0"},{"$f":"GENELVERİ!G8","v":"0"},{"$f":"FA13+FB13","v":0},null,{"$f":"FC13+FD13+FE13","v":0},null,{"$f":"GENELVERİ!L8","v":"0,05"},0,null,{"$f":"GENELVERİ!M8","v":"0,10"},{"$f":"FH13*FM13","v":0},null,{"$f":"GENELVERİ!H8","v":"0"},{"$f":"FP13","v":"0"},{"$f":"GENELVERİ!I8","v":"0"},null,{"$f":"GENELVERİ!J8","v":"0"},null,{"$f":"'E.BUZAĞI-TOSUN'!L25*4.183*H13*G13","v":467072.15971066226},null,null,null,{"$f":"'E.BUZAĞI-TOSUN'!L24","v":9.366121784610403},{"$f":"'E.BUZAĞI-TOSUN'!L34","v":19.000000002230731},{"$f":"'E.BUZAĞI-TOSUN'!L35","v":35.623773584961469},{"$f":"'E.BUZAĞI-TOSUN'!L25","v":27.914903162243739},{"$f":"5.58+0.848*FZ13*GB13/100","v":8.4094079834686752},{"$f":"IF(GD13=5.58,0,IF(GD13>5.6,GD13))","v":8.4094079834686752},{"$f":"SUM(GE13:GE13)*H13*G13","v":33637.631933874698},null,null,{"$f":"AT13","v":427436.81623794808},{"$f":"FP13+GI13","v":427436.81623794808},null,{"$f":"DP13+DT13+DX13+EA13+EH13+EI13+EJ13+ES13+ET13+EU13+EV13+EW13+EX13+EY13+FK13+FN13+FR13+FT13","v":117508.66180621588},null,{"$f":"GJ13-GL13","v":309928.1544317322},null,{"$f":"(FZ13*G13)*H13","v":37464.487138441611},null,null,{"$f":"AQ13*0.3","v":37464.487138441618},{"$f":"GP13","v":37464.487138441611},{"$f":"GQ13+GR13+GS13","v":37464.487138441618},{"$f":"EO13+EM13*1000+CW13+CV13+CU13+CT13+CS13+CR13+CQ13+CP13+CO13+CN13+CM13+CL13+CK13+CJ13+CI13+CH13+CG13+CF13+C13*H13-C13*H13","v":62169.755615345464},{"$f":"AQ13+AD13+I13*C13","v":144521.62379480537},{"$f":"GV13-GW13","v":-82351.868179459911}]
[null,null,null,null,null,null,null,null,null,null,null,null,null,null,null,null,null,null,null,null,null,null,null,null,null,null,null,null,null,null,null,null,null,null,null,null,null,null,null,null,null,null,null,null,null,null,null,{"$f":"'D.BUZAĞI-DÜVE'!A3","v":"Çayır-Baklagil Kuru Otu, Orta Olgun, %47-53 NDF"},{"$f":"'D.BUZAĞI-DÜVE'!A4","v":"Arpa , Ezme"},{"$f":"'D.BUZAĞI-DÜVE'!A5","v":"Yonca Kuru Otu, 2. Kalite  %19-21 HP, <%37-40 NDF"},{"$f":"'D.BUZAĞI-DÜVE'!A6","v":"Buzağı Başlangıç Yemi"},{"$f":"'D.BUZAĞI-DÜVE'!A7","v":"Buzağı Büyütme Yemi"},{"$f":"'D.BUZAĞI-DÜVE'!A8","v":"Düve Yemi 1. Sınıf (TS11110)"},{"$f":"'D.BUZAĞI-DÜVE'!A9","v":"Düve Yemi 2. Sınıf (TS11110)"},{"$f":"'D.BUZAĞI-DÜVE'!A10","v":"Yonca Kuru Otu, 1. Kalite >%21 HP,     <%37 NDF"},{"$f":"'D.BUZAĞI-DÜVE'!A11","v":"Çayır Merası, Soğuk Mevsim, Bakımlı"},{"$f":"'D.BUZAĞI-DÜVE'!A12","v":"Çayır Kuru Otu, Soğuk Mevsim"},{"$f":"'D.BUZAĞI-DÜVE'!A13","v":"Yağ, Bitkisel"},{"$f":"'D.BUZAĞI-DÜVE'!A14","v":"Mısır Silajı, %29-33 KM"},{"$f":"'D.BUZAĞI-DÜVE'!A15","v":"Buğday Samanı"},{"$f":"'D.BUZAĞI-DÜVE'!A16","v":"Soya Küspesi , Solvent, %51"},{"$f":"'D.BUZAĞI-DÜVE'!A17","v":"Amonyum Fosfat (Dibazik), (NH4) 2HPO4"},{"$f":"'D.BUZAĞI-DÜVE'!A18","v":"Kalsiyum Karbonat, CaCO3"},{"$f":"'D.BUZAĞI-DÜVE'!A19","v":"Süt"},{"$f":"'D.BUZAĞI-DÜVE'!A20","v":"Süt İkamesi, 18 HP, 20 YAĞ"},{"$f":"AV14","v":"Çayır-Baklagil Kuru Otu, Orta Olgun, %47-53 NDF"},"Arpa , Ezme","Yonca Kuru Otu, 2. Kalite  %19-21 HP, <%37-40 NDF","Buzağı Başlangıç Yemi","Buzağı Büyütme Yemi","Düve Yemi 1. Sınıf (TS11110)","Düve Yemi 2. Sınıf (TS11110)","Yonca Kuru Otu, 1. Kalite >%21 HP,     <%37 NDF","Çayır Merası, Soğuk Mevsim, Bakımlı","Çayır Kuru Otu, Soğuk Mevsim","Yağ, Bitkisel","Mısır Silajı, %29-33 KM","Buğday Samanı","Soya Küspesi , Solvent, %51","Amonyum Fosfat (Dibazik), (NH4) 2HPO4","Kalsiyum Karbonat, CaCO3","Süt","Süt İkamesi, 18 HP, 20 YAĞ",{"$f":"AV14","v":"Çayır-Baklagil Kuru Otu, Orta Olgun, %47-53 NDF"},"Arpa , Ezme","Yonca Kuru Otu, 2. Kalite  %19-21 HP, <%37-40 NDF","Buzağı Başlangıç Yemi","Buzağı Büyütme Yemi","Düve Yemi 1. Sınıf (TS11110)","Düve Yemi 2. Sınıf (TS11110)","Yonca Kuru Otu, 1. Kalite >%21 HP,     <%37 NDF","Çayır Merası, Soğuk Mevsim, Bakımlı","Çayır Kuru Otu, Soğuk Mevsim","Yağ, Bitkisel","Mısır Silajı, %29-33 KM","Buğday Samanı","Soya Küspesi , Solvent, %51","Amonyum Fosfat (Dibazik), (NH4) 2HPO4","Kalsiyum Karbonat, CaCO3","Süt","Süt İkamesi, 18 HP, 20 YAĞ"]
[null,"Dişi Buzağı",{"$f":"'D.BUZAĞI-DÜVE'!O21","v":78},null,{"$f":"'D.BUZAĞI-DÜVE'!L4","v":700},{"$f":"G15","v":60},{"$f":"'D.BUZAĞI-DÜVE'!L5","v":60},{"$f":"'D.BUZAĞI-DÜVE'!L2","v":44},0,null,null,null,{"$f":"'D.BUZAĞI-DÜVE'!L6","v":0},{"$f":"POWER(C15,3/4)/POWER(500,3/4)*H15","v":10.921847927377714},{"$f":"(N18+N17+N16+N15)/4","v":34.467502122523861},null,{"$f":"'D.BUZAĞI-DÜVE'!L7/100","v":0.5},{"$f":"Q15*C15","v":39},{"$f":"M15*R15","v":0},{"$f":"S15*'D.BUZAĞI-DÜVE'!L8/100","v":0},{"$f":"T15*'D.BUZAĞI-DÜVE'!L9/100","v":0},{"$f":"U15+U16+U17+U18","v":37.030620000000006},null,null,null,null,null,null,null,null,null,null,null,{"$f":"GENELVERİ!B7","v":"40"},{"$f":"AH15*R15","v":1560},{"$f":"AI15*I15","v":0},null,null,null,null,null,{"$f":"FZ15/0.3","v":3.6231301807274128},{"$f":"AP15*H15*G15","v":9565.0636771203699},{"$f":"AN3*AQ15","v":95.650636771203708},{"$f":"AR15","v":95.650636771203708},{"$f":"AM15+AJ15+AS15","v":95.650636771203708},null,{"$f":"'D.BUZAĞI-DÜVE'!B3","v":1},{"$f":"'D.BUZAĞI-DÜVE'!B4","v":1.5},{"$f":"'D.BUZAĞI-DÜVE'!B5","v":1},{"$f":"'D.BUZAĞI-DÜVE'!B6","v":2.8},{"$f":"'D.BUZAĞI-DÜVE'!B7","v":2.5},{"$f":"'D.BUZAĞI-DÜVE'!B8","v":2},{"$f":"'D.BUZAĞI-DÜVE'!B9","v":2},{"$f":"'D.BUZAĞI-DÜVE'!B10","v":1},{"$f":"'D.BUZAĞI-DÜVE'!B11","v":0.01},{"$f":"'D.BUZAĞI-DÜVE'!B12","v":1},{"$f":"'D.BUZAĞI-DÜVE'!B13","v":15},{"$f":"'D.BUZAĞI-DÜVE'!B14","v":0.5},{"$f":"'D.BUZAĞI-DÜVE'!B15","v":0.6},{"$f":"'D.BUZAĞI-DÜVE'!B16","v":5},{"$f":"'D.BUZAĞI-DÜVE'!B17","v":1},{"$f":"'D.BUZAĞI-DÜVE'!B18","v":1},{"$f":"'D.BUZAĞI-DÜVE'!B19","v":2},{"$f":"'D.BUZAĞI-DÜVE'!B20","v":1},{"$f":"'D.BUZAĞI-DÜVE'!C3","v":0},{"$f":"'D.BUZAĞI-DÜVE'!C4","v":0},{"$f":"'D.BUZAĞI-DÜVE'!C5","v":0},{"$f":"'D.BUZAĞI-DÜVE'!C6","v":0},{"$f":"'D.BUZAĞI-DÜVE'!C7","v":0},{"$f":"'D.BUZAĞI-DÜVE'!C8","v":5.3342007385804878E-2},{"$f":"'D.BUZAĞI-DÜVE'!C9","v":0},{"$f":"'D.BUZAĞI-DÜVE'!C10","v":0},{"$f":"'D.BUZAĞI-DÜVE'!C11","v":0},{"$f":"'D.BUZAĞI-DÜVE'!C12","v":0},{"$f":"'D.BUZAĞI-DÜVE'!C13","v":0.30811824416253109},{"$f":"'D.BUZAĞI-DÜVE'!C14","v":0},{"$f":"'D.BUZAĞI-DÜVE'!C15","v":0},{"$f":"'D.BUZAĞI-DÜVE'!C16","v":0.41485260499993343},{"$f":"'D.BUZAĞI-DÜVE'!C17","v":0},{"$f":"'D.BUZAĞI-DÜVE'!C18","v":0},{"$f":"'D.BUZAĞI-DÜVE'!C19","v":2.88},{"$f":"'D.BUZAĞI-DÜVE'!C20","v":0},{"$f":"BN15*$H15*$G15","v":0},0,0,0,0,140.82289949852486,0,0,0,0,{"$f":"BX15*$H15*$G15","v":813.43216458908205},0,0,1095.2108771998242,0,0,7603.2,0,{"$f":"CF15*AV15","v":0},0,0,0,0,281.64579899704972,0,0,0,0,{"$f":"CP15*BF15","v":12201.482468836231},0,0,5476.0543859991212,0,0,15206.4,0,33165.582653832404,{"$f":"'D.BUZAĞI-DÜVE'!L10","v":70},{"$f":"H15/DQ15","v":0.62857142857142856},{"$f":"GENELVERİ!$D$11/20*HESAP!DR15*HESAP!G15","v":0},{"$f":"DS15","v":0},null,{"$f":"GENELVERİ!N7","v":"1"},{"$f":"DV15*H15/100","v":0.44},{"$f":"DW15*GENELVERİ!$D$12","v":0},null,null,null,{"$f":"GENELVERİ!O7","v":"0"},{"$f":"GENELVERİ!P7","v":"1"},{"$f":"GENELVERİ!Q7","v":"1"},0,0.44,0.44,{"$f":"EE15*GENELVERİ!$D$16","v":0},{"$f":"EF15*GENELVERİ!$D$14","v":0},{"$f":"EG15*GENELVERİ!$D$15","v":0},null,null,null,null,null,null,null,null,null,null,null,null,null,null,null,null,{"$f":"GENELVERİ!C7","v":"0"},{"$f":"GENELVERİ!D7","v":"0"},{"$f":"GENELVERİ!E7","v":"0"},{"$f":"GENELVERİ!F7","v":"0"},{"$f":"GENELVERİ!G7","v":"0"},{"$f":"FA15+FB15","v":0},null,{"$f":"FC15+FD15+FE15","v":0},null,{"$f":"GENELVERİ!L7","v":"0,05"},0,null,{"$f":"GENELVERİ!M7","v":"0,10"},{"$f":"FH15*FM15","v":0},null,{"$f":"GENELVERİ!H7","v":"0"},{"$f":"FP15","v":"0"},{"$f":"GENELVERİ!I7","v":"0"},null,{"$f":"GENELVERİ!J7","v":"0"},null,{"$f":"'D.BUZAĞI-DÜVE'!C25*4.183*H15*G15","v":61024.191750576254},null,null,null,{"$f":"'D.BUZAĞI-DÜVE'!C24","v":1.0869390542182238},{"$f":"'D.BUZAĞI-DÜVE'!C34","v":0},{"$f":"'D.BUZAĞI-DÜVE'!C35","v":0},{"$f":"'D.BUZAĞI-DÜVE'!C25","v":5.5259919072305888},{"$f":"5.58+0.848*FZ15*GB15/100","v":5.58},{"$f":"IF(GD15=5.58,0,IF(GD15>5.6,GD15))","v":0},{"$f":"SUM(GE15:GE15)*H15*G15","v":0},null,null,{"$f":"AT15","v":95.650636771203708},{"$f":"FP15+GI15","v":95.650636771203708},null,{"$f":"DP15+DT15+DX15+EA15+EH15+EI15+EJ15+ES15+ET15+EU15+EV15+EW15+EX15+EY15+FK15+FN15+FR15+FT15","v":33165.582653832404},null,{"$f":"GJ15-GL15","v":-33069.932017061197},null,{"$f":"(FZ15*G15)*H15","v":2869.519103136111},null,{"$f":"I15*C15*0.3","v":0},{"$f":"AQ15*0.3","v":2869.519103136111},{"$f":"GP15","v":2869.519103136111},{"$f":"GQ15+GR15+GS15","v":2869.519103136111},{"$f":"EO15+EM15*1000+CW15+CV15+CU15+CT15+CS15+CR15+CQ15+CP15+CO15+CN15+CM15+CL15+CK15+CJ15+CI15+CH15+CG15+CF15+C15*H15-C15*H15","v":9652.6659412874305},{"$f":"AQ15+AD15+I15*C15","v":9565.0636771203699},{"$f":"GV15-GW15","v":87.602264167060639}]
[null,"Düve Başlangıç",{"$f":"'D.BUZAĞI-DÜVE'!O23","v":358},null,{"$f":"'D.BUZAĞI-DÜVE'!M4","v":700},{"$f":"G16","v":400},{"$f":"'D.BUZAĞI-DÜVE'!M5","v":400},{"$f":"'D.BUZAĞI-DÜVE'!M2","v":44},0,null,null,null,{"$f":"'D.BUZAĞI-DÜVE'!M6","v":0},{"$f":"POWER(C16,3/4)/POWER(500,3/4)*H16","v":34.248175728976491},null,null,{"$f":"'D.BUZAĞI-DÜVE'!M7/100","v":0.5},{"$f":"Q16*C16","v":179},{"$f":"M16*R16","v":0},{"$f":"S16*'D.BUZAĞI-DÜVE'!L9/100","v":0},{"$f":"T16*'D.BUZAĞI-DÜVE'!M9/100","v":0},null,null,null,null,null,null,null,null,null,null,null,null,{"$f":"GENELVERİ!B9","v":"30"},{"$f":"AH16*R16","v":5370},{"$f":"AI16*I16","v":0},null,null,null,null,null,{"$f":"FZ16/0.3","v":18.313794275446551},{"$f":"AP16*H16*G16","v":322322.77924785932},{"$f":"AN3*AQ16","v":3223.2277924785931},{"$f":"AR16","v":3223.2277924785931},{"$f":"AM16+AJ16+AS16","v":3223.2277924785931},null,{"$f":"AV15","v":1},1.5,1,2.8,2.5,2,2,1,0.01,1,{"$f":"BF15","v":15},0.5,0.6,5,1,1,2,1,{"$f":"'D.BUZAĞI-DÜVE'!D3","v":0},{"$f":"'D.BUZAĞI-DÜVE'!D4","v":1.3933475208176795},{"$f":"'D.BUZAĞI-DÜVE'!D5","v":1.4941150189329973},{"$f":"'D.BUZAĞI-DÜVE'!D6","v":0},{"$f":"'D.BUZAĞI-DÜVE'!D7","v":0},{"$f":"'D.BUZAĞI-DÜVE'!D8","v":0},{"$f":"'D.BUZAĞI-DÜVE'!D9","v":0},{"$f":"'D.BUZAĞI-DÜVE'!D10","v":0},{"$f":"'D.BUZAĞI-DÜVE'!D11","v":0},{"$f":"'D.BUZAĞI-DÜVE'!D12","v":2.7329285854110839},{"$f":"'D.BUZAĞI-DÜVE'!D13","v":0},{"$f":"'D.BUZAĞI-DÜVE'!D14","v":0},{"$f":"'D.BUZAĞI-DÜVE'!D15","v":0},{"$f":"'D.BUZAĞI-DÜVE'!D16","v":0.49609010342248733},{"$f":"'D.BUZAĞI-DÜVE'!D17","v":6.010833022422693E-2},{"$f":"'D.BUZAĞI-DÜVE'!D18","v":0},{"$f":"'D.BUZAĞI-DÜVE'!D19","v":0},{"$f":"'D.BUZAĞI-DÜVE'!D20","v":0},0,24522.91636639116,26296.424333220752,0,0,0,0,0,0,48099.543103235075,0,0,0,8731.1858202357762,1057.9066119463939,0,0,0,0,36784.374549586741,26296.424333220752,0,0,0,0,0,0,48099.543103235075,0,0,0,43655.929101178881,1057.9066119463939,0,0,0,155894.17769916783,{"$f":"'D.BUZAĞI-DÜVE'!M10","v":70},{"$f":"H16/DQ16","v":0.62857142857142856},{"$f":"GENELVERİ!$D$11/20*HESAP!DR16*HESAP!G16","v":0},{"$f":"DS16","v":0},null,{"$f":"GENELVERİ!N9","v":"0"},{"$f":"DV16*H16/100","v":0},{"$f":"DW16*GENELVERİ!$D$12","v":0},null,null,null,{"$f":"GENELVERİ!O9","v":"0"},{"$f":"GENELVERİ!P9","v":"0"},{"$f":"GENELVERİ!Q9","v":"0"},0,0,0,{"$f":"EE16*GENELVERİ!$D$16","v":0},{"$f":"EF16*GENELVERİ!$D$14","v":0},{"$f":"EG16*GENELVERİ!$D$15","v":0},null,null,null,null,null,null,null,null,null,null,null,null,null,null,null,null,{"$f":"GENELVERİ!C9","v":"0"},{"$f":"GENELVERİ!D9","v":"0"},{"$f":"GENELVERİ!E9","v":"0"},{"$f":"GENELVERİ!F9","v":"0"},{"$f":"GENELVERİ!G9","v":"0"},{"$f":"FA16+FB16","v":0},null,{"$f":"FC16+FD16+FE16","v":0},null,{"$f":"GENELVERİ!L9","v":"0,05"},0,null,{"$f":"GENELVERİ!M9","v":"0,10"},{"$f":"FH16*FM16","v":0},null,{"$f":"GENELVERİ!H9","v":"0"},{"$f":"FP16","v":"0"},{"$f":"GENELVERİ!I9","v":"0"},null,{"$f":"GENELVERİ!J9","v":"0"},null,{"$f":"'D.BUZAĞI-DÜVE'!F25*4.183*H16*G16","v":905332.97669988789},null,null,null,{"$f":"'D.BUZAĞI-DÜVE'!F24","v":5.4941382826339646},{"$f":"'D.BUZAĞI-DÜVE'!F34","v":25.870742363162709},{"$f":"'D.BUZAĞI-DÜVE'!F35","v":43.553301467586579},{"$f":"'D.BUZAĞI-DÜVE'!F25","v":12.297244483894332},{"$f":"5.58+0.848*FZ16*GB16/100","v":7.6091610606708429},{"$f":"IF(GD16=5.58,0,IF(GD16>5.6,GD16))","v":7.6091610606708429},{"$f":"SUM(GE16:GE16)*H16*G16","v":133921.23466780683},null,null,{"$f":"AT16","v":3223.2277924785931},{"$f":"FP16+GI16","v":3223.2277924785931},null,{"$f":"DP16+DT16+DX16+EA16+EH16+EI16+EJ16+ES16+ET16+EU16+EV16+EW16+EX16+EY16+FK16+FN16+FR16+FT16","v":155894.17769916783},null,{"$f":"GJ16-GL16","v":-152670.94990668923},null,{"$f":"(FZ16*G16)*H16","v":96696.833774357772},null,{"$f":"I16*C18*0.3","v":0},{"$f":"AQ16*0.3","v":96696.833774357787},{"$f":"GP16","v":96696.833774357772},{"$f":"GQ16+GR16+GS16","v":96696.833774357787},{"$f":"EO16+EM16*1000+CW16+CV16+CU16+CT16+CS16+CR16+CQ16+CP16+CO16+CN16+CM16+CL16+CK16+CJ16+CI16+CH16+CG16+CF16+C16*H16-C16*H16","v":108707.97623502916},{"$f":"AQ16+AD16+I16*C16","v":322322.77924785932},{"$f":"GV16-GW16","v":-213614.80301283015}]
[null,"Düve Besleme Ortası",{"$f":"'D.BUZAĞI-DÜVE'!O25","v":482.6},null,{"$f":"'D.BUZAĞI-DÜVE'!N4","v":700},{"$f":"G17","v":178},{"$f":"'D.BUZAĞI-DÜVE'!N5","v":178},{"$f":"'D.BUZAĞI-DÜVE'!N2","v":44},0,null,null,null,{"$f":"'D.BUZAĞI-DÜVE'!N6","v":0},{"$f":"POWER(C17,3/4)/POWER(500,3/4)*H17","v":42.84653057386322},null,null,{"$f":"'D.BUZAĞI-DÜVE'!N7/100","v":0.55000000000000004},{"$f":"Q17*C17","v":265.43},{"$f":"M17*R17","v":0},{"$f":"S17*'D.BUZAĞI-DÜVE'!L10/100","v":0},{"$f":"T17*'D.BUZAĞI-DÜVE'!N9/100","v":0},null,null,null,null,null,null,null,null,null,null,null,null,{"$f":"GENELVERİ!B9","v":"30"},{"$f":"AH17*R17","v":7962.9000000000005},{"$f":"AI17*I17","v":0},null,null,null,null,null,{"$f":"FZ17/0.3","v":30.069538364469839},{"$f":"AP17*H17*G17","v":235504.62447052778},{"$f":"AN3*AQ17","v":2355.0462447052778},{"$f":"AR17","v":2355.0462447052778},{"$f":"AM17+AJ17+AS17","v":2355.0462447052778},null,1,1.5,1,2.8,2.5,2,2,1,0.01,1,15,0.5,0.6,5,1,1,2,1,{"$f":"'D.BUZAĞI-DÜVE'!E3","v":0},{"$f":"'D.BUZAĞI-DÜVE'!E4","v":5.5710375245639545},{"$f":"'D.BUZAĞI-DÜVE'!E5","v":0},{"$f":"'D.BUZAĞI-DÜVE'!E6","v":0},{"$f":"'D.BUZAĞI-DÜVE'!E7","v":0},{"$f":"'D.BUZAĞI-DÜVE'!E8","v":0},{"$f":"'D.BUZAĞI-DÜVE'!E9","v":0},{"$f":"'D.BUZAĞI-DÜVE'!E10","v":0},{"$f":"'D.BUZAĞI-DÜVE'!E11","v":0},{"$f":"'D.BUZAĞI-DÜVE'!E12","v":0},{"$f":"'D.BUZAĞI-DÜVE'!E13","v":0.17401718247629516},{"$f":"'D.BUZAĞI-DÜVE'!E14","v":0.78723392893353605},{"$f":"'D.BUZAĞI-DÜVE'!E15","v":3.7442459799452914},{"$f":"'D.BUZAĞI-DÜVE'!E16","v":0},{"$f":"'D.BUZAĞI-DÜVE'!E17","v":1.1849203988315973E-2},{"$f":"'D.BUZAĞI-DÜVE'!E18","v":4.8030732357658978E-2},{"$f":"'D.BUZAĞI-DÜVE'!E19","v":0},{"$f":"'D.BUZAĞI-DÜVE'!E20","v":0},0,43632.365892384893,0,0,0,0,0,0,0,0,1362.9025731543438,6165.6161314074543,29324.93451493152,0,92.802965636490711,376.17669582518511,0,0,0,65448.548838577335,0,0,0,0,0,0,0,0,20443.538597315157,3082.8080657037272,17594.960708958912,0,92.802965636490711,376.17669582518511,0,0,107038.8358720168,{"$f":"'D.BUZAĞI-DÜVE'!N10","v":70},{"$f":"H17/DQ17","v":0.62857142857142856},{"$f":"GENELVERİ!$D$11/20*HESAP!DR17*HESAP!G17","v":0},{"$f":"DS17","v":0},null,{"$f":"GENELVERİ!N9","v":"0"},{"$f":"DV17*H17/100","v":0},{"$f":"DW17*GENELVERİ!$D$12","v":0},null,null,null,{"$f":"GENELVERİ!O9","v":"0"},{"$f":"GENELVERİ!P9","v":"0"},{"$f":"GENELVERİ!Q9","v":"0"},0,0,0,{"$f":"EE17*GENELVERİ!$D$16","v":0},{"$f":"EF17*GENELVERİ!$D$14","v":0},{"$f":"EG17*GENELVERİ!$D$15","v":0},null,null,null,null,null,null,null,null,null,null,null,null,null,null,null,null,{"$f":"GENELVERİ!C9","v":"0"},{"$f":"GENELVERİ!D9","v":"0"},{"$f":"GENELVERİ!E9","v":"0"},{"$f":"GENELVERİ!F9","v":"0"},{"$f":"GENELVERİ!G9","v":"0"},{"$f":"FA17+FB17","v":0},null,{"$f":"FC17+FD17+FE17","v":0},null,{"$f":"GENELVERİ!L9","v":"0,05"},0,null,{"$f":"GENELVERİ!M9","v":"0,10"},{"$f":"FH17*FM17","v":0},null,{"$f":"GENELVERİ!H9","v":"0"},{"$f":"FP17","v":"0"},{"$f":"GENELVERİ!I9","v":"0"},null,{"$f":"GENELVERİ!J9","v":"0"},null,{"$f":"'D.BUZAĞI-DÜVE'!I25*4.183*H17*G17","v":705495.50059578812},null,null,null,{"$f":"'D.BUZAĞI-DÜVE'!I24","v":9.0208615093409517},{"$f":"'D.BUZAĞI-DÜVE'!I34","v":19.00000264768229},{"$f":"'D.BUZAĞI-DÜVE'!I35","v":41.682946219749837},{"$f":"'D.BUZAĞI-DÜVE'!I25","v":21.534446072390757},{"$f":"5.58+0.848*FZ17*GB17/100","v":8.7686164020692026},{"$f":"IF(GD17=5.58,0,IF(GD17>5.6,GD17))","v":8.7686164020692026},{"$f":"SUM(GE17:GE17)*H17*G17","v":68675.803661005993},null,null,{"$f":"AT17","v":2355.0462447052778},{"$f":"FP17+GI17","v":2355.0462447052778},null,{"$f":"DP17+DT17+DX17+EA17+EH17+EI17+EJ17+ES17+ET17+EU17+EV17+EW17+EX17+EY17+FK17+FN17+FR17+FT17","v":107038.8358720168},null,{"$f":"GJ17-GL17","v":-104683.78962731152},null,{"$f":"(FZ17*G17)*H17","v":70651.387341158334},null,null,{"$f":"AQ17*0.3","v":70651.387341158334},{"$f":"GP17","v":70651.387341158334},{"$f":"GQ17+GR17+GS17","v":70651.387341158334},{"$f":"EO17+EM17*1000+CW17+CV17+CU17+CT17+CS17+CR17+CQ17+CP17+CO17+CN17+CM17+CL17+CK17+CJ17+CI17+CH17+CG17+CF17+C17*H17-C17*H17","v":80954.798773339891},{"$f":"AQ17+AD17+I17*C17","v":235504.62447052778},{"$f":"GV17-GW17","v":-154549.82569718789}]
[null,"Düve Bitiş",{"$f":"'D.BUZAĞI-DÜVE'!O27","v":590.6},null,{"$f":"'D.BUZAĞI-DÜVE'!O4","v":1000},{"$f":"G18","v":108},{"$f":"'D.BUZAĞI-DÜVE'!O5","v":108},{"$f":"'D.BUZAĞI-DÜVE'!O2","v":44},19,null,null,null,{"$f":"'D.BUZAĞI-DÜVE'!O6","v":19},{"$f":"POWER(C18,3/4)/POWER(500,3/4)*H18","v":49.853454259878021},null,null,{"$f":"'D.BUZAĞI-DÜVE'!O7/100","v":0.55000000000000004},{"$f":"Q18*C18","v":324.83000000000004},{"$f":"M18*R18","v":6171.77},{"$f":"S18*'D.BUZAĞI-DÜVE'!L11/100","v":185.15310000000002},{"$f":"T18*'D.BUZAĞI-DÜVE'!O9/100","v":37.030620000000006},null,null,null,null,null,null,null,null,null,null,null,null,{"$f":"GENELVERİ!B9","v":"30"},{"$f":"AH18*R18","v":9744.9000000000015},{"$f":"AI18*I18","v":185153.10000000003},null,null,null,null,null,{"$f":"FZ18/0.3","v":39.840181604119863},{"$f":"AP18*H18*G18","v":189320.54298277761},{"$f":"AN3*AQ18","v":1893.2054298277762},{"$f":"AR18","v":1893.2054298277762},{"$f":"AM18+AJ18+AS18","v":187046.3054298278},null,1,1.5,1,2.8,2.5,2,2,1,0.01,1,15,0.5,0.6,5,1,1,2,1,{"$f":"'D.BUZAĞI-DÜVE'!F3","v":0},{"$f":"'D.BUZAĞI-DÜVE'!F4","v":8.316561570241344},{"$f":"'D.BUZAĞI-DÜVE'!F5","v":0},{"$f":"'D.BUZAĞI-DÜVE'!F6","v":0},{"$f":"'D.BUZAĞI-DÜVE'!F7","v":0},{"$f":"'D.BUZAĞI-DÜVE'!F8","v":0},{"$f":"'D.BUZAĞI-DÜVE'!F9","v":0},{"$f":"'D.BUZAĞI-DÜVE'!F10","v":0},{"$f":"'D.BUZAĞI-DÜVE'!F11","v":0},{"$f":"'D.BUZAĞI-DÜVE'!F12","v":0},{"$f":"'D.BUZAĞI-DÜVE'!F13","v":0.20972363886674963},{"$f":"'D.BUZAĞI-DÜVE'!F14","v":4.9628892207685835},{"$f":"'D.BUZAĞI-DÜVE'!F15","v":2.7168796687082826},{"$f":"'D.BUZAĞI-DÜVE'!F16","v":0},{"$f":"'D.BUZAĞI-DÜVE'!F17","v":2.6176997695280632E-2},{"$f":"'D.BUZAĞI-DÜVE'!F18","v":7.6151036761159488E-2},{"$f":"'D.BUZAĞI-DÜVE'!F19","v":0},{"$f":"'D.BUZAĞI-DÜVE'!F20","v":0},0,39520.300581786869,0,0,0,0,0,0,0,0,996.60673189479428,23583.64957709231,12910.612185701759,0,124.39309304797357,361.8697266890299,0,0,0,59280.450872680303,0,0,0,0,0,0,0,0,14949.100978421915,11791.824788546155,7746.3673114210551,0,124.39309304797357,361.8697266890299,0,0,94254.006770806431,{"$f":"'D.BUZAĞI-DÜVE'!O10","v":70},{"$f":"H18/DQ18","v":0.62857142857142856},{"$f":"GENELVERİ!$D$11/20*HESAP!DR18*HESAP!G18","v":0},{"$f":"DS18","v":0},null,{"$f":"GENELVERİ!N9","v":"0"},{"$f":"DV18*H18/100","v":0},{"$f":"DW18*GENELVERİ!$D$12","v":0},null,null,null,{"$f":"GENELVERİ!O9","v":"0"},{"$f":"GENELVERİ!P9","v":"0"},{"$f":"GENELVERİ!Q9","v":"0"},0,0,0,{"$f":"EE18*GENELVERİ!$D$16","v":0},{"$f":"EF18*GENELVERİ!$D$14","v":0},{"$f":"EG18*GENELVERİ!$D$15","v":0},null,null,null,null,null,null,null,null,null,null,null,null,null,null,null,null,{"$f":"GENELVERİ!C9","v":"0"},{"$f":"GENELVERİ!D9","v":"0"},{"$f":"GENELVERİ!E9","v":"0"},{"$f":"GENELVERİ!F9","v":"0"},{"$f":"GENELVERİ!G9","v":"0"},{"$f":"FA18+FB18","v":0},null,{"$f":"FC18+FD18+FE18","v":0},null,{"$f":"GENELVERİ!L9","v":"0,05"},0,null,{"$f":"GENELVERİ!M9","v":"0,10"},{"$f":"FH18*FM18","v":0},null,{"$f":"GENELVERİ!H9","v":"0"},{"$f":"FP18","v":"0"},{"$f":"GENELVERİ!I9","v":"0"},null,{"$f":"GENELVERİ!J9","v":"0"},null,{"$f":"'D.BUZAĞI-DÜVE'!L25*4.183*H18*G18","v":603824.84359811794},null,null,null,{"$f":"'D.BUZAĞI-DÜVE'!L24","v":11.952054481235958},{"$f":"'D.BUZAĞI-DÜVE'!L34","v":19.000000115412767},{"$f":"'D.BUZAĞI-DÜVE'!L35","v":38.866733136623196},{"$f":"'D.BUZAĞI-DÜVE'!L25","v":30.377125888643686},{"$f":"5.58+0.848*FZ18*GB18/100","v":9.5192764053917927},{"$f":"IF(GD18=5.58,0,IF(GD18>5.6,GD18))","v":9.5192764053917927},{"$f":"SUM(GE18:GE18)*H18*G18","v":45235.601478421799},null,null,{"$f":"AT18","v":187046.3054298278},{"$f":"FP18+GI18","v":187046.3054298278},null,{"$f":"DP18+DT18+DX18+EA18+EH18+EI18+EJ18+ES18+ET18+EU18+EV18+EW18+EX18+EY18+FK18+FN18+FR18+FT18","v":94254.006770806431},null,{"$f":"GJ18-GL18","v":92792.29865902137},null,{"$f":"(FZ18*G18)*H18","v":56796.162894833273},null,null,{"$f":"AQ18*0.3","v":56796.16289483328},{"$f":"GP18","v":56796.162894833273},{"$f":"GQ18+GR18+GS18","v":56796.16289483328},{"$f":"EO18+EM18*1000+CW18+CV18+CU18+CT18+CS18+CR18+CQ18+CP18+CO18+CN18+CM18+CL18+CK18+CJ18+CI18+CH18+CG18+CF18+C18*H18-C18*H18","v":77497.431896212744},{"$f":"AQ18+AD18+I18*C18","v":200541.9429827776},{"$f":"GV18-GW18","v":-123044.51108656486}]

{"sheet":"GENELVERİ","index":1,"n_rows":23,"n_cols":17,"rows_kept":23,"cut":false,"hidden":true,"merged":[[15,4,15,5],[16,4,16,5],[12,4,12,5],[13,4,13,5],[14,4,14,5]]}
[null,"Birim Karkas Fiyatı (tl/kg)","Bina 1","Bina 2","Alet Ekipman 1","Alet Ekipman 2","Alet Ekipman 3","Teşvik","Vergi","Faiz",null,"Bina Amortisman (%)","Alet EkipmanAmortisman (%)","Yıllık Veteriner Muayene Sayısı (100 baş)","Yıllık Aşı Sayısı  (100 baş için)","Yıllık İlaç Kutu Sayısı  (100 baş için)","Yıllık Dezenfektan Kutu Sayısı  (100 baş)"]
["İnek Kuru","30","0","0","0","0","0","0","0","0",null,"0,05","0,10","0","0","0","0"]
["İnek lak başı","25","0","0","0","0","0","0","0","0",null,"0,05","0,10","1","100","1","1"]
["İnek lak ortası","26","0","0","0","0","0","0","0","0",null,"0,05","0,10","0","0","0","0"]
["İnek lak sonu","30","0","0","0","0","0","0","0","0",null,"0,05","0,10","0","0","0","0"]
["E. Buzağı","40","0","0","0","0","0","0","0","0",null,"0,05","0,10","1","0","1","1"]
["D. Buzağı","40","0","0","0","0","0","0","0","0",null,"0,05","0,10","1","0","1","1"]
["Tosun","35","0","0","0","0","0","0","0","0",null,"0,05","0,10","0","0","0","0"]
["Düve","30","0","0","0","0","0","0","0","0",null,"0,05","0,10","0","0","0","0"]
[]
["Doğum Oranı %","0,90","Ahır birim işçilik fiyatı (tl/ay)","0","Birim süt fiyatı (tl/kg)","Ahır","2"]
["E. Buzağı Yaşama oranı %","0,95","Veteriner Muayene Ücreti (tl)","0","Birim gübre fiyatı (tl/kg)","Ahır","0,01"]
["D. Buzağı Yaşama Oranı %","0,95","Suni tohumlama ücreti (tl)","0","Nakliye fiyatı (tl/Adet)",null,"0"]
["Melez Oranı %","0","Bir kutu ilaç fiyatı (tl)","0","Haberleşme fiyatı (tl/Adet)",null,"0"]
["Elektirik Tüketim Kwh","0","Bir kutu dezenfektan fiyatı (tl)","0","Ulaşım fiyatı (tl/Adet)",null,"0"]
["Su Tüketimi (Ton)","0","Bir Aşı ücreti (tl/adet)","0","Su fiyatı (tl/Ton)",null,"0"]
["Doğalgaz Tüketimi (M3)","0","Elektirik ücreti tl/Kwh","0","Doğalgaz fiyatı (tl/M3)",null,"0"]
["Mazot Tüketimi (Lt)","0","Mazot fiyatı (tl/Lt)","0"]
["Nakliye (Adet)","0",null,"",null,null,""]
["Haberleşme (Adet)","0",null,"",null,null,""]
["Ulaşım (Adet)","0"]
["Suni Tohumlama Sayısı","0"]
["Diğer Masraflar (%)","0,1"]

{"sheet":"KULLANMA KLAVUZU","index":2,"n_rows":37,"n_cols":14,"rows_kept":37,"cut":false,"hidden":false,"merged":[]}
[]
[]
[null,null,0,null,null,null,0]
[null,null,0,null,null,null,0]
[null,null,0,null,null,null,0]
[null,null,0,null,null,null,0]
[null,null,0,null,null,null,0]
[null,null,0,null,null,null,0]
[null,null,0,null,null,null,0]
[null,null,0,null,null,null,0]
[null,null,0,null,null,null,0]
[null,null,0,null,null,null,0]
[null,null,0,null,null,null,0]
[null,null,0,null,null,null,0]
[null,null,0,null,null,null,0]
[null,null,0,null,null,null,0]
[null,null,0,null,null,null,0]
[null,null,0,null,null,null,0]
[null,null,0,null,null,null,0]
[null,null,0,null,null,null,0]
[]
[]
[]
[]
[]
[null,0,0,null,null,null,null,null,null,null,null,null,null,0]
[]
[null,0,0]
[]
[null,0,0]
[]
[]
[null,0,0]
[]
[null,null,0]
[null,0,0]
[null,0,0]

{"sheet":"İNEK","index":3,"n_rows":258,"n_cols":76,"rows_kept":258,"cut":false,"hidden":false,"merged":[[37,0,38,1],[37,2,38,3],[64,32,64,36],[28,15,29,16],[30,15,31,15],[30,16,31,16],[32,15,33,15],[32,16,33,16],[34,15,35,15],[34,16,35,16],[36,15,37,15],[36,16,37,16],[38,15,39,15],[38,16,39,16],[64,26,64,30],[48,28,49,29],[43,22,44,23],[8,16,9,16],[10,16,11,16],[12,16,13,16],[14,16,15,16],[26,15,27,15],[26,16,27,16],[22,16,23,16],[24,16,25,16],[22,15,23,15],[24,15,25,15],[18,15,19,15],[20,15,21,15],[16,15,17,16],[13,7,13,9],[20,3,21,6],[22,3,22,6],[21,7,21,10],[23,1,23,3],[23,10,23,12],[23,4,23,6],[23,7,23,9],[23,13,24,14],[14,7,14,9],[15,7,15,9],[16,7,16,9],[22,7,22,10],[17,7,17,9],[18,7,18,9],[19,7,19,9],[20,7,20,9],[8,7,8,9],[9,7,9,9],[10,7,10,9],[11,7,11,9],[12,7,12,9],[0,0,1,0],[7,29,7,32],[7,33,7,36],[0,1,1,1],[0,2,0,5],[0,23,0,27],[0,6,1,6],[0,15,2,16],[3,15,4,16],[5,15,7,16],[2,7,2,9],[3,7,3,9],[4,7,4,9],[5,7,5,9],[6,7,6,9],[7,7,7,9],[8,15,9,15],[10,15,11,15],[12,15,13,15],[0,50,1,50],[0,45,1,45],[0,46,1,46],[0,47,1,47],[0,48,1,48],[0,49,1,49],[0,44,1,44],[0,29,0,32],[0,33,0,36],[0,41,1,41],[0,42,1,42],[0,43,1,43],[13,33,13,36],[25,13,26,14],[39,34,39,37],[26,26,26,27],[26,34,27,34],[26,30,27,30],[34,33,34,37],[39,30,39,31],[39,32,39,33],[27,13,28,14],[29,13,29,14],[30,13,31,14],[32,13,32,14],[25,32,25,33],[18,16,19,16],[20,16,21,16],[35,13,36,14],[33,13,34,14],[37,13,37,14],[38,13,38,14],[14,15,15,15]]}
["Yem Adı","Yem Birim Fiyatı (tl/kg)","Yem Tüketimi (kg/gün/baş)",null,null,null,"Günlük Max Yem (kg/baş)","Kuru Gebelik süresi","Lak Sonu Gebelik süresi","Lak Sır.","Doğum Ağırlığı","İnek Kuru","İnek Lak. Başı","İnek Lak. Ortası","İnek Lak. Sonu","180 gün <gebelikten gelen GCAA(g/gün)",null,null,null,null,null,null,null,"Kondisyon Skoru",null,null,null,null,null,"ME",null,null,null,"NEI",null,null,null,null,null,null,null,"KM (kg/gün)","ME (Mcal/gün)","Nel (Mcal/gün)","HP (g/gün)","MBP (g/gün)","Rumende Yıkıma Dirençli Protein (g/gün)","Ca (g/gün)","P (g/gün)","ADF (kg/gün)","NDF (kg/gün)",null,"Rasyon özeti","Yem","KM","ME","NEl","HP","MBP","Rumende Yıkıma Dirençli Protein","Ca","P","ADF","NDF","Vit A"]
[null,null,"Kuru","Lakt. başı","Lak. Ort","Lak. sonu",null,0,240,3,40,"Çıkan inek sayısı",2,0,0,null,null,null,null,null,null,null,"İnek Kuru","İNDİS",{"$f":"INDEX($AB$2:$AB$6,L14)","v":4},"SATIR",{"$f":"MATCH(L14,AB2:AB6,0)","v":4},1,"lak sır","kuru","lak baş","lak ort","lak son","kuru","lak baş","lak ort","lak son",null,null,null,null,null,null,null,null,null,null,null,null,null,null,null,"Yem maddeleri","kg/gün","kg/gün","Mcal/gün","Mcal/gün","g/gün"," (g/gün)"," (g/gün)","g/gün","g/gün","kg/gün","kg/gün","IU","YEM MADDESİ","ME","NEI","KM","HP","NDF","ADF","RUP","CA","P","Vit A"]
["Sığır Süt Yemi, 24 HP, 3100 ME",2.4,0,8.7140349260625971,0.12407693701180234,3.9827099996117696,10,"Canlı Ağırlık ",null,null,"kg",700,500,560,600,null,null,null,null,null,null,null,"İnek Lak. Başı","İNDİS",{"$f":"INDEX($AB$2:$AB$6,M14)","v":2},"SATIR",{"$f":"MATCH(M14,AB2:AB6,0)","v":2},2,1,{"$f":"AH3/AD36","v":3.1332449745996409},{"$f":"AI3/AD37","v":7.5970729556014422},{"$f":"AJ3/AD38","v":2.3250425475639385},{"$f":"AK3/AD39","v":6.5485273496838738},{"$f":"AF29+AG29","v":1.8799469847597845},{"$f":"AG30","v":4.5582437733608652},{"$f":"AG31","v":1.395025528538363},{"$f":"AG32+AF32","v":3.929116409810324},null,null,null,{"$f":"MATCH(A3,BA3:BA408,0)","v":208},{"$f":"(INDEX($BC$3:$BC$408,AO3))","v":0.89},{"$f":"(INDEX($BD$3:$BD$408,AO3))","v":3.0971999999999995},{"$f":"(INDEX($BE$3:$BE$408,AO3))","v":2.2071999999999998},{"$f":"INDEX($BF$3:$BF$408,AO3)","v":239.94400000000002},{"$f":"INDEX($BG$3:$BG$408,AO3)","v":0},{"$f":"INDEX($BH$3:$BH$408,AO3)","v":53.4355288},{"$f":"INDEX($BI$3:$BI$408,AO3)","v":10.590999999999999},{"$f":"INDEX($BJ$3:$BJ$408,AO3)","v":5.2509999999999994},{"$f":"INDEX($BK$3:$BK$408,AO3)","v":10.5},{"$f":"INDEX($BL$3:$BL$408,AO3)","v":23.7},null,{"$f":"BN3","v":"Baklagil Kuru Otu"},1,{"$f":"BQ3*10/1000","v":0.878},{"$f":"BO3*BQ3/100","v":1.8262399999999999},{"$f":"BP3*BQ3/100","v":1.1150599999999999},{"$f":"BR3*BQ3/10","v":177.35599999999999},null,{"$f":"BF3*BU3/100","v":33.342928000000001},{"$f":"BQ3*BV3/10","v":13.345599999999999},{"$f":"BW3*BQ3/10","v":2.2827999999999999},{"$f":"BT3","v":31.2},{"$f":"BS3","v":39.6},{"$f":"BX3","v":0},"Baklagil Kuru Otu",2.08,1.27,87.8,20.2,39.6,31.2,18.8,1.52,0.26]
["Sığır Süt Yemi,18 HP, 2600 ME",2.2000000000000002,0,0,0,0,10,"Günlük Canlı Ağırlıkm Artışı",null,null,"g",900,800,250,800,{"$f":"700*K2/45","v":622.22222222222217},null,null,null,null,null,null,"İnek Lak. Ortası","İNDİS",{"$f":"INDEX($AB$2:$AB$6,N14)","v":3},"SATIR",{"$f":"MATCH(N14,AB2:AB6,0)","v":3},3,2,{"$f":"AH4/AD36","v":3.1332449745996409},{"$f":"AI4/AD37","v":7.5970729556014422},{"$f":"AJ4/AD38","v":2.3250425475639385},{"$f":"AK4/AD39","v":6.5485273496838738},{"$f":"AF29+AH29","v":1.8799469847597845},{"$f":"AH30","v":4.5582437733608652},{"$f":"AH31","v":1.395025528538363},{"$f":"AF32+AH32","v":3.929116409810324},null,null,null,{"$f":"MATCH(A4,BA3:BA408,0)","v":194},0.89,2.5899000000000001,1.6643000000000001,181.738,0,40.473052600000003,10.590999999999999,5.2509999999999994,8.17,18.75,null,{"$f":"BN4","v":"Baklagil Kuru Otu, Körpe < %40 NDF"},{"$f":"BB3","v":1},{"$f":"BQ4*10/1000","v":0.84199999999999997},{"$f":"BO4*BQ4/100","v":1.8776599999999999},{"$f":"BP4*BQ4/100","v":1.1619599999999999},{"$f":"BR4*BQ4/10","v":191.97600000000003},null,{"$f":"BF4*BU4/100","v":31.292088000000007},13.135200000000001,{"$f":"BW4*BQ4/10","v":2.6101999999999999},{"$f":"BT4","v":28.6},{"$f":"BS4","v":36.299999999999997},{"$f":"BX4","v":0},"Baklagil Kuru Otu, Körpe < %40 NDF",2.23,1.38,84.2,22.8,36.299999999999997,28.6,16.3,1.56,0.31]
["Yulaf Kuru Otu, Başaklı",0.6,0,0,0,0,10,"Bakım Süresi",null,null,"gün",60,75,160,75,null,null,null,null,null,null,null,"İnek Lak. Sonu","İNDİS",{"$f":"INDEX($AB$2:$AB$6,O14)","v":4},"SATIR",{"$f":"MATCH(O14,AB2:AB6,0)","v":4},4,3,{"$f":"AH5/AD36","v":3.1332449745996409},{"$f":"AI5/AD37","v":7.5970729556014422},{"$f":"AJ5/AD38","v":2.3250425475639385},{"$f":"AK5/AD39","v":6.5485273496838738},{"$f":"AF29+AH29","v":1.8799469847597845},{"$f":"AH30","v":4.5582437733608652},{"$f":"AH31","v":1.395025528538363},{"$f":"AF32+AH32","v":3.929116409810324},null,null,null,{"$f":"MATCH(A5,BA3:BA408,0)","v":39},0.91900000000000004,1.6817700000000002,1.0109000000000001,83.628999999999991,0,31.026358999999999,3.4003000000000001,2.0217999999999998,36.4,58,null,"Baklagil Kuru Otu, Olgun >%46 NDF",{"$f":"BB4","v":1},0.83799999999999997,1.5754399999999997,0.94693999999999989,188.55,null,33.561900000000009,10.223599999999999,2.3464,39.5,50.9,0,"Baklagil Kuru Otu, Olgun >%46 NDF",1.88,1.1299999999999999,83.8,22.5,50.9,39.5,17.8,1.22,0.28000000000000003]
["Arpa , Ezme",1.5,0,2.1247640038056801,8.6947797679919887,6.0032199513818671,10,"Günlük Süt Verimi",null,null,"kg",null,30,25,15,"SÜTÜN YEM MALİYETİ (TL/KG)",null,null,null,null,null,null,null,null,null,null,null,5,"SATIR",{"$f":"MATCH(J2,AC3:AC5,0)","v":3},{"$f":"MATCH(J2,AC3:AC5,0)","v":3},{"$f":"MATCH(J2,AC3:AC5,0)","v":3},{"$f":"MATCH(J2,AC3:AC5,0)","v":3},{"$f":"MATCH(J2,AC3:AC5,0)","v":3},{"$f":"MATCH(J2,AC3:AC5,0)","v":3},{"$f":"MATCH(J2,AC3:AC5,0)","v":3},{"$f":"MATCH(J2,AC3:AC5,0)","v":3},null,null,null,{"$f":"MATCH(A6,BA3:BA408,0)","v":114},0.91,2.6571999999999996,1.6926000000000001,112.84,0,20.424040000000002,0.54600000000000004,3.5490000000000004,7.2,20.8,null,"Baklagil Kuru Otu, Orta Olgun, %40-46 NDF",1,0.83899999999999997,1.7535099999999999,1.0739200000000002,174.512,null,30.714112000000004,11.494300000000001,2.5170000000000003,33.4,42.9,0,"Baklagil Kuru Otu, Orta Olgun, %40-46 NDF",2.09,1.28,83.9,20.8,42.9,33.4,17.600000000000001,1.37,0.3]
["Buğday Samanı",0.5,7.1698106960094483,0,0,1.4974439352651451E-8,10,"Süt Yağı",null,null,"%",null,3.5,3.7,3.9,null,null,null,null,null,null,null,null,null,null,null,null,null,"İNDİS",{"$f":"INDEX($AD$3:$AD$5,J2)","v":3.1332449745996409},{"$f":"INDEX($AE$3:$AE$5,J2)","v":7.5970729556014422},{"$f":"INDEX($AF$3:$AF$5,J2)","v":2.3250425475639385},{"$f":"INDEX($AG$3:$AG$5,J2)","v":6.5485273496838738},{"$f":"INDEX($AH$3:$AH$5,J2)","v":1.8799469847597845},{"$f":"INDEX($AI$3:$AI$5,J2)","v":4.5582437733608652},{"$f":"INDEX($AJ$3:$AJ$5,J2)","v":1.395025528538363},{"$f":"INDEX($AK$3:$AK$5,J2)","v":3.929116409810324},null,null,null,{"$f":"MATCH(A7,BA3:BA408,0)","v":6},0.92700000000000005,1.3348800000000001,0.76013999999999993,44.495999999999995,0,7.386336,3.3372000000000002,3.2444999999999999,35.200000000000003,73,null,"Buğday Kuru Otu, Başaklı",1,0.86799999999999999,1.48428,0.8766799999999999,81.591999999999999,null,30.107447999999998,2.6907999999999999,1.736,38.1,61.1,0,"Buğday Kuru Otu, Başaklı",1.71,1.01,86.8,9.4,61.1,38.1,36.9,0.31,0.2]
["Çayır Merası, Soğuk Mevsim, Bakımlı",0.01,0,0,52.636184435361656,0,100,"Sağım Süresi",null,null,"gün",null,90,120,95,null,null,null,null,null,null,null,null,null,null,null,null,null,null,"HP",null,null,null,"NDF",null,null,null,null,null,null,{"$f":"MATCH(A8,BA3:BA408,0)","v":48},0.20100000000000001,0.49446000000000007,0.30954000000000004,53.265000000000008,0,11.824830000000002,1.1256000000000002,0.88440000000000007,25,45.8,null,"Buğday Samanı",1,0.92700000000000005,1.3348800000000001,0.76013999999999993,44.495999999999995,null,7.386336,3.3372000000000002,3.2444999999999999,35.200000000000003,73,0,"Buğday Samanı",1.44,0.82,92.7,4.8,73,35.200000000000003,16.600000000000001,0.36,0.35]
["Yonca Kuru Otu, 5. Kalite  %13-15 HP, <%48-54 NDF",1,0,0,0,0,10,"Satılan Hayvan",null,null,"baş",25,null,null,null,"Lakt. başı",{"$f":"AC88","v":1.9532357673248819},null,null,null,null,null,null,null,null,null,null,null,"lak sır","kuru","lak baş","lak ort","lak son","kuru","lak baş","lak ort","lak son",null,null,null,{"$f":"MATCH(A9,BA3:BA408,0)","v":33},0.91269999999999996,1.64286,0.97658900000000004,130.69864000000001,0,41.954263440000005,10.769859999999998,1.9166699999999999,41.8,52.7,null,"Çayır Kuru Otu, Soğuk Mevsim",1,0.88100000000000001,1.6386599999999998,0.98671999999999993,93.385999999999996,null,21.385393999999998,3.3478000000000003,2.5548999999999995,37.6,64.400000000000006,0,"Çayır Kuru Otu, Soğuk Mevsim",1.86,1.1200000000000001,88.1,10.6,64.400000000000006,37.6,22.9,0.38,0.28999999999999998]
["Sığır Süt Yemi,16 HP, 2400 ME",2,0,0,0,0,10,"Karkas Ranıman",null,null,"%",50,50,50,50,null,null,null,null,null,null,null,null,null,null,null,null,null,1,{"$f":"(70.7+2.77*(POWER(L3,3/4)))*0.2","v":89.533394045545492},{"$f":"(70.7+2.77*(POWER(M3,3/4)))*0.2","v":72.718367994607263},{"$f":"(70.7+2.77*(POWER(N3,3/4)))*0.2","v":77.915046653608641},{"$f":"(70.7+2.77*(POWER(O3,3/4)))*0.2","v":81.301935375450938},{"$f":"0.08*(POWER(L3,3/4))*0.1","v":1.0887132714158194},{"$f":"0.08*(POWER(M3,3/4))*0.1","v":0.84589701075245149},{"$f":"0.08*(POWER(N3,3/4))*0.1","v":0.92093930185716444},{"$f":"0.08*(POWER(O3,3/4))*0.1","v":0.96984744224477881},null,null,null,{"$f":"MATCH(A10,BA3:BA408,0)","v":189},0.89,2.4119000000000002,1.5307999999999999,162.87,0,36.271149000000001,10.590999999999999,4.984,11.9,26.07,null,"Çayır Kuru Otu, Soğuk Mevsim, Körpe <%55 NDF",1,0.84,1.8648000000000002,1.1508,151.19999999999999,null,36.741599999999998,3.6119999999999997,3.528,34.9,49.6,0,"Çayır Kuru Otu, Soğuk Mevsim, Körpe <%55 NDF",2.2200000000000002,1.37,84,18,49.6,34.9,24.3,0.43,0.42]
["Pamuk Tohumu Küspesi, Pres, % 28 HP ",2.5,0,4.6012634495078188,0,0,10,"Karkas Et Oranı",null,null,"%",80,80,80,80,"Lak. Ort",{"$f":"AD88","v":0.56155060043396088},null,null,null,null,null,null,null,null,null,null,"COAT",2,{"$f":"(70.7+2.77*(POWER(L3,3/4)))*0.1","v":44.766697022772746},{"$f":"(70.7+2.77*(POWER(M3,3/4)))*0.1","v":36.359183997303631},{"$f":"(70.7+2.77*(POWER(N3,3/4)))*0.1","v":38.957523326804321},{"$f":"(70.7+2.77*(POWER(O3,3/4)))*0.1","v":40.650967687725469},{"$f":"0.08*(POWER(L3,3/4))*0.1","v":1.0887132714158194},{"$f":"0.08*(POWER(M3,3/4))*0.1","v":0.84589701075245149},{"$f":"0.08*(POWER(N3,3/4))*0.1","v":0.92093930185716444},{"$f":"0.08*(POWER(O3,3/4))*0.1","v":0.96984744224477881},null,null,null,{"$f":"MATCH(A11,BA3:BA408,0)","v":96},0.90500000000000003,2.1719999999999997,1.3574999999999999,279.64499999999998,0,117.4509,1.81,9.0500000000000007,28,38,null,"Çayır Kuru Otu , Soğuk Mevsim,Olgun >%60 NDF",1,0.84399999999999997,1.5614000000000001,0.93684000000000012,91.152000000000015,null,20.235744,{"$f":"BQ11*BV11/10","v":3.9668000000000001},3.7136000000000005,25,69.099999999999994,0,"Çayır Kuru Otu , Soğuk Mevsim,Olgun >%60 NDF",1.85,1.1100000000000001,84.4,10.8,69.099999999999994,25,22.2,0.47,0.44]
["Baklagil Kuru Otu, Olgun >%46 NDF",1,0,0,0,0,2,"Et Protein Oranı",null,null,"%",20,20,20,20,null,null,null,null,null,null,"İnek Kuru","İNDİS",{"$f":"INDEX($AB$12:$AB$15,Z12)","v":1},"SATIR",{"$f":"MATCH(L15,AA12:AA15,0)","v":1},"Kuru-temiz",1,3,0,0,0,0,0,0,0,0,null,null,null,{"$f":"MATCH(A12,BA3:BA408,0)","v":3},0.83799999999999997,1.5754399999999997,0.94693999999999989,188.55,0,33.561900000000009,10.223599999999999,2.3464,39.5,50.9,null,"Çayır Kuru Otu , Soğuk Mevsim,Orta Olgun.,%55-60 NDF",1,0.83799999999999997,1.6927599999999998,1.03074,111.45399999999999,null,27.640591999999998,4.609,2.4301999999999997,40.299999999999997,57.7,0,"Çayır Kuru Otu , Soğuk Mevsim,Orta Olgun.,%55-60 NDF",2.02,1.23,83.8,13.3,57.7,40.299999999999997,24.8,0.55000000000000004,0.28999999999999998]
["Ayçiçeği Küspesi, Solvent, %32 HP",2,0,0,0,0,5,"Birim İşçiye düşen hayvan say",null,null,"baş",50,40,40,40,"Lak. sonu",{"$f":"AE88","v":1.7154866775960955},null,null,null,null,"İnek Lak. Başı","İNDİS",{"$f":"INDEX($AB$12:$AB$15,Z13)","v":1},"SATIR",{"$f":"MATCH(M15,AA12:AA15,0)","v":1},"Bacaklar çamur",0.8,"İNDİS",{"$f":"INDEX($AD$10:$AD$12,J2)","v":0},{"$f":"INDEX($AE$10:$AE$12,J2)","v":0},{"$f":"INDEX($AF$10:$AF$12,J2)","v":0},{"$f":"INDEX($AG$10:$AG$12,J2)","v":0},{"$f":"INDEX($AH$10:$AH$12,J2)","v":0},{"$f":"INDEX($AI$10:$AI$12,J2)","v":0},{"$f":"INDEX($AJ$10:$AJ$12,J2)","v":0},{"$f":"INDEX($AK$10:$AK$12,J2)","v":0},null,null,null,{"$f":"MATCH(A13,BA3:BA408,0)","v":79},0.92200000000000004,2.2128000000000001,1.4752000000000001,328.23200000000003,0,60.394687999999995,4.4256000000000002,9.2200000000000006,26,36,null,"Çayır-Baklagil Kuru Otu (Baklagil Yoğun), Körpe <%44 NDF",1,0.83799999999999997,1.8016999999999999,1.10616,171.79,null,32.811890000000005,4.7765999999999993,3.0167999999999999,32.9,41.7,0,"Çayır-Baklagil Kuru Otu (Baklagil Yoğun), Körpe <%44 NDF",2.15,1.32,83.8,20.5,41.7,32.9,19.100000000000001,0.56999999999999995,0.36]
["Soya Küspesi , Solvent, %51",5,0,0,0,0,2,"Vücut Kondisyon Skoru",null,null,"puan",4,2,3,4,null,null,null,null,null,null,"İnek Lak. Ortası","İNDİS",{"$f":"INDEX($AB$12:$AB$15,Z14)","v":1},"SATIR",{"$f":"MATCH(N15,AA12:AA15,0)","v":1},"Islak-paspaslı",0.5,null,null,null,null,null,"MP",null,null,null,null,null,null,{"$f":"MATCH(A14,BA3:BA408,0)","v":107},0.89500000000000002,3.0519499999999997,1.9779499999999999,510.15,0,157.12619999999998,3.1324999999999998,6.2649999999999997,6.2,9.8000000000000007,null,"Çayır-Baklagil kUru Otu (Çayır OtuYoğun), Körpe <%51NDF",1,0.84299999999999997,1.8377399999999999,1.1296200000000001,155.11199999999999,null,51.031847999999997,4.7208000000000006,2.6132999999999997,41.1,49.6,0,"Çayır-Baklagil kUru Otu (Çayır OtuYoğun), Körpe <%51NDF",2.1800000000000002,1.34,84.3,18.399999999999999,49.6,41.1,32.9,0.56000000000000005,0.31]
["Çayır Kuru Otu , Soğuk Mevsim,Olgun >%60 NDF",0.7,0,0,0,0,10,"Dış İzolasyon",null,null,null,"Kuru-temiz","Kuru-temiz","Kuru-temiz","Kuru-temiz","GENEL",{"$f":"AF88","v":1.3940786896842012},null,null,null,null,"İnek Lak. Sonu","İNDİS",{"$f":"INDEX($AB$12:$AB$15,Z15)","v":1},"SATIR",{"$f":"MATCH(O15,AA12:AA15,0)","v":1},"Kar-çamur kaplı",0.2,null,null,null,null,null,"kuru","lak baş","lak ort","lak son",null,null,null,{"$f":"MATCH(A15,BA3:BA408,0)","v":9},0.84399999999999997,1.5614000000000001,0.93684000000000012,91.152000000000015,0,20.235744,3.9668000000000001,3.7136000000000005,25,69.099999999999994,null,"Çayır-Baklagil Kuru Otu , Olgun> %50 NDF",1,0.84299999999999997,1.5511200000000001,0.92730000000000001,144.99599999999998,null,33.639071999999999,5.0579999999999998,3.0347999999999997,35.200000000000003,53.6,0,"Çayır-Baklagil Kuru Otu , Olgun> %50 NDF",1.84,1.1000000000000001,84.3,17.2,53.6,35.200000000000003,23.2,0.6,0.36]
["Mısır Silajı, %33-40 KM",0.5,19.783390337966253,7.3481690318432387,0,10.14565302216235,30,"Rüzgar",null,null,"km/saat",1,1,1,1,null,null,null,null,null,null,null,null,null,null,null,null,null,null,null,null,null,null,{"$f":"(IF(AJ29>0,AJ29,AD34)*(268-(29.4*((0.0635*(POWER((0.96*0.891*(478/(0.96*L3))*(0.96*L3-20)),3/4)*(POWER((0.956*IF(AJ29>0,AJ29,AD34)),1.097))))/IF(AJ29>0,AJ29,AD34)))))/0.28908","v":123.8769732112702},{"$f":"((M4+0.00000001)/1000*(268-(29.4*((0.0635*(POWER((0.96*0.891*(478/(0.96*M3))*(0.96*M3-20)),3/4)*(POWER((0.956*(M4+0.00000001)/1000),1.097))))/(M4+0.00000001)/1000))))/0.28908","v":741.66278361209265},{"$f":"((N4+0.00000001)/1000*(268-(29.4*((0.0635*(POWER((0.96*0.891*(478/(0.96*N3))*(0.96*N3-20)),3/4)*(POWER((0.956*(N4+0.00000001)/1000),1.097))))/(N4+0.00000001)/1000))))/0.28908","v":231.76963360273106},{"$f":"(IF(AJ32>0,AJ32,AD34)*(268-(29.4*((0.0635*(POWER((0.96*0.891*(478/(0.96*O3))*(0.96*O3-20)),3/4)*(POWER((0.956*IF(AJ32>0,AJ32,AD34)),1.097))))/IF(AJ32>0,AJ32,AD34)))))/0.28908","v":83.398421675449967},null,null,null,{"$f":"MATCH(A16,BA3:BA408,0)","v":65},0.35499999999999998,0.72065000000000001,0.44020000000000004,25.914999999999999,0,8.759269999999999,0.92300000000000004,0.88749999999999996,29.8,51.6,null,"Çayır-Baklagil Kuru Otu, Olgun> %53 NDF",1,0.89700000000000002,1.6684200000000002,1.0046400000000002,163.25399999999999,null,27.589925999999995,10.405199999999999,3.2292000000000001,31.1,56,0,"Çayır-Baklagil Kuru Otu, Olgun> %53 NDF",1.86,1.1200000000000001,89.7,18.2,56,31.1,16.899999999999999,1.1599999999999999,0.36]
["MIsır Gluteni,63",10,0,1.5217748688129613,0,0,10,"Kıl Kalınlığı",null,null,"cm",0.8,1,0.8,0.67,"BİRİM YEM MALİYETİ(TL)",null,null,null,null,null,null,null,null,null,null,null,null,null,null,null,null,null,{"$f":"(IF(AJ29>0,AJ29,AD34)*(268-(29.4*((0.0635*(POWER((0.96*0.891*(478/(0.96*L3))*(0.96*L3-20)),3/4)*(POWER((0.956*IF(AJ29>0,AJ29,AD34)),1.097))))/IF(AJ29>0,AJ29,AD34)))))/0.28908","v":123.8769732112702},{"$f":"((M4+0.00000001)/1000*(268-(29.4*((0.0635*(POWER((0.96*0.891*(478/(0.96*M3))*(0.96*M3-20)),3/4)*(POWER((0.956*(M4+0.00000001)/1000),1.097))))/(M4+0.00000001)/1000))))/0.28908","v":741.66278361209265},{"$f":"((N4+0.00000001)/1000*(268-(29.4*((0.0635*(POWER((0.96*0.891*(478/(0.96*N3))*(0.96*N3-20)),3/4)*(POWER((0.956*(N4+0.00000001)/1000),1.097))))/(N4+0.00000001)/1000))))/0.28908","v":231.76963360273106},{"$f":"(IF(AJ32>0,AJ32,AD34)*(268-(29.4*((0.0635*(POWER((0.96*0.891*(478/(0.96*O3))*(0.96*O3-20)),3/4)*(POWER((0.956*IF(AJ32>0,AJ32,AD34)),1.097))))/IF(AJ32>0,AJ32,AD34)))))/0.28908","v":83.398421675449967},null,null,null,{"$f":"MATCH(A17,BA3:BA408,0)","v":94},0.86399999999999999,3.1622400000000006,2.0563199999999999,561.6,0,358.30080000000004,0.51839999999999997,5.1840000000000002,8.1999999999999993,11.1,null,"Çayır-Baklagil Kuru Otu, Olgun> %57 NDF",1,0.84699999999999998,1.6262399999999999,0.98251999999999995,112.651,null,19.713925,9.1476000000000006,2.9645000000000001,30.8,62.5,0,"Çayır-Baklagil Kuru Otu, Olgun> %57 NDF",1.92,1.1599999999999999,84.7,13.3,62.5,30.8,17.5,1.08,0.35]
["Yağ, Bitkisel",15,1,0.27341675757779454,0,0.13137079639662147,1,"Mevcut Çevre Isısı",null,null,"0C",-25,5,18,5,null,null,null,null,null,null,"YPMP","BüyümeMP","GebelikMP","VerimMP","YPME","toplamMP","%SP",null,"İnek Kuru","İnek lak başı","İnek lak ortası","İnek lak sonu",{"$f":"(IF(AJ29>0,AJ29,AD34)*(268-(29.4*((0.0635*(POWER((0.96*0.891*(478/(0.96*L3))*(0.96*L3-20)),3/4)*(POWER((0.956*IF(AJ29>0,AJ29,AD34)),1.097))))/IF(AJ29>0,AJ29,AD34)))))/0.28908","v":123.8769732112702},{"$f":"((M4+0.00000001)/1000*(268-(29.4*((0.0635*(POWER((0.96*0.891*(478/(0.96*M3))*(0.96*M3-20)),3/4)*(POWER((0.956*(M4+0.00000001)/1000),1.097))))/(M4+0.00000001)/1000))))/0.28908","v":741.66278361209265},{"$f":"((N4+0.00000001)/1000*(268-(29.4*((0.0635*(POWER((0.96*0.891*(478/(0.96*N3))*(0.96*N3-20)),3/4)*(POWER((0.956*(N4+0.00000001)/1000),1.097))))/(N4+0.00000001)/1000))))/0.28908","v":231.76963360273106},{"$f":"(IF(AJ32>0,AJ32,AD34)*(268-(29.4*((0.0635*(POWER((0.96*0.891*(478/(0.96*O3))*(0.96*O3-20)),3/4)*(POWER((0.956*IF(AJ32>0,AJ32,AD34)),1.097))))/IF(AJ32>0,AJ32,AD34)))))/0.28908","v":83.398421675449967},null,null,null,{"$f":"MATCH(A18,BA3:BA408,0)","v":132},1,7.07,5.65,0,0,0,0,0,0,0,null,"Çayır-Baklagil Kuru Otu, Orta Olgun, %47-53 NDF",1,0.85299999999999998,1.7486499999999998,1.0662499999999999,156.95199999999997,null,28.565263999999992,8.7005999999999997,2.9002000000000003,31.8,50.8,0,"Çayır-Baklagil Kuru Otu, Orta Olgun, %47-53 NDF",2.0499999999999998,1.25,85.3,18.399999999999999,50.8,31.8,18.2,1.02,0.34]
["Kalsiyum Karbonat, CaCO3",1,9.600953258870738E-3,0,8.6617782495970574E-2,4.275646847673481E-2,10,"Önceden Maruz Kaldığı Çevre Isısı",null,null,"0C",5,-25,5,18,"Kuru",{"$f":"AB87","v":1.0187037383167126},null,null,null,"İnek Kuru",{"$f":"3.8*POWER(L3,0.75)","v":517.13880392251406},{"$f":"AH20","v":123.8769732112702},{"$f":"IF(H2>180,((((0.69*H2)-69.2)*K2/45)/0.33),0)","v":0},null,{"$f":"0.133*(POWER((L3-IF(H2>180,V27,0)),3/4))","v":18.099858137287995},{"$f":"V19+W19+X19+Y19","v":641.01577713378424},null,"yemmph",{"$f":"C27*36.5","v":1127.7674059364733},{"$f":"F27*36.5","v":1995.4443400389441},{"$f":"I27*36.5","v":1807.2809890326519},{"$f":"L27*36.5","v":1333.2450581288545},{"$f":"MATCH(J2,AC10:AC12,0)","v":3},{"$f":"MATCH(J2,AC10:AC12,0)","v":3},{"$f":"MATCH(J2,AC10:AC12,0)","v":3},{"$f":"MATCH(J2,AC10:AC12,0)","v":3},null,null,null,{"$f":"MATCH(A19,BA3:BA408,0)","v":230},1,0,0,0,0,0,390,0.4,0,0,null,"Çayır-Baklagil Silajı, Orta Olgun> %51-57 NDF",1,0.873,1.8071099999999998,1.09998,151.90199999999999,null,42.988265999999996,9.2538,2.8809,42.1,55.1,0,"Çayır-Baklagil Silajı, Orta Olgun> %51-57 NDF",2.0699999999999998,1.26,87.3,17.399999999999999,55.1,42.1,28.3,1.06,0.33]
["Amonyum Fosfat (Monobazik), (NH4) 2HPO4",1,2.0880961562422567E-2,0,8.5831083183124809E-2,8.2821304805933069E-2,10,"Meradan Ahıra Olan Mesafe",null,null,"m",null,null,1000,null,null,null,null,null,null,"İnek Lak. Başı",{"$f":"3.8*POWER(M3,0.75)","v":401.80108010741441},{"$f":"AI20","v":741.66278361209265},null,{"$f":"M6*AB20*15.3","v":1514.7},{"$f":"0.133*(POWER(M3,3/4))","v":14.063037803759507},{"$f":"V20+W20+X20+Y20","v":2658.1638637195074},{"$f":"1.9+0.4*M7","v":3.3},"yemmphp",{"$f":"(C29-C32)","v":620.27237074303207},{"$f":"F29-F32","v":3003.3400385987452},{"$f":"I29-I32","v":3068.7844882103841},{"$f":"L29-L32","v":1530.3788777436564},{"$f":"INDEX($AH$16:$AH$18,J2)","v":123.8769732112702},{"$f":"INDEX($AI$16:$AI$18,J2)","v":741.66278361209265},{"$f":"INDEX($AJ$16:$AJ$18,J2)","v":231.76963360273106},{"$f":"INDEX($AK$16:$AK$18,J2)","v":83.398421675449967},null,null,null,{"$f":"MATCH(A20,BA3:BA408,0)","v":219},1,0,0,709.00000000000011,0,0,2.8000000000000003,247.4,0,0,null,"Çayır-Baklagil Silajı, Orta Olgun> %44-50 NDF",1,0.84199999999999997,1.7008400000000001,1.03566,160.82200000000003,null,42.457008000000002,9.8513999999999999,2.7786,41.6,47.2,0,"Çayır-Baklagil Silajı, Orta Olgun> %44-50 NDF",2.02,1.23,84.2,19.100000000000001,47.2,41.6,26.4,1.17,0.33]
[null,null,null,"Kuru Dönemde İnek  Sayısı (Baş)",null,null,null,"Meradan Ahıra Günlük Seyahat Sayısı",null,null,"adet",null,null,2,null,"Lakt. başı",{"$f":"AC87","v":2.383601052225274},null,null,null,"İnek Lak. Ortası",{"$f":"3.8*POWER(N3,0.75)","v":437.44616838215308},{"$f":"AJ20","v":231.76963360273106},null,{"$f":"N6*AB21*15.3","v":1292.8500000000001},{"$f":"0.133*(POWER(N3,3/4))","v":15.31061589337536},{"$f":"V21+W21+X21+Y21","v":1962.0658019848843},{"$f":"1.9+0.4*N7","v":3.38},null,null,null,null,null,null,null,null,null,null,null,null,null,null,null,null,null,null,null,null,null,null,null,null,"Fiğ Kuru Otu",1,0.91,1.9565000000000001,1.2285000000000001,159.25,null,28.028000000000002,12.467000000000002,2.73,31.4,42.9,0,"Fiğ Kuru Otu",2.15,1.35,91,17.5,42.9,31.4,17.600000000000001,1.37,0.3]
[null,null,null,null,null,null,null,"Merada otluyormu?",null,null,null,"hayır","hayır","evet","hayır",null,null,null,null,null,"İnek Lak. Sonu",{"$f":"3.8*POWER(O3,0.75)","v":460.67753506626991},{"$f":"AK20","v":83.398421675449967},{"$f":"IF(I2>180,((((0.69*H2)-69.2)*K2/45)/0.33),0)","v":-186.39730639730638},{"$f":"O6*AB22*15.3","v":794.07},{"$f":"0.133*(POWER((O3-IF(I2>180,W27,0)),3/4))","v":15.237659309753283},{"$f":"V22+W22+Y22+IF(H2>180,X22,0)","v":1338.1459567417201},{"$f":"1.9+0.4*O7","v":3.46},1,"TAMAM",null,null,null,null,null,null,null,null,null,null,null,"İnek Kuru","İnek lak başı","İnek lak ortası","İnek lak sonu",null,null,null,null,null,null,null,"Fiğ Kuru Otu, Erken Biçim",1,0.91,2.1111999999999997,1.2557999999999998,184.73,null,32.512480000000004,12.467000000000002,2.73,31.4,42.9,0,"Fiğ Kuru Otu, Erken Biçim",2.3199999999999998,1.38,91,20.3,42.9,31.4,17.600000000000001,1.37,0.3]
[null,null,null,100,null,null,null,"Mera eğimi  varmı?",null,null,null,"yok","yok","yok","yok","Lak. Ort",{"$f":"AD87","v":0.22780036976148263},null,null,null,null,null,null,null,null,null,null,null,1,"FAZLA",null,null,null,null,null,null,null,null,null,null,null,{"$f":"C26/$B26","v":1.0000000000000047},{"$f":"F26/E26","v":1},{"$f":"I26/H26","v":1},{"$f":"L26/K26","v":1.0000000013520514},null,null,null,null,null,null,null,"Fiğ Kuru Otu, Geç Biçim",1,0.91,1.8018000000000001,1.1830000000000001,146.51000000000002,null,22.855560000000001,12.467000000000002,2.73,31.4,42.9,0,"Fiğ Kuru Otu, Geç Biçim",1.98,1.3,91,16.100000000000001,42.9,31.4,15.6,1.37,0.3]
[null,"Kuru Dönem (bir baş için)",null,null,"Lakt. Başı (bir baş için)",null,null,"Lak. Ortası (bir baş için)",null,null,"Lak. Sonu (bir baş için)",null,null,"NET GELİR (TL)",null,null,null,null,null,null,null,null,null,null,null,null,null,null,2,"EKSİK",null,null,null,null,null,null,null,null,null,null,null,0.852631484147233,{"$f":"F27/E27","v":0.88740435909464344},{"$f":"I27/H27","v":0.95377326679953567},{"$f":"L27/K27","v":0.90799329950693464},null,null,null,null,null,null,null,"Karışık Çayır-Baklagil Kuru Otu,Körpe<%47NDF",1,0.83099999999999996,1.8281999999999998,1.12185,163.70699999999999,null,29.303552999999997,9.9719999999999978,2.5760999999999998,30.8,45.4,0,"Karışık Çayır-Baklagil Kuru Otu,Körpe<%47NDF",2.2000000000000002,1.35,83.1,19.7,45.4,30.8,17.899999999999999,1.2,0.31]
[null,"İHTİYAÇ","RASYON",null,"İHTİYAÇ","RASYON",null,"İHTİYAÇ","RASYON",null,"İHTİYAÇ","RASYON",null,null,null,"Lak. sonu",{"$f":"AE87","v":1.262096786665581},null,null,null,null,null,null,null,null,null,null,null,null,null,null,null,null,null,null,null,null,null,null,null,null,0.90990549047121894,{"$f":"F28/E28","v":0.99999999999999922},{"$f":"I28/H28","v":1},{"$f":"L28/K28","v":1.0000000000322118},null,null,null,null,null,null,null,"Köpek Dişi (Bermudagrass) Kuru Otu, Başak, Başı",1,0.871,1.5068299999999999,0.88841999999999999,90.583999999999989,null,25.001183999999999,4.2678999999999991,2.3517000000000001,36.799999999999997,73.3,0,"Köpek Dişi (Bermudagrass) Kuru Otu, Başak, Başı",1.73,1.02,87.1,10.4,73.3,36.799999999999997,27.6,0.49,0.27]
["KM (kg/gün)",{"$f":"V29","v":14.700000000000001},{"$f":"C3*AP3+C4*AP4+C5*AP5+C6*AP6+C7*AP7+C8*AP8+C9*AP9+C10*AP10+C11*AP11+C12*AP12+C13*AP13+C14*AP14+C15*AP15+C16*AP16+C17*AP17+C18*AP18+C19*AP19+C20*AP20","v":14.70000000000007},{"$f":"IF(AP23<$AQ$37,$AR$39,IF(AND(AP23>$AQ$38),$AR$38,IF(AND(AP23=$AQ$38),$AR$37,IF(AND(AP23=$AQ$37),$AR$37,IF(AND(AP23<$AQ$38,AP23>$AQ$37),$AR$37,0)))))","v":"TAMAM"},{"$f":"V30","v":18.05},{"$f":"D3*AP3+D4*AP4+D5*AP5+D6*AP6+D7*AP7+D8*AP8+D9*AP9+D10*AP10+D11*AP11+D12*AP12+D13*AP13+D14*AP14+D15*AP15+D16*AP16+D17*AP17+D18*AP18+D19*AP19+D20*AP20","v":18.05},{"$f":"IF(AQ23<$AQ$37,$AR$39,IF(AND(AQ23>$AQ$38),$AR$38,IF(AND(AQ23=$AQ$38),$AR$37,IF(AND(AQ23=$AQ$37),$AR$37,IF(AND(AQ23<$AQ$38,AQ23>$AQ$37),$AR$37,0)))))","v":"TAMAM"},{"$f":"V31","v":18.774999999999999},{"$f":"E3*AP3+E4*AP4+E5*AP5+E6*AP6+E7*AP7+E8*AP8+E9*AP9+E10*AP10+E11*AP11+E12*AP12+E13*AP13+E14*AP14+E15*AP15+E16*AP16+E17*AP17+E18*AP18+E19*AP19+E20*AP20","v":18.774999999999999},{"$f":"IF(AR23<$AQ$37,$AR$39,IF(AND(AR23>$AQ$38),$AR$38,IF(AND(AR23=$AQ$38),$AR$37,IF(AND(AR23=$AQ$37),$AR$37,IF(AND(AR23<$AQ$38,AR23>$AQ$37),$AR$37,0)))))","v":"TAMAM"},{"$f":"V32","v":12.866197444444444},{"$f":"F3*AP3+F4*AP4+F5*AP5+F6*AP6+F7*AP7+F8*AP8+F9*AP9+F10*AP10+F11*AP11+F12*AP12+F13*AP13+F14*AP14+F15*AP15+F16*AP16+F17*AP17+F18*AP18+F19*AP19+F20*AP20","v":12.866197461840203},{"$f":"IF(AS23<$AQ$37,$AR$39,IF(AND(AS23>$AQ$38),$AR$38,IF(AND(AS23=$AQ$38),$AR$37,IF(AND(AS23=$AQ$37),$AR$37,IF(AND(AS23<$AQ$38,AS23>$AQ$37),$AR$37,0)))))","v":"TAMAM"},{"$f":"'NET GELİR'!E7","v":560375.49766731751},null,null,null,null,null,null,null,"Kuru","Lak Sonu",null,null,null,null,null,null,null,null,null,"KURU",null,null,null,null,null,null,null,null,0.6399930882249012,{"$f":"F29/E29","v":1.2982769578921218},{"$f":"I29/H29","v":1.4951321415980392},{"$f":"L29/K29","v":1.1339489341484215},null,null,null,null,null,null,null,"Köpek Dişi (Bermudagrass,Tifton-85) Kuru Otu, 3-4",1,0.873,1.6237800000000002,0.97776000000000007,119.601,null,32.770674,3.4046999999999996,1.9205999999999999,36.200000000000003,76.900000000000006,0,"Köpek Dişi (Bermudagrass,Tifton-85) Kuru Otu, 3-4",1.86,1.1200000000000001,87.3,13.7,76.900000000000006,36.200000000000003,27.4,0.39,0.22]
["ME (Mcal/gün)",{"$f":"X29","v":36.238090808770828},{"$f":"C3*AQ3+C4*AQ4+C5*AQ5+C6*AQ6+C7*AQ7+C8*AQ8+C9*AQ9+C10*AQ10+C11*AQ11+C12*AQ12+C13*AQ13+C14*AQ14+C15*AQ15+C16*AQ16+C17*AQ17+C18*AQ18+C19*AQ19+C20*AQ20","v":30.897737148944472},"EKSİK",{"$f":"X30","v":61.606309892423916},{"$f":"D3*AQ3+D4*AQ4+D5*AQ5+D6*AQ6+D7*AQ7+D8*AQ8+D9*AQ9+D10*AQ10+D11*AQ11+D12*AQ12+D13*AQ13+D14*AQ14+D15*AQ15+D16*AQ16+D17*AQ17+D18*AQ18+D19*NQ19+D20*AQ20","v":54.669707946272439},"EKSİK",{"$f":"X31","v":51.914379830418511},{"$f":"E3*AQ3+E4*AQ4+E5*AQ5+E6*AQ6+E7*AQ7+E8*AQ8+E9*AQ9+E10*AQ10+E11*AQ11+E12*AQ12+E13*AQ13+E14*AQ14+E15*AQ15+E16*AQ16+E17*AQ17+E18*AQ18+E19*AQ19+E20*AQ20","v":49.514547644730186},"TAMAM",{"$f":"X32","v":40.228558830091885},{"$f":"F3*AQ3+F4*AQ4+F5*AQ5+F6*AQ6+F7*AQ7+F8*AQ8+F9*AQ9+F10*AQ10+F11*AQ11+F12*AQ12+F13*AQ13+F14*AQ14+F15*AQ15+F16*AQ16+F17*AQ17+F18*AQ18+F19*AQ19+F20*AQ20","v":36.527261866543959},"TAMAM",null,null,"GENEL",{"$f":"AF87","v":0.9427275389997406},null,null,null,"Fötüs ağırlığı",{"$f":"1.7111*K2-(280-H2)*0.7*K2/45","v":-105.77822222222223},{"$f":"1.7111*K2-(280-I2)*0.7*K2/45","v":43.555111111111117},null,null,null,"ME sıcaklık stres",null,null,null,"önceki sıcaklık NE",null,"1.lak","2.lak","NE Süt verimi ",null,null,null,null,null,null,1.0000000000000095,0.999999999999998,1,0.99999999943195284,null,null,null,null,null,null,null,"Mercimek Samanı",1,0.92900000000000005,1.6629100000000003,0.83610000000000018,65.03,null,32.515000000000001,21.459900000000001,1.3006000000000002,39.799999999999997,60.6,0,"Mercimek Samanı",1.79,0.9,92.9,7,60.6,39.799999999999997,50,2.31,0.14000000000000001]
["Nel (Mcal/gün)",{"$f":"Y29","v":21.770072317047894},{"$f":"C3*AR3+C4*AR4+C5*AR5+C6*AR6+C7*AR7+C8*AR8+C9*AR9+C10*AR10+C11*AR11+C12*AR12+C13*AR13+C14*AR14+C15*AR15+C16*AR16+C17*AR17+C18*AR18+C19*AR19+C20*AR20","v":19.808708329237369},"TAMAM",{"$f":"Y30","v":36.984933360723154},{"$f":"D3*AR3+D4*AR4+D5*AR5+D6*AR6+D7*AR7+D8*AR8+D9*AR9+D10*AR10+D11*AR11+D12*AR12+D13*AR13+D14*AR14+D15*AR15+D16*AR16+D17*AR17+D18*AR18+D19*AR19+D20*AR20","v":36.984933360723126},"TAMAM",{"$f":"Y31","v":31.283651380797536},{"$f":"E3*AR3+E4*AR4+E5*AR5+E6*AR6+E7*AR7+E8*AR8+E9*AR9+E10*AR10+E11*AR11+E12*AR12+E13*AR13+E14*AR14+E15*AR15+E16*AR16+E17*AR17+E18*AR18+E19*AR19+E20*AR20","v":31.283651380797536},"TAMAM",{"$f":"Y32","v":24.160049071453255},{"$f":"F3*AR3+F4*AR4+F5*AR5+F6*AR6+F7*AR7+F8*AR8+F9*AR9+F10*AR10+F11*AR11+F12*AR12+F13*AR13+F14*AR14+F15*AR15+F16*AR16+F17*AR17+F18*AR18+F19*AR19+F20*AR20","v":24.160049072231494},"TAMAM","1 KG HAYVANSAL PROTEİN İÇİN TÜKETİLEN YEM METABOLİK  ENERJİSİ (MJ)",null,null,null,null,null,null,null,"KM","ME","ME","NE","Nem",28,31,"Sıcaklık stres","SCSTME",null,"NE gebelik","NE büyüme","NE büyüme",null,null,null,null,null,null,null,0.46894754118469789,0.88740435909464355,0.95377326679953567,0.90799329950693464,null,null,null,null,null,null,null,"Nohut Samanı",1,0.90400000000000003,1.3198400000000001,0.74128000000000005,48.81600000000001,null,24.408000000000005,8.4976000000000003,1.4464000000000001,46.9,65.599999999999994,0,"Nohut Samanı",1.46,0.82,90.4,5.4,65.599999999999994,46.9,50,0.94,0.16]
["HP (g/gün)",{"$f":"B31+B32","v":1322.7003145201352},{"$f":"C3*AS3+C4*AS4+C5*AS5+C6*AS6+C7*AS7+C8*AS8+C9*AS9+C10*AS10+C11*AS11+C12*AS12+C13*AS13+C14*AS14+C15*AS15+C16*AS16+C17*AS17+C18*AS18+C19*AS19+C20*AS20","v":846.51905908578942},"EKSİK",{"$f":"E32+E31","v":3591.2334592933621},{"$f":"D3*AS3+D4*AS4+D5*AS5+D6*AS6+D7*AS7+D8*AS8+D9*AS9+D10*AS10+D11*AS11+D12*AS12+D13*AS13+D14*AS14+D15*AS15+D16*AS16+D17*AS17+D18*AS18+D19*AS19+D20*AS20","v":4662.415650611787},"FAZLA",{"$f":"H32+H31","v":2592.0190996488127},{"$f":"E3*AS3+E4*AS4+E5*AS5+E6*AS6+E7*AS7+E8*AS8+E9*AS9+E10*AS10+E11*AS11+E12*AS12+E13*AS13+E14*AS14+E15*AS15+E16*AS16+E17*AS17+E18*AS18+E19*AS19+E20*AS20","v":3875.4110675209508},"FAZLA",{"$f":"K32+K31","v":1723.7774580843488},{"$f":"F3*AS3+F4*AS4+F5*AS5+F6*AS6+F7*AS7+F8*AS8+F9*AS9+F10*AS10+F11*AS11+F12*AS12+F13*AS13+F14*AS14+F15*AS15+F16*AS16+F17*AS17+F18*AS18+F19*AS19+F20*AS20","v":1954.6756113038227},"FAZLA",null,null,"BİRİM YEM KM MALİYETİ (TL)",null,null,null,null,"İnek Kuru",{"$f":"0.021*(L3-IF(H2>180,V27,0))","v":14.700000000000001},{"$f":"Z19+AD7+AI29/AD36","v":21.233103111887637},{"$f":"W29+AE29/AD36+IF(L20>0,AF36/AD36,0)+AH36/AD36+AE41+AE36/AD36","v":36.238090808770828},{"$f":"Z29+AH7+AE29+AE36+IF(L20>0,AF36,0)+AH36+AH41","v":21.770072317047894},{"$f":"(0.08*POWER((L3-IF(H2>180,V27,0)),3/4))","v":10.887132714158193},{"$f":"Z29*AC29/AD36","v":1.2701654833184559},{"$f":"Z29*AC30/AD36","v":3.2661398142474578},7.0000000000000007E-2,{"$f":"IF(L18<$AB$36,$AC$36,IF(AND(L18=$AA$28),$AA$29,IF(AND($AA$28<L18,L18<$AB$28),$AA$29,IF(AND($AB$28=L18),$AB$29,IF(AND(L18>$AB$28),$AB$29,0)))))","v":12.623427415661089},{"$f":"(0.0007*(20-L19))*POWER(L3,0.75)","v":1.4289361687332629},{"$f":"IF(H2>180,(((0.00318*H2-0.0352)*(K2/45))/0.218),0)","v":0},{"$f":"0.0635*(POWER(0.96*((L3-IF(H2>180,V27,0)-K2)),3/4))*(POWER(0.956*IF(AJ29>0,AJ29,0),1.097))","v":1.8799469847597845},{"$f":"0.0635*(POWER(0.96*((L3-IF(H2>180,V27,0)-K2)),3/4))*(POWER(0.956*IF(AJ29>0,AJ29,0),1.097))","v":1.8799469847597845},null,{"$f":"(((L4+1)-700*K2/45))/1000","v":0.27877777777777785},null,null,null,null,null,22624.66883427573,1.2357155680833554,1.157044034568173,1.6610747649698889,null,null,null,null,null,null,null,"Sorgum, Sudan Kuru Otu",1,0.86499999999999999,1.5310499999999998,0.90825,81.31,null,33.66234,4.6710000000000003,1.73,40,64.8,0,"Sorgum, Sudan Kuru Otu",1.77,1.05,86.5,9.4,64.8,40,41.4,0.54,0.2]
["Metabolik Protein",{"$f":"AA19","v":641.01577713378424},{"$f":"C31*0.8+C32*0.64","v":641.01577713379038},"TAMAM",{"$f":"AA20","v":2658.1638637195074},{"$f":"F31*0.8+F32*0.64","v":2658.1638637195019},"TAMAM",{"$f":"AA21","v":1962.0658019848843},{"$f":"I31*0.8+I32*0.64","v":1962.0658019848843},"TAMAM",{"$f":"AA22","v":1338.1459567417201},{"$f":"L31*0.8+L32*0.64","v":1338.1459559815901},"TAMAM",{"$f":"HESAP!FY9","v":407.42325172630717},null,null,null,null,null,null,"İnek Lak. Başı",{"$f":"0.025*M3+0.2*M6*(0.4+0.15*M7)","v":18.05},{"$f":"Z20+AE7+AI30/AD37","v":56.05511075936095},{"$f":"W30+AE30/AD36+IF(M20>0,AF37/AD37,0)+AH37/AD37+AE42+AE37/AD37","v":61.606309892423916},{"$f":"Z30+AI7+AI30+AE30+AE37+IF(M20>0,AF37,0)+AH37+AH42","v":36.984933360723154},{"$f":"(0.08*POWER(M3,3/4))","v":8.4589701075245145},{"$f":"Z30*AC29/AD37","v":0.98687984587786015},{"$f":"Z30*AC30/AD37","v":2.5376910322573543},0.18,{"$f":"IF(M18<$AB$37,$AC$37,IF(AND(M18=$AA$28),$AA$30,IF(AND($AA$28<M18,M18<$AB$28),$AA$30,IF(AND($AB$28=M18),$AB$30,IF(AND(M18>$AB$28),$AB$30,0)))))","v":0},{"$f":"(0.0007*(20-M19))*POWER(M3,0.75)","v":3.3307194798377777},null,{"$f":"0.0635*(POWER(0.96*(M3-K2),3/4))*(POWER(0.956*M4/1000,1.097))","v":4.5582437733608652},{"$f":"0.0635*(POWER(0.96*(M3-K2),3/4))*(POWER(0.956*M4/1000,1.097))","v":4.5582437733608652},{"$f":"M6*(0.3512+0.0962*M7)","v":20.637},null,null,null,null,null,null,0.99999999999999922,0.99999999999999956,1,0.99999999788309613,null,null,null,null,null,null,null,"Yerfıstığı Sapı",1,0.89,1.7978000000000001,1.1125,97.9,null,27.803600000000003,10.946999999999999,1.5130000000000001,35,60,0,"Yerfıstığı Sapı",2.02,1.25,89,11,60,35,28.4,1.23,0.17]
["Rumende Yıkılabilir protein (g/gün)",{"$f":"X29*36.5","v":1322.6903145201352},{"$f":"IF(AD19<AD20,AD19,AD20)","v":620.27237074303207},"EKSİK",{"$f":"X30*36.5","v":2248.630311073473},{"$f":"IF(AE19<AE20,AE19,AE20)","v":1995.4443400389441},"EKSİK",{"$f":"X31*36.5","v":1894.8748638102757},{"$f":"IF(AF19<AF20,AF19,AF20)","v":1807.2809890326519},"TAMAM",{"$f":"X32*36.5","v":1468.3423972983537},{"$f":"IF(AG19<AG20,AG19,AG20)","v":1333.2450581288545},"TAMAM","1 KG HAYVANSAL PROTEİN İÇİN METAN SALINIMI (MJ)",null,"Kuru",{"$f":"AH87","v":1.4874313576469782},null,null,null,"İnek Lak. Ortası",{"$f":"0.025*N3+0.2*N6*(0.4+0.15*N7)","v":18.774999999999999},{"$f":"Z21+AF7+AI31/AD38","v":47.099825107605966},{"$f":"W31+AE31/AD36+IF(N20>0,AF38/AD38,0)+AH38/AD38+AE43+AE38/AD38","v":51.914379830418511},{"$f":"Z31+AJ7+AI31+AE31+AE38+IF(N20>0,AF38,0)+AH38+AH43","v":31.283651380797536},{"$f":"(0.08*POWER(N3,3/4))","v":9.2093930185716442},{"$f":"Z31*AC29/AD38","v":1.0744291855000252},{"$f":"Z31*AC30/AD38","v":2.762817905571493},null,{"$f":"IF(N18<$AB$38,$AC$38,IF(AND(N18=$AA$28),$AA$31,IF(AND($AA$28<N18,N18<$AB$28),$AA$31,IF(AND($AB$28=N18),$AB$31,IF(AND(N18>$AB$28),$AB$31,0)))))","v":0},{"$f":"(0.0007*(20-N19))*POWER(N3,0.75)","v":1.2087328336875285},null,{"$f":"0.0635*(POWER(0.96*(N3-K2),3/4))*(POWER(0.956*N4/1000,1.097))","v":1.395025528538363},{"$f":"0.0635*(POWER(0.96*(N3-K2),3/4))*(POWER(0.956*N4/1000,1.097))","v":1.395025528538363},{"$f":"N6*(0.3512+0.0962*N7)","v":17.6785},null,null,null,null,null,null,1.6384039900251015,1.5802023121387874,1.5700376189422416,1.5455720387321235,null,null,null,null,null,null,null,"Yonca Kuru Otu, 1. Kalite >%21 HP,     <%37 NDF",1,0.84599999999999997,1.7427599999999999,1.0659599999999998,192.80339999999998,null,37.789466400000002,11.928599999999999,1.8611999999999997,27.2,36.799999999999997,0,"Yonca Kuru Otu, 1. Kalite >%21 HP,     <%37 NDF",2.06,1.26,84.6,22.79,36.799999999999997,27.2,19.600000000000001,1.41,0.22]
["Rumende Yıkıma Dirençli Protein (g/gün)",{"$f":"IF((B30-B31*0.8)/0.64>0,((B30-B31*0.8)/0.64),0)+0.01","v":0.01},{"$f":"C3*AU3+C4*AU4+C5*AU5+C6*AU6+C7*AU7+C8*AU8+C9*AU9+C10*AU10+C11*AU11+C12*AU12+C13*AU13+C14*AU14+C15*AU15+C16*AU16+C17*AU17+C18*AU18+C19*AU19+C20*AU20","v":226.2466883427573},"FAZLA",{"$f":"IF((E30-E31*0.8)/0.64>0,(E30-E31*0.8)/0.64,0)+0.01","v":1342.6031482198891},{"$f":"D3*AU3+D4*AU4+D5*AU5+D6*AU6+D7*AU7+D8*AU8+D9*AU9+D10*AU10+D11*AU11+D12*AU12+D13*AU13+D14*AU14+D15*AU15+D16*AU16+D17*AU17+D18*AU18+D19*AU19+D20*AU20","v":1659.0756120130418},"FAZLA",{"$f":"IF((H30-H31*0.8)/0.64>0,(H30-H31*0.8)/0.64,0)+0.01","v":697.14423583853704},{"$f":"E3*AU3+E4*AU4+E5*AU5+E6*AU6+E7*AU7+E8*AU8+E9*AU9+E10*AU10+E11*AU11+E12*AU12+E13*AU13+E14*AU14+E15*AU15+E16*AU16+E17*AU17+E18*AU18+E19*AU19+E20*AU20","v":806.62657931056674},"FAZLA",{"$f":"IF((K30-K31*0.8)/0.64>0,(K30-K31*0.8)/0.64,0)+0.01","v":255.4350607859952},{"$f":"F3*AU3+F4*AU4+F5*AU5+F6*AU6+F7*AU7+F8*AU8+F9*AU9+F10*AU10+F11*AU11+F12*AU12+F13*AU13+F14*AU14+F15*AU15+F16*AU16+F17*AU17+F18*AU18+F19*AU19+F20*AU20","v":424.29673356016627},"FAZLA",null,null,null,null,null,null,null,"İnek Lak. Sonu",{"$f":"0.023*(O3-IF(I2>180,W27,0)+0.2*O6*(0.4+0.15*O7))","v":12.866197444444444},{"$f":"Z22+AG7+AI32/AD39","v":39.945686659437158},{"$f":"W32+AE32/AD36+IF(O20>0,AF39/AD39,0)+AH39/AD39+AE44+AE39/AD39","v":40.228558830091885},{"$f":"Z32+AK7+AI32+AE32+AE39+IF(O20>0,AF39,0)+AH39+AH44","v":24.160049071453255},{"$f":"(0.08*POWER((O3-IF(I2>180,W27,0)),3/4))","v":9.1655093592500947},{"$f":"Z32*AC29/AD39","v":1.0693094252458444},{"$f":"Z32*AC30/AD39","v":2.7496528077750284},null,{"$f":"IF(O18<$AB$39,$AC$39,IF(AND(O18=$AA$28),$AA$32,IF(AND($AA$28<O18,O18<$AB$28),$AA$32,IF(AND($AB$28=O18),$AB$32,IF(AND(O18>$AB$28),$AB$32,0)))))","v":0},{"$f":"(0.0007*(20-O19))*POWER(O3,0.75)","v":0.16972330239283628},{"$f":"IF(I2>180,(((0.00318*I2-0.0352)*(K2/45))/0.218),0)","v":2.968399592252803},{"$f":"0.0635*(POWER(0.96*((O3-IF(I2>180,W27,0)-K2)),3/4))*(POWER(0.956*IF(AJ32>0,AJ32,0),1.097))","v":0.96071681755752092},{"$f":"0.0635*(POWER(0.96*((O3-IF(I2>180,W27,0)-K2)),3/4))*(POWER(0.956*IF(AJ32>0,AJ32,0),1.097))","v":0.96071681755752092},{"$f":"O6*(0.3512+0.0962*O7)","v":10.8957},{"$f":"(((O4+1)-700*K2/45))/1000","v":0.17877777777777784},null,null,null,null,null,null,null,null,null,null,null,null,null,null,null,null,"Yonca Kuru Otu, 2. Kalite  %19-21 HP, <%37-40 NDF",1,0.87970000000000004,1.741806,1.0556399999999999,177.6994,null,51.710525400000009,12.403769999999998,1.9353400000000001,29.4,39.6,0,"Yonca Kuru Otu, 2. Kalite  %19-21 HP, <%37-40 NDF",1.98,1.2,87.97,20.2,39.6,29.4,29.1,1.41,0.22]
["Ca (g/gün)",{"$f":"0.0657*L3","v":45.989999999999995},{"$f":"C3*AV3+C4*AV4+C5*AV5+C6*AV6+C7*AV7+C8*AV8+C9*AV9+C10*AV10+C11*AV11+C12*AV12+C13*AV13+C14*AV14+C15*AV15+C16*AV16+C17*AV17+C18*AV18+C19*AV19+C20*AV20","v":45.989999999999959},"TAMAM",{"$f":"0.0405*M3+M6*(1.29+0.48*M7)","v":109.35},{"$f":"D3*AV3+D4*AV4+D5*AV5+D6*AV6+D7*AV7+D8*AV8+D9*AV9+D10*AV10+D11*AV11+D12*AV12+D13*AV13+D14*AV14+D15*AV15+D16*AV16+D17*AV17+D18*AV18+D19*AV19+D20*AV20","v":109.34999999999995},"TAMAM",{"$f":"0.0405*N3+N6*(1.29+0.48*N7)","v":99.329999999999984},{"$f":"E3*AV3+E4*AV4+E5*AV5+E6*AV6+E7*AV7+E8*AV8+E9*AV9+E10*AV10+E11*AV11+E12*AV12+E13*AV13+E14*AV14+E15*AV15+E16*AV16+E17*AV17+E18*AV18+E19*AV19+E20*AV20","v":99.329999999999984},"TAMAM",{"$f":"0.0405*O3+O6*(1.29+0.48*O7)","v":71.73},{"$f":"F3*AV3+F4*AV4+F5*AV5+F6*AV6+F7*AV7+F8*AV8+F9*AV9+F10*AV10+F11*AV11+F12*AV12+F13*AV13+F14*AV14+F15*AV15+F16*AV16+F17*AV17+F18*AV18+F19*AV19+F20*AV20","v":71.729999848154492},"TAMAM",{"$f":"HESAP!GH9","v":31.164142654532},null,"Lakt. başı",{"$f":"AI87","v":2.79653885070022},null,null,null,null,null,null,null,null,null,null,null,null,null,null,null,null,null,null,null,null,null,null,null,null,null,null,null,null,null,null,null,null,null,null,null,"Yonca Kuru Otu, 3. Kalite  %17-19 HP, <%40-44 NDF",1,0.9081999999999999,1.7528259999999998,1.0353479999999999,162.84026,null,51.131841640000005,12.44234,1.99804,32.299999999999997,43.4,0,"Yonca Kuru Otu, 3. Kalite  %17-19 HP, <%40-44 NDF",1.93,1.1399999999999999,90.82,17.93,43.4,32.299999999999997,31.4,1.37,0.22]
["P (g/gün)",{"$f":"0.0401*L3","v":28.069999999999997},{"$f":"C3*AW3+C4*AW4+C5*AW5+C6*AW6+C7*AW7+C8*AW8+C9*AW9+C10*AW10+C11*AW11+C12*AW12+C13*AW13+C14*AW14+C15*AW15+C16*AW16+C17*AW17+C18*AW18+C19*AW19+C20*AW20+AD34","v":45.990000000004592},"FAZLA",{"$f":"0.0286*M3+M6*(0.78+0.3*M7)","v":69.2},{"$f":"D3*AW3+D4*AW4+D5*AW5+D6*AW6+D7*AW7+D8*AW8+D9*AW9+D10*AW10+D11*AW11+D12*AW12+D13*AW13+D14*AW14+D15*AW15+D16*AW16+D17*AW17+D18*AW18+D19*AW19+D20*AW20+AD34","v":109.35000000000409},"FAZLA",{"$f":"0.0286*N3+N6*(0.78+0.3*N7)","v":63.266000000000005},{"$f":"E3*AW3+E4*AW4+E5*AW5+E6*AW6+E7*AW7+E8*AW8+E9*AW9+E10*AW10+E11*AW11+E12*AW12+E13*AW13+E14*AW14+E15*AW15+E16*AW16+E17*AW17+E18*AW18+E19*AW19+E20*AW20+AD34","v":99.32999999999987},"FAZLA",{"$f":"0.0286*O3+O6*(0.78+0.3*O7)","v":46.41},{"$f":"F3*AW3+F4*AW4+F5*AW5+F6*AW6+F7*AW7+F8*AW8+F9*AW9+F10*AW10+F11*AW11+F12*AW12+F13*AW13+F14*AW14+F15*AW15+F16*AW16+F17*AW17+F18*AW18+F19*AW19+F20*AW20+AD34","v":71.729998317557843},"FAZLA","SÜT FİYATI (TL/KG)",null,null,null,null,null,null,"ADF",19,null,null,null,null,null,null,null,9.9999999999999994E-12,null,null,null,null,null,null,null,null,null,null,null,{"$f":"C37/$B37","v":2.0438089199559397},{"$f":"F37/E37","v":1.2378455067627414},{"$f":"I37/H37","v":1.559266447288906},{"$f":"L37/K37","v":1.349293218737043},null,null,null,null,null,null,null,"Yonca Kuru Otu, 4. Kalite  %15-17 HP, <%44-48 NDF",1,0.91269999999999996,1.679368,1.00397,146.76215999999997,null,46.963891199999992,10.861129999999999,2.19048,37.700000000000003,47.4,0,"Yonca Kuru Otu, 4. Kalite  %15-17 HP, <%44-48 NDF",1.84,1.1000000000000001,91.27,16.079999999999998,47.4,37.700000000000003,32,1.19,0.24]
["Ca/P","1:1-1:2",{"$f":"C33/C34","v":0.9999999999998993},{"$f":"IF(C35<$AC$22,$AD$24,IF(AND(C35>$AC$24),$AD$23,IF(AND(C35=$AC$22),$AD$22,IF(AND(C35=$AC$24),$AD$22,IF(AND(C35<$AC$2,C35>$AC$22),$AD$22,0)))))","v":"EKSİK"},"1:1-1:2",{"$f":"F33/F34","v":0.99999999999996214},{"$f":"IF(F35<$AC$23,$AD$24,IF(AND(F35>$AC$24),$AD$23,IF(AND(F35=$AC$23),$AD$22,IF(AND(F35=$AC$24),$AD$22,IF(AND(F35<$AC$24,F35>$AC$23),$AD$22,0)))))","v":"EKSİK"},"1:1-1:2",{"$f":"I33/I34","v":1.0000000000000011},{"$f":"IF(I35<$AC$23,$AD$24,IF(AND(I35>$AC$24),$AD$23,IF(AND(I35=$AC$23),$AD$22,IF(AND(I35=$AC$24),$AD$22,IF(AND(I35<$AC$24,I35>$AC$23),$AD$22,0)))))","v":"TAMAM"},"1:1-1:2",{"$f":"L33/L34","v":1.000000021338306},{"$f":"IF(L35<$AC$23,$AD$24,IF(AND(L35>$AC$24),$AD$23,IF(AND(L35=$AC$23),$AD$22,IF(AND(L35=$AC$24),$AD$22,IF(AND(L35<$AC$24,L35>$AC$23),$AD$22,0)))))","v":"TAMAM"},null,null,"Lak. Ort",{"$f":"AJ87","v":0.66107325257845262},null,null,null,"NDF",27,"SA","HP","EI","TI","INS","LCT","MECS","km","NEMcs","NE Mesafe","NE topoğrafya","eğim durumu",null,null,null,null,null,null,null,null,null,null,null,null,null,null,null,null,null,null,"Yonca Kuru Otu, 5. Kalite  %13-15 HP, <%48-54 NDF",1,0.91269999999999996,1.64286,0.97658900000000004,130.69864000000001,null,41.954263440000005,10.769859999999998,1.9166699999999999,41.8,52.7,0,"Yonca Kuru Otu, 5. Kalite  %13-15 HP, <%48-54 NDF",1.8,1.07,91.27,14.32,52.7,41.8,32.1,1.18,0.21]
["ADF (% KM en az)",19,{"$f":"(C3*AX3+C4*AX4+C5*AX5+C6*AX6+C7*AX7+C8*AX8+C9*AX9+C10*AX10+C11*AX11+C12*AX12+C13*AX13+C14*AX14+C15*AX15+C16*AX16+C17*AX17+C18*AX18+C19*AX19+C20*AX20)/(C3+C4+C5+C6+C7+C8+C9+C10+C11+C12+C13+C14+C15+C16+C17+C18+C19+C20+AD34)","v":30.086188801921793},{"$f":"IF(C36<$V$34,$AD$24,IF(AND(C36>$V$34),$AD$22,IF(AND(C36=$V$34),$AD$22,0)))","v":"TAMAM"},19,{"$f":"(D3*AX3+D4*AX4+D5*AX5+D6*AX6+D7*AX7+D8*AX8+D9*AX9+D10*AX10+D11*AX11+D12*AX12+D13*AX13+D14*AX14+D15*AX15+D16*AX16+D17*AX17+D18*AX18+D19*AX19+D20*AX20)/(D3+D4+D5+D6+D7+D8+D9+D10+D11+D12+D13+D14+D15+D16+D17+D18+D19+D20+AD34)","v":18.999999898130142},{"$f":"IF(F36<$V$34,$AD$24,IF(AND(F36>$V$34),$AD$22,IF(AND(F36=$V$34),$AD$22,0)))","v":"EKSİK"},19,{"$f":"(E3*AX3+E4*AX4+E5*AX5+E6*AX6+E7*AX7+E8*AX8+E9*AX9+E10*AX10+E11*AX11+E12*AX12+E13*AX13+E14*AX14+E15*AX15+E16*AX16+E17*AX17+E18*AX18+E19*AX19+E20*AX20)/(E3+E4+E5+E6+E7+E8+E9+E10+E11+E12+E13+E14+E15+E16+E17+E18+E19+E20+AD34)","v":22.389518588484613},{"$f":"IF(I36<$V$34,$AD$24,IF(AND(I36>$V$34),$AD$22,IF(AND(I36=$V$34),$AD$22,0)))","v":"TAMAM"},19,{"$f":"(F3*AX3+F4*AX4+F5*AX5+F6*AX6+F7*AX7+F8*AX8+F9*AX9+F10*AX10+F11*AX11+F12*AX12+F13*AX13+F14*AX14+F15*AX15+F16*AX16+F17*AX17+F18*AX18+F19*AX19+F20*AX20)/(F3+F4+F5+F6+F7+F8+F9+F10+F11+F12+F13+F14+F15+F16+F17+F18+F19+F20+AD34)","v":18.999999982089772},{"$f":"IF(L36<$V$34,$AD$24,IF(AND(L36>$V$34),$AD$22,IF(AND(L36=$V$34),$AD$22,0)))","v":"EKSİK"},{"$f":"'NET GELİR'!H3/'NET GELİR'!F3","v":2},null,null,null,null,null,null,null,"İnek Kuru",{"$f":"0.09*POWER((0.96*L3),0.67)","v":7.0563468870900605},{"$f":"((W29-AH7)/W36)","v":2.7426594010755649},{"$f":"((7.36-(0.296*L16)+2.55*L17))*X12*0.8","v":7.2831999999999999},{"$f":"5.25+(0.75*L14)","v":8.25},{"$f":"Y36+Z36","v":15.533200000000001},{"$f":"39-X36*AA36*0.85","v":2.7880645425310746},{"$f":"W36*(AB36-L18)/AA36","v":12.623427415661089},0.6,{"$f":"AD29*AD36","v":7.5740564493966529},{"$f":"((L20/1000)*L21)*(0.00045*L3)+(0.0012*L3)","v":0.84},{"$f":"0.006*L3*L20*L21/1000","v":0},{"$f":"IF(AK36=AI36,AG36,0)","v":0},"var","İNDİS",{"$f":"INDEX(AI36:AI37,AM36)","v":"yok"},"SATIR",{"$f":"MATCH(L23,AI36:AI37,0)","v":2},null,null,null,null,null,null,null,null,null,null,null,null,null,"Yonca Kuru Otu, 6. Kalite <%13 HP, >%54 NDF ",1,0.93600000000000005,1.6005599999999998,0.89855999999999991,116.43839999999997,null,40.404124799999998,11.044799999999999,1.9655999999999998,42.1,54.8,0,"Yonca Kuru Otu, 6. Kalite <%13 HP, >%54 NDF ",1.71,0.96,93.6,12.44,54.8,42.1,34.700000000000003,1.18,0.21]
["NDF (% KM en az)",27,{"$f":"(C3*AY3+C4*AY4+C5*AY5+C6*AY6+C7*AY7+C8*AY8+C9*AY9+C10*AY10+C11*AY11+C12*AY12+C13*AY13+C14*AY14+C15*AY15+C16*AY16+C17*AY17+C18*AY18+C19*AY19+C20*AY20)/(C3+C4+C5+C6+C7+C8+C9+C10+C11+C12+C13+C14+C15+C16+C17+C18+C19+C20+AD34)","v":55.182840838810378},{"$f":"IF(C37<$V$35,$AD$24,IF(AND(C37>$V$35),$AD$22,IF(AND(C37=$V$35),$AD$22,0)))","v":"TAMAM"},27,{"$f":"(D3*AY3+D4*AY4+D5*AY5+D6*AY6+D7*AY7+D8*AY8+D9*AY9+D10*AY10+D11*AY11+D12*AY12+D13*AY13+D14*AY14+D15*AY15+D16*AY16+D17*AY17+D18*AY18+D19*AY19+D20*AY20)/(D3+D4+D5+D6+D7+D8+D9+D10+D11+D12+D13+D14+D15+D16+D17+D18+D19+D20+AD34)","v":33.421828682594018},{"$f":"IF(F37<$V$35,$AD$24,IF(AND(F37>$V$35),$AD$22,IF(AND(F37=$V$35),$AD$22,0)))","v":"TAMAM"},27,{"$f":"(E3*AY3+E4*AY4+E5*AY5+E6*AY6+E7*AY7+E8*AY8+E9*AY9+E10*AY10+E11*AY11+E12*AY12+E13*AY13+E14*AY14+E15*AY15+E16*AY16+E17*AY17+E18*AY18+E19*AY19+E20*AY20)/(E3+E4+E5+E6+E7+E8+E9+E10+E11+E12+E13+E14+E15+E16+E17+E18+E19+E20+AD34)","v":42.100194076800463},{"$f":"IF(I37<$V$35,$AD$24,IF(AND(I37>$V$35),$AD$22,IF(AND(I37=$V$35),$AD$22,0)))","v":"TAMAM"},27,{"$f":"(F3*AY3+F4*AY4+F5*AY5+F6*AY6+F7*AY7+F8*AY8+F9*AY9+F10*AY10+F11*AY11+F12*AY12+F13*AY13+F14*AY14+F15*AY15+F16*AY16+F17*AY17+F18*AY18+F19*AY19+F20*AY20)/(F3+F4+F5+F6+F7+F8+F9+F10+F11+F12+F13+F14+F15+F16+F17+F18+F19+F20+AD34)","v":36.430916905900162},{"$f":"IF(L37<$V$35,$AD$24,IF(AND(L37>$V$35),$AD$22,IF(AND(L37=$V$35),$AD$22,0)))","v":"TAMAM"},null,null,"Lak. sonu",{"$f":"AK87","v":1.6009747240011136},null,null,null,null,"İnek Lak. Başı",{"$f":"0.09*POWER((0.96*M3),0.67)","v":5.6321490365567497},{"$f":"((W30-(AI7+AI30))/W37)","v":5.4792347975341329},{"$f":"((7.36-(0.296*M16)+2.55*M17))*X13*0.8","v":7.6912000000000011},{"$f":"5.25+(0.75*M14)","v":6.75},{"$f":"Y37+Z37","v":14.441200000000002},{"$f":"39-X37*AA37*0.85","v":-28.257716724427439},{"$f":"W37*(AB37-M18)/AA37","v":-12.970696147658177},0.6,{"$f":"AD30*AD37","v":0},{"$f":"((M20/1000)*M21)*(0.00045*M3)+(0.0012*M3)","v":0.6},{"$f":"0.006*M3*M20*M21/1000","v":0},{"$f":"IF(AK37=AI36,AG37,0)","v":0},"yok","İNDİS",{"$f":"INDEX(AI36:AI37,AM37)","v":"yok"},"SATIR",{"$f":"MATCH(M23,AI36:AI37,0)","v":2},null,null,null,0.9,"TAMAM",null,null,null,null,null,null,null,null,"Yonca Kuru Otu, Erken Vejetatif",1,0.93810000000000004,2.5422509999999998,1.6135320000000002,281.61761999999999,null,49.564701120000002,14.0715,3.0957300000000005,20.3,27,0,"Yonca Kuru Otu, Erken Vejetatif",2.71,1.72,93.81,30.02,27,20.3,17.600000000000001,1.5,0.33]
["AÇIKLAMA",null,"Soğuk iklim ilkbahar mera",null,null,null,null,null,null,null,null,null,null,"YILLIK SÜT-YEM GELİR(TL)",null,null,null,null,null,null,null,"İnek Lak. Ortası",{"$f":"0.09*POWER((0.96*N3),0.67)","v":6.0764539876364987},{"$f":"((W31-(AJ7+AI31))/W38)","v":4.612278746139034},{"$f":"((7.36-(0.296*N16)+2.55*N17))*X14*0.8","v":7.2831999999999999},{"$f":"5.25+(0.75*N14)","v":7.5},{"$f":"Y38+Z38","v":14.783200000000001},{"$f":"39-X38*AA38*0.85","v":-18.956603285934179},{"$f":"W38*(AB38-N18)/AA38","v":-15.190560866816039},0.6,{"$f":"AD31*AD38","v":0},{"$f":"((M20/1000)*M21)*(0.00045*N3)+(0.0012*N3)","v":0.67199999999999993},{"$f":"0.006*N3*N20*N21/1000","v":6.72},{"$f":"IF(AK38=AI36,AG38,0)","v":0},null,"İNDİS",{"$f":"INDEX(AI36:AI37,AM38)","v":"yok"},"SATIR",{"$f":"MATCH(N23,AI36:AI37,0)","v":2},null,null,null,1.1000000000000001,"FAZLA",null,null,null,null,null,null,null,null,"Yonca Kuru Otu, Geç Vejetatif",1,0.93730000000000002,2.090179,1.293474,218.29716999999999,null,39.075193429999992,14.0595,3.0930900000000001,28.6,37.299999999999997,0,"Yonca Kuru Otu, Geç Vejetatif",2.23,1.38,93.73,23.29,37.299999999999997,28.6,17.899999999999999,1.5,0.33]
[null,null,null,null,null,null,null,null,null,null,null,null,null,{"$f":"'İNEK GİZLİ'!AQ3","v":328717.83104405098},null,"GENEL",{"$f":"AL87","v":1.6361378358052454},null,null,null,null,"İnek Lak. Sonu",{"$f":"0.09*POWER((0.96*O3),0.67)","v":6.3639326281177642},{"$f":"((W32-(AK7+AI32))/W39)","v":3.9473815512495039},{"$f":"((7.36-(0.296*O16)+2.55*O17))*X15*0.8","v":7.0180000000000007},{"$f":"5.25+(0.75*O14)","v":8.25},{"$f":"Y39+Z39","v":15.268000000000001},{"$f":"39-X39*AA39*0.85","v":-12.228328295805809},{"$f":"W39*(AB39-O18)/AA39","v":-7.1810270218498236},0.6,{"$f":"AD32*AD39","v":0},{"$f":"((O20/1000)*O21)*(0.00045*O3)+(0.0012*O3)","v":0.72},{"$f":"0.006*O3*O20*O21/1000","v":0},{"$f":"IF(AK39=AI36,AG39,0)","v":0},null,"İNDİS",{"$f":"INDEX(AI36:AI37,AM39)","v":"yok"},"SATIR",{"$f":"MATCH(O23,AI36:AI37,0)","v":2},null,null,null,null,"EKSİK",null,null,null,null,null,null,null,null,"Yonca Kuru Otu, 6. Kalite <%13 HP, >%54 NDF ",1,0.93600000000000005,1.6005599999999998,0.89855999999999991,116.43839999999997,null,40.404124799999998,11.044799999999999,1.9655999999999998,42.1,54.8,0,"Yonca Kuru Otu, 6. Kalite <%13 HP, >%54 NDF ",1.71,0.96,93.6,12.44,54.8,42.1,34.700000000000003,1.18,0.21]
[null,null,null,null,null,null,null,null,null,null,null,null,null,null,null,null,null,null,null,null,null,null,null,null,null,null,null,null,null,null,"ME mera",null,"NE mera",null,"Otluyormu",null,null,null,null,null,null,null,null,null,null,null,null,null,null,null,null,null,"Yosun, Kurutulmuş",1,0.91,0.91,0.52779999999999994,63.7,null,12.548900000000001,24.752000000000002,2.8210000000000002,10,25,0,"Yosun, Kurutulmuş",1,0.57999999999999996,91,7,25,10,19.7,2.72,0.31]
[null,null,null,null,null,null,null,null,null,null,null,null,null,null,null,null,null,null,null,null,null,null,null,null,null,null,null,{"$f":"W29-AH7","v":19.353156127127853},null,"İnek Kuru",{"$f":"IF(AJ41=AH45,AF41,0)","v":0},{"$f":"L3*0.003","v":2.1},{"$f":"L3*0.002","v":1.4000000000000001},{"$f":"IF(AJ41=AH45,AG41,0)","v":0},"İNDİS",{"$f":"INDEX(AH45:AH46,AL41)","v":"hayır"},"SATIR",{"$f":"MATCH(L22,AH45:AH46,0)","v":2},null,null,null,null,null,null,null,null,null,null,null,null,null,null,"Yulaf Kuru Otu, Başaklı",1,0.91900000000000004,1.6817700000000002,1.0109000000000001,83.628999999999991,null,31.026358999999999,3.4003000000000001,2.0217999999999998,36.4,58,0,"Yulaf Kuru Otu, Başaklı",1.83,1.1000000000000001,91.9,9.1,58,36.4,37.1,0.37,0.22]
[null,null,null,null,null,null,null,null,null,null,null,null,null,null,null,null,null,null,null,null,null,null,null,null,null,null,null,{"$f":"W30-AI7-AI30","v":30.859866986000085},null,"İnek Lak. Başı",{"$f":"IF(AJ42=AH45,AF42,0)","v":0},{"$f":"M3*0.003","v":1.5},{"$f":"M3*0.002","v":1},{"$f":"IF(AJ42=AH45,AG42,0)","v":0},"İNDİS",{"$f":"INDEX(AH45:AH46,AL42)","v":"hayır"},"SATIR",{"$f":"MATCH(M22,AH45:AH46,0)","v":2},null,null,null,null,null,null,null,null,null,null,null,null,null,null,"Arpa Silajı, Başaklı",1,0.35499999999999998,0.72065000000000001,0.44020000000000004,42.6,null,10.351800000000001,1.704,1.0649999999999999,34.5,56.3,0,"Arpa Silajı, Başaklı",2.0299999999999998,1.24,35.5,12,56.3,34.5,24.3,0.48,0.3]
[null,null,null,null,null,null,null,null,null,null,null,null,null,null,null,null,null,null,null,null,null,null,null,null,null,null,null,null,null,"İnek Lak. Ortası",{"$f":"IF(AJ43=AH45,AF43,0)","v":1.68},{"$f":"N3*0.003","v":1.68},{"$f":"N3*0.002","v":1.1200000000000001},{"$f":"IF(AJ43=AH45,AG43,0)","v":1.1200000000000001},"İNDİS",{"$f":"INDEX(AH45:AH46,AL43)","v":"evet"},"SATIR",{"$f":"MATCH(N22,AH45:AH46,0)","v":1},null,null,null,null,null,null,null,null,null,null,null,null,null,null,"Baklagil Merası,Bakımlı",1,0.214,0.52644000000000002,0.32955999999999996,56.709999999999994,null,13.156719999999998,2.8033999999999999,0.79179999999999995,23.9,33.1,0,"Baklagil Merası,Bakımlı",2.46,1.54,21.4,26.5,33.1,23.9,23.2,1.31,0.37]
[null,null,null,null,null,null,null,null,null,null,null,null,null,null,null,null,null,null,null,null,null,null,{"$f":"'NET GELİR'!E7","v":560375.49766731751},null,null,null,null,null,null,"İnek Lak. Sonu",{"$f":"IF(AJ44=AH45,AF44,0)","v":0},{"$f":"O3*0.003","v":1.8},{"$f":"O3*0.002","v":1.2},{"$f":"IF(AJ44=AH45,AG44,0)","v":0},"İNDİS",{"$f":"INDEX(AH45:AH46,AL44)","v":"hayır"},"SATIR",{"$f":"MATCH(O22,AH45:AH46,0)","v":2},null,null,null,null,null,null,null,null,null,null,null,null,null,null,"Baklagil Silajı",1,0.39100000000000001,0.77418000000000009,0.46920000000000001,7.82,null,1.4779800000000001,5.2394000000000007,1.2512000000000001,37,45.7,0,"Baklagil Silajı",1.98,1.2,39.1,2,45.7,37,18.899999999999999,1.34,0.32]
[null,null,null,null,null,null,null,null,null,null,null,null,null,null,null,null,null,null,null,null,null,null,null,null,null,null,null,null,null,null,null,null,null,"evet",null,null,null,null,null,null,null,null,null,null,null,null,null,null,null,null,null,null,"Baklagil Silajı, Körpe < %40 NDF",1,0.41199999999999998,0.89816000000000018,0.55208000000000002,95.584000000000003,null,15.77136,5.7267999999999999,1.4832000000000001,30.2,36.700000000000003,0,"Baklagil Silajı, Körpe < %40 NDF",2.1800000000000002,1.34,41.2,23.2,36.700000000000003,30.2,16.5,1.39,0.36]
[null,null,null,null,null,null,null,null,null,null,null,null,null,null,null,null,null,null,null,null,null,null,null,null,null,null,null,null,null,null,null,null,null,"hayır",null,null,null,null,null,null,null,null,null,null,null,null,null,null,null,null,null,null,"Baklagil Silajı, Olgun >%46 NDF",1,0.42599999999999999,0.78383999999999998,0.46860000000000007,86.478000000000009,null,21.360066000000003,5.5380000000000003,1.4058000000000002,40.9,50,0,"Baklagil Silajı, Olgun >%46 NDF",1.84,1.1000000000000001,42.6,20.3,50,40.9,24.7,1.3,0.33]
[null,null,null,null,null,null,null,null,null,null,null,null,null,null,null,null,null,null,null,null,null,"KM (kg/gün)",{"$f":"C26/B26","v":1.0000000000000047},null,null,null,null,null,null,null,null,null,null,null,null,null,null,null,null,null,null,null,null,null,null,null,null,null,null,null,null,null,"Baklagil Silajı, Orta Olgun.. %40-46NDF",1,0.42899999999999999,0.86228999999999989,0.52337999999999996,93.950999999999993,null,15.595866000000001,5.8344000000000005,1.5014999999999998,35.200000000000003,43.2,0,"Baklagil Silajı, Orta Olgun.. %40-46NDF",2.0099999999999998,1.22,42.9,21.9,43.2,35.200000000000003,16.600000000000001,1.36,0.35]
[null,null,null,null,null,null,null,null,null,null,null,null,null,null,null,null,null,null,null,null,null,"ME (Mcal/gün)",{"$f":"C27/B27","v":0.852631484147233},null,null,null,null,null,null,null,null,null,null,null,null,null,null,null,null,null,null,null,null,null,null,null,null,null,null,null,null,null,"Buğday Silajı, Başak, Başı",1,0.33300000000000002,0.63602999999999998,0.38627999999999996,39.959999999999994,null,9.1508399999999988,1.2654000000000001,0.96569999999999978,37.6,59.9,0,"Buğday Silajı, Başak, Başı",1.91,1.1599999999999999,33.299999999999997,12,59.9,37.6,22.9,0.38,0.28999999999999998]
[null,null,null,null,null,null,null,null,null,null,null,null,null,null,null,null,null,null,null,null,null,"Nel (Mcal/gün)",0.90990549047121894,null,null,null,null,null,{"$f":"'NET GELİR'!E7","v":560375.49766731751},null,null,null,null,null,null,null,null,null,null,null,null,null,null,null,null,null,null,null,null,null,null,null,"Çavdar Silajı, Körpe",1,0.29699999999999999,0.61776000000000009,0.38016,47.817,null,11.619531,1.2770999999999999,1.2473999999999998,34.9,57.8,0,"Çavdar Silajı, Körpe",2.08,1.28,29.7,16.100000000000001,57.8,34.9,24.3,0.43,0.42]
[null,null,null,null,null,null,null,null,null,null,null,null,null,null,null,null,null,null,null,null,null,"HP (g/gün)",0.6399930882249012,null,null,null,null,null,null,null,null,null,null,null,null,null,null,null,null,null,null,null,null,null,null,null,null,null,null,null,null,null,"Çayır Merası, Soğuk Mevsim, Bakımlı",1,0.20100000000000001,0.49446000000000007,0.30954000000000004,53.265000000000008,null,11.824830000000002,1.1256000000000002,0.88440000000000007,25,45.8,0,"Çayır Merası, Soğuk Mevsim, Bakımlı",2.46,1.54,20.100000000000001,26.5,45.8,25,22.2,0.56000000000000005,0.44]
[null,null,null,null,null,null,null,null,null,null,null,null,null,null,null,null,null,null,null,null,null,"Metabolik Protein",1.0000000000000095,null,null,null,null,null,null,null,null,null,null,null,null,null,null,null,null,null,null,null,null,null,null,null,null,null,null,null,null,null,"Çayır Silajı, Soğuk Mevsim",1,0.36499999999999999,0.67890000000000006,0.40880000000000005,46.720000000000006,null,11.586560000000002,2.0075000000000003,1.0585,40.299999999999997,60.7,0,"Çayır Silajı, Soğuk Mevsim",1.86,1.1200000000000001,36.5,12.8,60.7,40.299999999999997,24.8,0.55000000000000004,0.28999999999999998]
[null,null,null,null,null,null,null,null,null,null,null,null,null,null,null,null,null,null,null,null,null,"Rumende Yıkılabilir protein (g/gün)",0.46894754118469789,null,null,null,null,"KM (kg/gün)",{"$f":"C26/B26","v":1.0000000000000047},null,null,null,null,null,null,null,null,null,null,null,null,null,null,null,null,null,null,null,null,null,null,null,"Çayır Silajı, Soğuk Mevsim,Körpe<%55  NDF",1,0.36199999999999999,0.7602000000000001,0.46698000000000006,60.81600000000001,null,11.615856000000003,2.0634000000000001,1.3031999999999999,32.9,51,0,"Çayır Silajı, Soğuk Mevsim,Körpe<%55  NDF",2.1,1.29,36.200000000000003,16.8,51,32.9,19.100000000000001,0.56999999999999995,0.36]
[null,null,null,null,null,null,null,null,null,null,null,null,null,null,null,null,null,null,null,null,null,"Rumende Yıkıma Dirençli Protein (g/gün)",22624.66883427573,null,null,null,null,"ME (Mcal/gün)",0.852631484147233,null,null,null,null,null,null,null,null,null,null,null,null,null,null,null,null,null,null,null,null,null,null,null,"Çayır Silajı, Soğuk Mevsim, Olgun>%60 NDF",1,0.38700000000000001,0.68112000000000006,0.40635000000000004,49.149000000000001,null,16.170020999999998,2.1672000000000002,1.1997000000000002,41.1,66.599999999999994,0,"Çayır Silajı, Soğuk Mevsim, Olgun>%60 NDF",1.76,1.05,38.700000000000003,12.7,66.599999999999994,41.1,32.9,0.56000000000000005,0.31]
[null,null,null,null,null,null,null,null,null,null,null,null,null,null,null,null,null,null,null,null,null,"Ca (g/gün)",0.99999999999999922,{"$f":"F33/E33","v":0.99999999999999956},null,null,null,"Nel (Mcal/gün)",0.90990549047121894,null,null,null,null,null,null,null,null,null,null,null,null,null,null,null,null,null,null,null,null,null,null,null,"Çayır Silajı, Soğuk Mevsim, Orta Olgun..%55-60 NDF",1,0.42,0.80640000000000001,0.48719999999999997,70.56,null,16.36992,2.52,1.512,35.200000000000003,58.2,0,"Çayır Silajı, Soğuk Mevsim, Orta Olgun..%55-60 NDF",1.92,1.1599999999999999,42,16.8,58.2,35.200000000000003,23.2,0.6,0.36]
[null,null,null,null,null,null,null,null,null,null,null,null,null,null,null,null,null,null,null,null,null,"P (g/gün)",1.6384039900251015,{"$f":"F34/E34","v":1.5802023121387874},null,null,null,"HP (g/gün)",0.6399930882249012,null,null,null,null,null,null,null,null,null,null,null,null,null,null,null,null,null,null,null,null,null,null,null,"Çayır-Baklagil Silajı, Körpe< %44 NDF",1,0.432,0.8640000000000001,0.52703999999999995,86.4,null,14.601600000000001,5.0112000000000005,1.5551999999999999,31.1,42.2,0,"Çayır-Baklagil Silajı, Körpe< %44 NDF",2,1.22,43.2,20,42.2,31.1,16.899999999999999,1.1599999999999999,0.36]
[null,null,null,null,null,null,null,null,null,null,null,null,null,null,null,null,null,null,null,null,null,"Ca/P",{"$f":"C33/C34","v":0.9999999999998993},null,null,null,null,"Metabolik Protein",1.0000000000000095,null,null,null,null,null,null,null,null,null,null,null,null,null,null,null,null,null,null,null,null,null,null,null,"Çayır-Baklagil Silajı, Körpe< %47 NDF",1,0.45900000000000002,0.96389999999999998,0.59211000000000003,93.176999999999992,null,16.305975,4.9572000000000003,1.6064999999999998,30.8,45.3,0,"Çayır-Baklagil Silajı, Körpe< %47 NDF",2.1,1.29,45.9,20.3,45.3,30.8,17.5,1.08,0.35]
[null,null,null,null,null,null,null,null,null,null,null,null,null,null,null,null,null,null,null,null,null,"ADF (% KM en az)",1.5834836211537786,null,null,null,null,"Rumende Yıkılabilir protein (g/gün)",0.46894754118469789,null,null,null,null,null,null,null,null,null,null,null,null,null,null,null,null,null,null,null,null,null,null,null,"Çayır-Baklagil Silajı, Körpe< %51 NDF",1,0.47099999999999997,1.0032299999999998,0.61701000000000006,84.78,null,15.429959999999999,4.8041999999999998,1.6014000000000004,31.8,49.9,0,"Çayır-Baklagil Silajı, Körpe< %51 NDF",2.13,1.31,47.1,18,49.9,31.8,18.2,1.02,0.34]
[null,null,null,null,null,null,null,null,null,null,null,null,null,null,null,null,null,null,null,null,null,"NDF (% KM en az)",2.0438089199559397,null,null,null,null,"Rumende Yıkıma Dirençli Protein (g/gün)",22624.66883427573,null,null,null,null,null,null,null,null,null,null,null,null,null,null,null,null,null,null,null,null,null,null,null,"Çayır-Baklagil Silajı, Olgun> %47 NDF",1,0.42799999999999999,0.78323999999999994,0.46651999999999999,74.471999999999994,null,21.075576000000002,4.5368000000000004,1.4124000000000001,42.1,57.4,0,"Çayır-Baklagil Silajı, Olgun> %47 NDF",1.83,1.0900000000000001,42.8,17.399999999999999,57.4,42.1,28.3,1.06,0.33]
[null,null,null,null,null,null,null,null,null,null,null,null,null,null,null,null,null,null,null,null,null,null,null,null,null,null,null,"Ca (g/gün)",0.99999999999999922,{"$f":"F33/E33","v":0.99999999999999956},null,null,null,null,null,null,null,null,null,null,null,null,null,null,null,null,null,null,null,null,null,null,"Çayır-Baklagil Silajı, Olgun> %50 NDF",1,0.42899999999999999,0.75932999999999995,0.45045000000000002,78.507000000000005,null,20.725847999999999,5.0192999999999994,1.4157,41.6,53.7,0,"Çayır-Baklagil Silajı, Olgun> %50 NDF",1.77,1.05,42.9,18.3,53.7,41.6,26.4,1.17,0.33]
[null,null,null,null,null,null,null,null,null,null,null,null,null,null,null,null,null,null,null,null,null,null,null,null,null,null,null,"P (g/gün)",1.6384039900251015,{"$f":"F34/E34","v":1.5802023121387874},null,null,null,null,null,null,null,null,null,null,null,null,null,null,null,null,null,null,null,null,null,null,"Çayır-Baklagil Silajı, Olgun >%57 NDF",1,0.38500000000000001,0.69299999999999995,0.41580000000000006,59.29,null,18.083449999999999,3.2725,1.2705,42.2,61.7,0,"Çayır-Baklagil Silajı, Olgun >%57 NDF",1.8,1.08,38.5,15.4,61.7,42.2,30.5,0.85,0.33]
[null,null,null,null,null,null,null,null,null,null,null,null,null,null,null,null,null,null,null,null,null,null,null,null,null,null,null,"Ca/P",{"$f":"C33/C34","v":0.9999999999998993},null,null,null,null,null,null,null,null,null,null,null,null,null,null,null,null,null,null,null,null,null,null,null,"Çayır-Baklagil Silajı, Orta Olgun, %44-50 NDF",1,0.433,0.83135999999999999,0.50227999999999995,82.27,null,14.561789999999998,4.9361999999999995,1.4722,35.4,47,0,"Çayır-Baklagil Silajı, Orta Olgun, %44-50 NDF",1.92,1.1599999999999999,43.3,19,47,35.4,17.7,1.1399999999999999,0.34]
[null,null,null,null,null,null,null,null,null,null,null,null,null,null,null,null,null,null,null,null,null,null,null,null,null,null,null,"ADF (% KM en az)",{"$f":"C36/B36","v":1.5834836211537786},null,null,null,null,null,null,null,null,null,null,null,null,null,null,null,null,null,null,null,null,null,null,null,"Çayır-Baklagil Silajı, Orta Olgun, %47-53 NDF",1,0.441,0.88640999999999992,0.54242999999999997,84.231000000000009,null,16.088121000000005,4.8069000000000006,1.5434999999999999,35.4,50.4,0,"Çayır-Baklagil Silajı, Orta Olgun, %47-53 NDF",2.0099999999999998,1.23,44.1,19.100000000000001,50.4,35.4,19.100000000000001,1.0900000000000001,0.35]
[null,null,null,null,null,null,null,null,null,null,null,null,null,null,null,null,null,null,null,null,null,null,null,null,null,null,null,"NDF (% KM en az)",{"$f":"C37/B37","v":2.0438089199559397},null,null,null,null,null,null,null,null,null,null,null,null,null,null,null,null,null,null,null,null,null,null,null,"Çayır-Baklagil Silajı,Orta Olgun,  %51-57 NDF",1,0.44500000000000001,0.87219999999999998,0.52954999999999997,78.320000000000007,null,16.368880000000001,3.9605000000000006,1.6019999999999999,35.700000000000003,54.5,0,"Çayır-Baklagil Silajı,Orta Olgun,  %51-57 NDF",1.96,1.19,44.5,17.600000000000001,54.5,35.700000000000003,20.9,0.89,0.36]
[null,null,null,null,null,null,null,null,null,null,null,null,null,null,null,null,null,null,null,null,null,null,null,null,null,null,null,null,null,null,null,null,null,null,null,null,null,null,null,null,null,null,null,null,null,null,null,null,null,null,null,null,"Mısır Silajı, % 23-26KM",1,0.25,0.50249999999999995,0.30499999999999999,18.25,null,5.6210000000000004,0.72499999999999987,0.6,32.5,55.8,0,"Mısır Silajı, % 23-26KM",2.0099999999999998,1.22,25,7.3,55.8,32.5,30.8,0.28999999999999998,0.24]
[null,null,null,null,null,null,null,null,null,null,null,null,null,null,null,null,null,null,null,null,null,null,null,null,null,null,"YEM FİYATI X GÜNLÜK TÜKETİM",null,null,null,null,null,"YEM FİTARI X GÜNLÜK KM TÜKETİM",null,null,null,null,null,null,null,null,null,null,null,null,null,null,null,null,null,null,null,"Mısır Silajı, % 26-29KM",1,0.27800000000000002,0.57824000000000009,0.35584000000000005,20.015999999999998,null,6.0047999999999995,0.77840000000000009,0.72280000000000011,31.5,53,0,"Mısır Silajı, % 26-29KM",2.08,1.28,27.8,7.2,53,31.5,30,0.28000000000000003,0.26]
[null,null,null,null,null,null,null,null,null,null,null,null,null,null,null,null,null,null,null,null,null,null,null,null,null,null,null,"Kuru","Lakt. başı","Lak. Ort","Lak. sonu",null,null,"Kuru","Lakt. başı","Lak. Ort","Lak. sonu",null,null,null,null,null,null,null,null,null,null,null,null,null,null,null,"Mısır Silajı, %29-33 KM",1,0.313,0.63852000000000009,0.38811999999999997,22.536000000000001,null,6.7157280000000004,0.87640000000000007,0.81379999999999997,31.1,52.9,0,"Mısır Silajı, %29-33 KM",2.04,1.24,31.3,7.2,52.9,31.1,29.8,0.28000000000000003,0.26]
[null,null,null,null,null,null,null,null,null,null,null,null,null,null,null,null,null,null,null,null,null,null,null,null,null,null,null,{"$f":"$B3*C3","v":0},{"$f":"$B3*D3","v":20.913683822550233},{"$f":"$B3*E3","v":0.29778464882832562},{"$f":"$B3*F3","v":9.5585039990682468},null,null,{"$f":"$B3*C3*$AP3","v":0},{"$f":"$B3*D3*$AP3","v":18.613178602069709},{"$f":"$B3*E3*$AP3","v":0.26502833745720983},{"$f":"$B3*F3*$AP3","v":8.5070685591707402},null,null,null,{"$f":"C3*$AP3","v":0},{"$f":"D3*$AP3","v":7.7554910841957119},0.11042847394050408,3.5446118996544751,null,null,null,null,null,null,null,null,"Mısır Silajı, %33-40 KM",1,0.35499999999999998,0.72065000000000001,0.44020000000000004,25.914999999999999,null,8.759269999999999,{"$f":"BQ67*BV67/10","v":0.92300000000000004},0.88749999999999996,29.8,51.6,0,"Mısır Silajı, %33-40 KM",2.0299999999999998,1.24,35.5,7.3,51.6,29.8,33.799999999999997,0.26,0.25]
[null,null,null,null,null,null,null,null,null,null,null,null,null,null,null,null,null,null,null,null,null,null,null,null,null,null,null,0,0,0,0,null,null,{"$f":"$B4*C4*$AP4","v":0},{"$f":"$B4*D4*$AP4","v":0},{"$f":"$B4*E4*$AP4","v":0},{"$f":"$B4*F4*$AP4","v":0},null,null,null,{"$f":"C4*$AP4","v":0},0,0,0,null,null,null,null,null,null,null,null,{"$f":"BN68","v":"Sorgum Silajı"},1,{"$f":"BQ68*10/1000","v":0.28799999999999998},{"$f":"BO68*BQ68/100","v":0.53280000000000005},{"$f":"BP68*BQ68/100","v":0.31968000000000002},{"$f":"BR68*BQ68/10","v":26.207999999999998},null,{"$f":"BF68*BU68/100","v":10.325951999999999},0,{"$f":"BW68*BQ68/10","v":0},{"$f":"BT68","v":38.700000000000003},{"$f":"BS68","v":60.7},{"$f":"BX68","v":0},"Sorgum Silajı",1.85,1.1100000000000001,28.8,9.1,60.7,38.700000000000003,39.4,0,0]
[null,null,null,null,null,null,null,null,null,null,null,null,null,null,null,null,null,null,null,null,null,null,null,null,null,null,null,0,0,0,0,null,null,0,0,0,0,null,null,null,0,0,0,0,null,null,null,null,null,null,null,null,"Sorgum, Sudan Otu Silajı",{"$f":"BB68","v":1},0.28799999999999998,0.51551999999999998,0.30816000000000004,31.104000000000003,null,15.116544000000001,1.44,0.6048,40.700000000000003,63.3,0,"Sorgum, Sudan Otu Silajı",1.79,1.07,28.8,10.8,63.3,40.700000000000003,48.6,0.5,0.21]
[null,null,null,null,null,null,null,null,null,null,null,null,null,null,null,null,null,null,null,null,null,null,null,null,null,null,null,0,3.1871460057085201,13.042169651987983,9.0048299270728016,null,null,0,2.9003028651947536,11.868374383309066,8.19439523363625,null,null,null,0,1.933535243463169,7.9122495888727098,5.4629301557574994,null,null,null,null,null,null,null,null,"Soya Silajı, Körpe",1,0.40400000000000003,0.84435999999999989,0.52115999999999996,70.295999999999992,null,11.669135999999998,2.5855999999999999,0.96960000000000002,36.9,46.6,0,"Soya Silajı, Körpe",2.09,1.29,40.4,17.399999999999999,46.6,36.9,16.600000000000001,0.64,0.24]
[null,null,null,null,null,null,null,null,null,null,null,null,null,null,null,null,null,null,null,null,null,null,null,null,null,null,null,3.5849053480047242,0,0,7.4872196763257253E-9,null,null,3.3232072576003793,0,0,6.9406526399539477E-9,null,null,null,6.6464145152007585,0,0,1.3881305279907895E-8,null,null,null,null,null,null,null,null,"Şalgam Yaprakları",1,0.18,0.45,0.27,28.8,null,4.8959999999999999,1.9260000000000002,0.66600000000000004,13,25,0,"Şalgam Yaprakları",2.5,1.5,18,16,25,13,17,1.07,0.37]
[null,null,null,null,null,null,null,null,null,null,null,null,null,null,null,null,null,null,null,null,null,null,null,null,null,null,null,0,0,0.52636184435361655,0,null,null,0,0,0.10579873071507694,0,null,null,null,0,0,10.579873071507693,0,null,null,null,null,null,null,null,null,"Şalgam, Yaprak-Kök",1,0.13950000000000001,0.38641500000000001,0.24063749999999998,19.808999999999997,null,6.8440094999999985,4.4640000000000004,0.43244999999999995,22.45,33.549999999999997,0,"Şalgam, Yaprak-Kök",2.77,1.7250000000000001,13.95,14.2,33.549999999999997,22.45,34.549999999999997,3.2,0.31]
[null,null,null,null,null,null,null,null,null,null,null,null,null,null,null,null,null,null,null,null,null,null,null,null,null,null,null,0,0,0,0,null,null,0,0,0,0,null,null,null,0,0,0,0,null,null,null,null,null,null,null,null,"Tritikale Silajı, Başaklı",1,0.32,0.62080000000000002,0.37759999999999999,44.160000000000004,null,10.730880000000003,6.6400000000000006,1.024,39.6,59.7,0,"Tritikale Silajı, Başaklı",1.94,1.18,32,13.8,59.7,39.6,24.3,2.0750000000000002,0.32]
[null,null,null,null,null,null,null,null,null,null,null,null,null,null,null,null,null,null,null,null,null,null,null,null,null,null,null,0,0,0,0,null,null,0,0,0,0,null,null,null,0,0,0,0,null,null,null,null,null,null,null,null,"Tritikale-Bezelye Silajı(9-1)",1,0.34340000000000004,0.65692420000000018,0.39594020000000008,44.607660000000003,null,16.018610706,1.7856800000000004,1.06454,38.97,60.51,0,"Tritikale-Bezelye Silajı(9-1)",1.913,1.153,34.340000000000003,12.99,60.51,38.97,35.909999999999997,0.52,0.31]
[null,null,null,null,null,null,null,null,null,null,null,null,null,null,null,null,null,null,null,null,null,null,null,null,null,null,null,0,11.503158623769547,0,0,null,null,0,10.41035855451144,0,0,null,null,null,0,4.1641434218045763,0,0,null,null,null,null,null,null,null,null,"Tritikale-Bezelye Silajı (APAK)",1,0.3639,0.87699899999999997,0.54585000000000006,36.062490000000004,null,10.479759593999999,1.01892,0.94614000000000009,28.03,43.97,0,"Tritikale-Bezelye Silajı (APAK)",2.41,1.5,36.39,9.91,43.97,28.03,29.06,0.28000000000000003,0.26]
[null,null,null,null,null,null,null,null,null,null,null,null,null,null,null,null,null,null,null,null,null,null,null,null,null,null,null,0,0,0,0,null,null,0,0,0,0,null,null,null,0,0,0,0,null,null,null,null,null,null,null,null,"Yulaf Silajı, Başaklı",1,0.34599999999999997,0.66086,0.39789999999999998,119.71600000000001,null,44.534352000000005,1.9721999999999997,1.1418000000000001,38.9,60.6,0,"Yulaf Silajı, Başaklı",1.91,1.1499999999999999,34.6,34.6,60.6,38.9,37.200000000000003,0.56999999999999995,0.33]
[null,null,null,null,null,null,null,null,null,null,null,null,null,null,null,null,null,null,null,null,null,null,null,null,null,null,null,0,0,0,0,null,null,0,0,0,0,null,null,null,0,0,0,0,null,null,null,null,null,null,null,null,"Aminoplus",1,0.88,0,1.9360000000000002,454.96000000000004,null,121.01936000000002,3.3439999999999999,6.3360000000000003,7.44,11.8,0,"Aminoplus",0,2.2000000000000002,88,51.7,11.8,7.44,26.6,0.38,0.72]
[null,null,null,null,null,null,null,null,null,null,null,null,null,null,null,null,null,null,null,null,null,null,null,null,null,null,null,0,0,0,0,null,null,0,0,0,0,null,null,null,0,0,0,0,null,null,null,null,null,null,null,null,"Aspir Küspesi, Solvent ",1,0.93500000000000005,1.8326,1.1126499999999999,271.14999999999998,null,31.995699999999996,4.4879999999999995,9.35,39.1,53.8,0,"Aspir Küspesi, Solvent ",1.96,1.19,93.5,29,53.8,39.1,11.8,0.48,1]
[null,null,null,null,null,null,null,null,null,null,null,null,null,null,null,null,null,null,null,null,null,null,null,null,null,null,null,0,0,0,0,null,null,0,0,0,0,null,null,null,0,0,0,0,null,null,null,null,null,null,null,null,"Ayçiçeği Küspesi, Solvent, %25 HP",1,0.92200000000000004,2.06528,1.2723599999999999,261.84800000000001,null,48.180032000000004,4.4256000000000002,9.2200000000000006,30,40.299999999999997,0,"Ayçiçeği Küspesi, Solvent, %25 HP",2.2400000000000002,1.38,92.2,28.4,40.299999999999997,30,18.399999999999999,0.48,1]
[null,null,null,null,null,null,null,null,null,null,null,null,null,null,null,null,null,null,null,null,null,null,null,null,null,null,null,9.8916951689831265,3.6740845159216193,0,5.0728265110811748,null,null,3.5115517849890097,1.3043000031521748,0,1.8008534114338171,null,null,null,7.0231035699780193,2.6086000063043495,0,3.6017068228676341,null,null,null,null,null,null,null,null,"Ayçiçeği Küspesi, Solvent, %28 HP",1,0.92200000000000004,2.1021599999999996,1.383,285.82000000000005,null,52.590880000000006,4.4256000000000002,9.2200000000000006,28,38,0,"Ayçiçeği Küspesi, Solvent, %28 HP",2.2799999999999998,1.5,92.2,31,38,28,18.399999999999999,0.48,1]
[null,null,null,null,null,null,null,null,null,null,null,null,null,null,null,null,null,null,null,null,null,null,null,null,null,null,null,0,15.217748688129614,0,0,null,null,0,13.148134866543986,0,0,null,null,null,0,1.3148134866543986,0,0,null,null,null,null,null,null,null,null,"Ayçiçeği Küspesi, Solvent, %32 HP",1,0.92200000000000004,2.2128000000000001,1.4752000000000001,328.23200000000003,null,60.394687999999995,4.4256000000000002,9.2200000000000006,26,36,0,"Ayçiçeği Küspesi, Solvent, %32 HP",2.4,1.6,92.2,35.6,36,26,18.399999999999999,0.48,1]
[null,null,null,null,null,null,null,null,null,null,null,null,null,null,null,null,null,null,null,null,null,null,null,null,null,null,null,15,4.1012513636669183,0,1.970561945949322,null,null,15,4.1012513636669183,0,1.970561945949322,null,null,null,1,0.27341675757779454,0,0.13137079639662147,null,null,null,null,null,null,null,null,"Ayçiçeği Küspesi, Solvent, %34 HP",1,0.92200000000000004,2.2128000000000001,1.4752000000000001,346.67200000000003,null,63.787647999999997,4.4256000000000002,9.2200000000000006,24,34,0,"Ayçiçeği Küspesi, Solvent, %34 HP",2.4,1.6,92.2,37.6,34,24,18.399999999999999,0.48,1]
[null,null,null,null,null,null,null,null,null,null,null,null,null,null,null,null,null,null,null,null,null,null,null,null,null,null,null,9.600953258870738E-3,0,8.6617782495970574E-2,4.275646847673481E-2,null,null,9.600953258870738E-3,0,8.6617782495970574E-2,4.275646847673481E-2,null,null,null,9.600953258870738E-3,{"$f":"D19*$AP19","v":0},8.6617782495970574E-2,4.275646847673481E-2,null,null,null,null,null,null,null,null,"Ayçiçeği Küspesi, Solvent, %36 HP",1,0.92200000000000004,2.3972000000000002,1.5674000000000001,368.8,null,67.859200000000001,4.4256000000000002,9.2200000000000006,22,32,0,"Ayçiçeği Küspesi, Solvent, %36 HP",2.6,1.7,92.2,40,32,22,18.399999999999999,0.48,1]
[null,null,null,null,null,null,null,null,null,null,null,null,null,null,null,null,null,null,null,null,null,null,null,null,null,null,null,2.0880961562422567E-2,0,8.5831083183124809E-2,8.2821304805933069E-2,"GENEL",null,2.0880961562422567E-2,0,8.5831083183124809E-2,8.2821304805933069E-2,"GENEL",null,null,2.0880961562422567E-2,0,8.5831083183124809E-2,8.2821304805933069E-2,null,null,null,null,null,null,null,null,"Ayçiçeği Tohumu",1,0.91800000000000004,4.3237800000000002,3.10284,176.256,null,32.431103999999998,6.5177999999999994,4.6818,16.7,24,0,"Ayçiçeği Tohumu",4.71,3.38,91.8,19.2,24,16.7,18.399999999999999,0.71,0.51]
[null,null,null,null,null,null,null,null,null,null,null,null,null,null,null,null,null,null,null,null,null,null,null,null,null,null,"TOPLAM GÜNLÜK YEM MASRAFI",{"$f":"SUM(AB67:AB84)","v":28.507082431809145},{"$f":"SUM(AC67:AC84)","v":58.59707301974646},{"$f":"SUM(AD67:AD84)","v":14.038765010849021},{"$f":"SUM(AE67:AE84)","v":25.732300163941431},{"$f":"SUM(AB85:AE85)","v":126.87522062634606},"TOPLAM GÜNLÜK YEM MASRAFI",{"$f":"SUM(AH67:AH84)","v":21.865240957410684},{"$f":"SUM(AI67:AI84)","v":50.477526255138976},{"$f":"SUM(AJ67:AJ84)","v":12.411650317160447},{"$f":"SUM(AK67:AK84)","v":20.598456930413448},{"$f":"SUM(AH85:AK85)","v":105.35287446012356},null,null,null,null,null,null,null,null,null,null,null,null,null,null,"Balık Unu, Hamsi",1,0.92,3.1463999999999999,2.0424000000000002,655.04000000000008,null,335.38048000000003,37.351999999999997,24.747999999999998,0,0,0,"Balık Unu, Hamsi",3.42,2.2200000000000002,92,71.2,0,0,51.2,4.0599999999999996,2.69]
[null,null,null,null,null,null,null,null,null,null,null,null,null,null,null,null,null,null,null,null,null,null,null,null,null,null,"TOPLAM YEMTÜKETİM",{"$f":"SUM(C3:C20)","v":27.983682948796996},{"$f":"SUM(D3:D20)","v":24.583423037610093},{"$f":"SUM(E3:E20)","v":61.627490006044539},{"$f":"SUM(F3:F20)","v":20.388531557809713},{"$f":"SUM(AB86:AE86)","v":134.58312755026134},"TOPLAM YEMTÜKETİM",{"$f":"SUM(AO67:AO84)","v":14.70000000000007},{"$f":"SUM(AP67:AP84)","v":18.05},{"$f":"SUM(AQ67:AQ84)","v":18.774999999999999},{"$f":"SUM(AR67:AR84)","v":12.866197461840203},{"$f":"SUM(AH86:AK86)","v":64.391197461840278},null,null,null,null,null,null,null,null,null,null,null,null,null,null,"Balık Unu, Ringa",1,0.91200000000000003,3.2102400000000002,2.1249600000000002,624.72,null,369.20952000000005,48.700800000000001,27.815999999999995,0,0,0,"Balık Unu, Ringa",3.52,2.33,91.2,68.5,0,0,59.1,5.34,3.05]
[null,null,null,null,null,null,null,null,null,null,null,null,null,null,null,null,null,null,null,null,null,null,null,null,null,null,"BİRİM YEM MALİYET",{"$f":"AB85/AB86","v":1.0187037383167126},{"$f":"AC85/AC86","v":2.383601052225274},{"$f":"AD85/AD86","v":0.22780036976148263},{"$f":"AE85/AE86","v":1.262096786665581},{"$f":"AF85/AF86","v":0.9427275389997406},"BİRİM YEM MALİYET",{"$f":"AH85/AH86","v":1.4874313576469782},{"$f":"AI85/AI86","v":2.79653885070022},{"$f":"AJ85/AJ86","v":0.66107325257845262},{"$f":"AK85/AK86","v":1.6009747240011136},{"$f":"AL85/AL86","v":1.6361378358052454},null,null,null,null,null,null,null,null,null,null,null,null,null,null,"Ecomass",1,0.94,3.0644,1.8424,479.96400000000006,null,63.019273200000008,20.021999999999998,4.7,5.32,18.899999999999999,0,"Ecomass",3.26,1.96,94,51.06,18.899999999999999,5.32,13.13,2.13,0.5]
[null,null,null,null,null,null,null,null,null,null,null,null,null,null,null,null,null,null,null,null,null,null,null,null,null,null,"BİRİM SÜTÜN YEM MALİYETİ",null,{"$f":"AC85/M6","v":1.9532357673248819},{"$f":"AD85/N6","v":0.56155060043396088},{"$f":"AE85/O6","v":1.7154866775960955},{"$f":"(AB85*L5+AC85*M5+AD85*N5+AE85*O5)/(M6*M5+N6*N5+O6*O5)","v":1.3940786896842012},"BİRİM SÜTÜN YEM MALİYETİ",null,{"$f":"AI85/S6","v":{"$error":"#DIV/0!"}},{"$f":"AJ85/T6","v":{"$error":"#DIV/0!"}},{"$f":"AK85/U6","v":{"$error":"#DIV/0!"}},{"$f":"(AH85*R5+AI85*S5+AJ85*T5+AK85*U5)/(S6*S5+T6*T5+U6*U5)","v":{"$error":"#DIV/0!"}},null,null,null,null,null,null,null,null,null,null,null,null,null,null,"Et Unu",1,0.93899999999999995,3.1456500000000007,2.0751900000000001,540.86400000000003,null,224.45856000000001,83.195399999999992,39.438000000000002,0,0,0,"Et Unu",3.35,2.21,93.9,57.6,0,0,41.5,8.86,4.2]
[null,null,null,null,null,null,null,null,null,null,null,null,null,null,null,null,null,null,null,null,null,null,null,null,null,null,null,null,null,null,null,null,null,null,null,null,null,null,null,null,null,null,null,null,null,null,null,null,null,null,null,null,"Et-Kemik Unu",1,0.94,2.3875999999999999,1.5322,509.48,null,261.87272000000002,99.64,44.462000000000003,0,0,0,"Et-Kemik Unu",2.54,1.63,94,54.2,0,0,51.4,10.6,4.7300000000000004]
[null,null,null,null,null,null,null,null,null,null,null,null,null,null,null,null,null,null,null,null,null,null,null,null,null,null,null,null,null,null,null,null,null,null,null,null,null,null,null,null,null,null,null,null,null,null,null,null,null,null,null,null,"Kan Unu, Püskürtmeli Kurutulmuş",1,0.90200000000000002,3.2291599999999998,2.1016600000000003,861.41000000000008,null,610.73969000000011,2.706,2.706,0,0,0,"Kan Unu, Püskürtmeli Kurutulmuş",3.58,2.33,90.2,95.5,0,0,70.900000000000006,0.3,0.3]
[null,null,null,null,null,null,null,null,null,null,null,null,null,null,null,null,null,null,null,null,null,null,null,null,null,null,null,null,null,null,null,null,null,null,null,null,null,null,null,null,null,null,null,null,null,null,null,null,null,null,null,null,"Kan Unu, Teknede Kurutulmuş",1,0.90200000000000002,2.7420800000000001,1.7589000000000001,861.41000000000008,null,610.73969000000011,2.706,2.706,0,0,0,"Kan Unu, Teknede Kurutulmuş",3.04,1.95,90.2,95.5,0,0,70.900000000000006,0.3,0.3]
[null,null,null,null,null,null,null,null,null,null,null,null,null,null,null,null,null,null,null,null,null,null,null,null,null,null,null,null,null,null,null,null,null,null,null,null,null,null,null,null,null,null,null,null,null,null,null,null,null,null,null,null,"Kanola Küspesi, Pres",1,0.90300000000000002,2.48325,1.58928,341.33399999999995,null,90.794843999999998,6.7724999999999991,9.9329999999999998,20.5,29.9,0,"Kanola Küspesi, Pres",2.75,1.76,90.3,37.799999999999997,29.9,20.5,26.6,0.75,1.1000000000000001]
[null,null,null,null,null,null,null,null,null,null,null,null,null,null,null,null,null,null,null,null,null,null,null,null,null,null,null,null,null,null,null,null,null,null,null,null,null,null,null,null,null,null,null,null,null,null,null,null,null,null,null,null,"Kanola Tohumu",1,0.89900000000000002,4.4230800000000006,3.1644800000000002,184.29500000000002,null,28.565725,3.9556000000000004,6.1132000000000009,11.6,17.8,0,"Kanola Tohumu",4.92,3.52,89.9,20.5,17.8,11.6,15.5,0.44,0.68]
[null,null,null,null,null,null,null,null,null,null,null,null,null,null,null,null,null,null,null,null,null,null,null,null,null,null,null,null,null,null,null,null,null,null,null,null,null,null,null,null,null,null,null,null,null,null,null,null,null,null,null,null,"Keten Tohumu Küspesi, Solvent",1,0.90300000000000002,2.2665299999999995,1.4177100000000002,294.37800000000004,null,126.58254000000002,3.6119999999999997,7.4948999999999995,22.1,36.1,0,"Keten Tohumu Küspesi, Solvent",2.5099999999999998,1.57,90.3,32.6,36.1,22.1,43,0.4,0.83]
[null,null,null,null,null,null,null,null,null,null,null,null,null,null,null,null,null,null,null,null,null,null,null,null,null,null,null,null,null,null,null,null,null,null,null,null,null,null,null,null,null,null,null,null,null,null,null,null,null,null,null,null,"Mısır Gluteni,44",1,0.86399999999999999,2.62656,1.6848000000000001,404.35199999999998,null,250.37475839999999,0.51839999999999997,5.1840000000000002,8.1999999999999993,11.1,0,"Mısır Gluteni,44",3.04,1.95,86.4,46.8,11.1,8.1999999999999993,61.92,0.06,0.6]
[null,null,null,null,null,null,null,null,null,null,null,null,null,null,null,null,null,null,null,null,null,null,null,null,null,null,null,null,null,null,null,null,null,null,null,null,null,null,null,null,null,null,null,null,null,null,null,null,null,null,null,null,"MIsır Gluteni,63",1,0.86399999999999999,3.1622400000000006,2.0563199999999999,561.6,null,358.30080000000004,0.51839999999999997,5.1840000000000002,8.1999999999999993,11.1,0,"MIsır Gluteni,63",3.66,2.38,86.4,65,11.1,8.1999999999999993,63.8,0.06,0.6]
[null,null,null,null,null,null,null,null,null,null,null,null,null,null,null,null,null,null,null,null,null,null,null,null,null,null,null,null,null,null,null,null,null,null,null,null,null,null,null,null,null,null,null,null,null,null,null,null,null,null,null,null,"Pamuk Tohumu Küspesi, Pres, % 25 HP ",1,0.90500000000000003,2.0814999999999997,1.2669999999999999,249.78000000000003,null,104.90760000000002,1.81,9.0500000000000007,30,40,0,"Pamuk Tohumu Küspesi, Pres, % 25 HP ",2.2999999999999998,1.4,90.5,27.6,40,30,42,0.2,1]
[null,null,null,null,null,null,null,null,null,null,null,null,null,null,null,null,null,null,null,null,null,null,null,null,null,null,null,null,null,null,null,null,null,null,null,null,null,null,null,null,null,null,null,null,null,null,null,null,null,null,null,null,"Pamuk Tohumu Küspesi, Pres, % 28 HP ",1,0.90500000000000003,2.1719999999999997,1.3574999999999999,279.64499999999998,null,117.4509,1.81,9.0500000000000007,28,38,0,"Pamuk Tohumu Küspesi, Pres, % 28 HP ",2.4,1.5,90.5,30.9,38,28,42,0.2,1]
[null,null,null,null,null,null,null,null,null,null,null,null,null,null,null,null,null,null,null,null,null,null,null,null,null,null,null,null,null,null,null,null,null,null,null,null,null,null,null,null,null,null,null,null,null,null,null,null,null,null,null,null,"Pamuk Tohumu Küspesi, Pres, % 41 HP ",1,0.90500000000000003,2.6244999999999998,1.629,406.34499999999997,null,203.17250000000001,1.5385000000000002,5.43,18,31,0,"Pamuk Tohumu Küspesi, Pres, % 41 HP ",2.9,1.8,90.5,44.9,31,18,50,0.17,0.6]
[null,null,null,null,null,null,null,null,null,null,null,null,null,null,null,null,null,null,null,null,null,null,null,null,null,null,null,null,null,null,null,null,null,null,null,null,null,null,null,null,null,null,null,null,null,null,null,null,null,null,null,null,"Pamuk Tohumu Küspesi, Solvent, % 32 HP ",1,0.90500000000000003,2.2625000000000002,1.4480000000000002,320.37,null,128.148,1.81,9.0500000000000007,26,36,0,"Pamuk Tohumu Küspesi, Solvent, % 32 HP ",2.5,1.6,90.5,35.4,36,26,40,0.2,1]
[null,null,null,null,null,null,null,null,null,null,null,null,null,null,null,null,null,null,null,null,null,null,null,null,null,null,null,null,null,null,null,null,null,null,null,null,null,null,null,null,null,null,null,null,null,null,null,null,null,null,null,null,"Pamuk Tohumu Küspesi, Solvent, % 36 HP ",1,0.90500000000000003,2.3530000000000002,1.49325,360.18999999999994,null,144.07599999999999,1.81,9.0500000000000007,22,32,0,"Pamuk Tohumu Küspesi, Solvent, % 36 HP ",2.6,1.65,90.5,39.799999999999997,32,22,40,0.2,1]
[null,null,null,null,null,null,null,null,null,null,null,null,null,null,null,null,null,null,null,null,null,null,null,null,null,null,null,null,null,null,null,null,null,null,null,null,null,null,null,null,null,null,null,null,null,null,null,null,null,null,null,null,"Pamuk Tohumu Küspesi, Solvent, % 41 HP ",1,0.90500000000000003,2.4435000000000002,1.54755,406.34499999999997,null,162.53799999999998,1.81,10.407499999999999,19.899999999999999,30.8,0,"Pamuk Tohumu Küspesi, Solvent, % 41 HP ",2.7,1.71,90.5,44.9,30.8,19.899999999999999,40,0.2,1.1499999999999999]
[null,null,null,null,null,null,null,null,null,null,null,null,null,null,null,null,null,null,null,null,null,null,null,null,null,null,null,null,null,null,null,null,null,null,null,null,null,null,null,null,null,null,null,null,null,null,null,null,null,null,null,null,"Pamuk Tohumu, Lintli",1,0.90100000000000002,2.6219099999999997,1.7479399999999998,211.73499999999999,null,37.477094999999991,1.5317000000000001,5.4059999999999997,40.1,50.3,0,"Pamuk Tohumu, Lintli",2.91,1.94,90.1,23.5,50.3,40.1,17.7,0.17,0.6]
[null,null,null,null,null,null,null,null,null,null,null,null,null,null,null,null,null,null,null,null,null,null,null,null,null,null,null,null,null,null,null,null,null,null,null,null,null,null,null,null,null,null,null,null,null,null,null,null,null,null,null,null,"Peynir Altı Suyu, Sığır",1,0.20799999999999999,0.60736000000000001,0.38688,30.368000000000002,null,1.3969279999999999,2.8496000000000001,2.1632000000000002,0,0,0,"Peynir Altı Suyu, Sığır",2.92,1.86,20.8,14.6,0,0,4.5999999999999996,1.37,1.04]
[null,null,null,null,null,null,null,null,null,null,null,null,null,null,null,null,null,null,null,null,null,null,null,null,null,null,null,null,null,null,null,null,null,null,null,null,null,null,null,null,null,null,null,null,null,null,null,null,null,null,null,null,"Soya Fasülyesi",1,0.9,3.645,2.4750000000000001,352.80000000000007,null,75.852000000000018,2.88,5.4,13.1,19.5,0,"Soya Fasülyesi",4.05,2.75,90,39.200000000000003,19.5,13.1,21.5,0.32,0.6]
[null,null,null,null,null,null,null,null,null,null,null,null,null,null,null,null,null,null,null,null,null,null,null,null,null,null,null,null,null,null,null,null,null,null,null,null,null,null,null,null,null,null,null,null,null,null,null,null,null,null,null,null,"Soya Küspesi , Solvent, %44",1,0.89100000000000001,2.6729999999999996,1.6928999999999998,436.59,null,106.09136999999998,3.5640000000000001,6.3260999999999994,15,20,0,"Soya Küspesi , Solvent, %44",3,1.9,89.1,49,20,15,24.3,0.4,0.71]
[null,null,null,null,null,null,null,null,null,null,null,null,null,null,null,null,null,null,null,null,null,null,null,null,null,null,null,null,null,null,null,null,null,null,null,null,null,null,null,null,null,null,null,null,null,null,null,null,null,null,null,null,"Soya Küspesi , Solvent, %46",1,0.89100000000000001,2.6729999999999996,1.6928999999999998,436.59,null,106.09136999999998,3.5640000000000001,6.3260999999999994,15,20,0,"Soya Küspesi , Solvent, %46",3,1.9,89.1,49,20,15,24.3,0.4,0.71]
[null,null,null,null,null,null,null,null,null,null,null,null,null,null,null,null,null,null,null,null,null,null,null,null,null,null,null,null,null,null,null,null,null,null,null,null,null,null,null,null,null,null,null,null,null,null,null,null,null,null,null,null,"Soya Küspesi , Solvent, %48",1,0.89100000000000001,2.9492099999999999,1.8978299999999999,479.35799999999989,null,147.64226399999998,3.1184999999999996,6.2369999999999992,10,14.9,0,"Soya Küspesi , Solvent, %48",3.31,2.13,89.1,53.8,14.9,10,30.8,0.35,0.7]
[null,null,null,null,null,null,null,null,null,null,null,null,null,null,null,null,null,null,null,null,null,null,null,null,null,null,null,null,null,null,null,null,null,null,null,null,null,null,null,null,null,null,null,null,null,null,null,null,null,null,null,null,"Soya Küspesi , Solvent, %51",1,0.89500000000000002,3.0519499999999997,1.9779499999999999,510.15,null,157.12619999999998,3.1324999999999998,6.2649999999999997,6.2,9.8000000000000007,0,"Soya Küspesi , Solvent, %51",3.41,2.21,89.5,57,9.8000000000000007,6.2,30.8,0.35,0.7]
[null,null,null,null,null,null,null,null,null,null,null,null,null,null,null,null,null,null,null,null,null,null,null,null,null,null,null,null,null,null,null,null,null,null,null,null,null,null,null,null,null,null,null,null,null,null,null,null,null,null,null,null,"Soya Küspesi, Ekspeller, %45 HP",1,0.89600000000000002,3.2345599999999997,2.1324799999999997,448,null,259.83999999999997,3.2256,5.9135999999999997,10.4,21.7,0,"Soya Küspesi, Ekspeller, %45 HP",3.61,2.38,89.6,50,21.7,10.4,58,0.36,0.66]
[null,null,null,null,null,null,null,null,null,null,null,null,null,null,null,null,null,null,null,null,null,null,null,null,null,null,null,null,null,null,null,null,null,null,null,null,null,null,null,null,null,null,null,null,null,null,null,null,null,null,null,null,"Tam Yağlı Soya",1,0.91,3.64,2.4752000000000001,391.3,null,113.86830000000002,2.3660000000000001,5.8239999999999998,14.7,22.1,0,"Tam Yağlı Soya",4,2.72,91,43,22.1,14.7,29.1,0.26,0.64]
[null,null,null,null,null,null,null,null,null,null,null,null,null,null,null,null,null,null,null,null,null,null,null,null,null,null,null,null,null,null,null,null,null,null,null,null,null,null,null,null,null,null,null,null,null,null,null,null,null,null,null,null,"Tüy Unu Hidrolize",1,0.93300000000000005,3.0975599999999996,2.0059499999999999,858.36,null,533.04156,3.0789,4.665,0,0,0,"Tüy Unu Hidrolize",3.32,2.15,93.3,92,0,0,62.1,0.33,0.5]
[null,null,null,null,null,null,null,null,null,null,null,null,null,null,null,null,null,null,null,null,null,null,null,null,null,null,null,null,null,null,null,null,null,null,null,null,null,null,null,null,null,null,null,null,null,null,null,null,null,null,null,null,"Tüy Unu Hidrolize (+Biraz İç Organ )",1,0.91500000000000004,3.2757000000000001,2.1593999999999998,777.75,null,482.98275000000001,12.444000000000001,7.0454999999999997,0,0,0,"Tüy Unu Hidrolize (+Biraz İç Organ )",3.58,2.36,91.5,85,0,0,62.1,1.36,0.77]
[null,null,null,null,null,null,null,null,null,null,null,null,null,null,null,null,null,null,null,null,null,null,null,null,null,null,null,null,null,null,null,null,null,null,null,null,null,null,null,null,null,null,null,null,null,null,null,null,null,null,null,null,"Yer Fıstığı Küspesi, Solvent",1,0.92300000000000004,2.8797600000000001,1.8459999999999999,478.11399999999992,null,43.986487999999987,1.8460000000000001,5.9072000000000005,13.5,21.4,0,"Yer Fıstığı Küspesi, Solvent",3.12,2,92.3,51.8,21.4,13.5,9.1999999999999993,0.2,0.64]
[null,null,null,null,null,null,null,null,null,null,null,null,null,null,null,null,null,null,null,null,null,null,null,null,null,null,null,null,null,null,null,null,null,null,null,null,null,null,null,null,null,null,null,null,null,null,null,null,null,null,null,null,"Yonca Unu,% 17 HP",1,0.90300000000000002,1.7698799999999999,1.07457,173.376,null,54.786816000000009,13.274099999999999,2.5284000000000004,32.799999999999997,41.6,0,"Yonca Unu,% 17 HP",1.96,1.19,90.3,19.2,41.6,32.799999999999997,31.6,1.47,0.28000000000000003]
[null,null,null,null,null,null,null,null,null,null,null,null,null,null,null,null,null,null,null,null,null,null,null,null,null,null,null,null,null,null,null,null,null,null,null,null,null,null,null,null,null,null,null,null,null,null,null,null,null,null,null,null,"Arpa , Ezme",1,0.91,2.6571999999999996,1.6926000000000001,112.84,null,20.424040000000002,0.54600000000000004,3.5490000000000004,7.2,20.8,0,"Arpa , Ezme",2.92,1.86,91,12.4,20.8,7.2,18.100000000000001,0.06,0.39]
[null,null,null,null,null,null,null,null,null,null,null,null,null,null,null,null,null,null,null,null,null,null,null,null,null,null,null,null,null,null,null,null,null,null,null,null,null,null,null,null,null,null,null,null,null,null,null,null,null,null,null,null,"Buğday, Ezme",1,0.89400000000000002,2.7714000000000003,1.7790600000000001,126.94800000000001,null,24.881808000000007,0.44700000000000006,3.8441999999999998,4.4000000000000004,13.4,0,"Buğday, Ezme",3.1,1.99,89.4,14.2,13.4,4.4000000000000004,19.600000000000001,0.05,0.43]
[null,null,null,null,null,null,null,null,null,null,null,null,null,null,null,null,null,null,null,null,null,null,null,null,null,null,null,null,null,null,null,null,null,null,null,null,null,null,null,null,null,null,null,null,null,null,null,null,null,null,null,null,"Havuç",1,0.11,0.36299999999999999,0.2079,11,null,7.282,0.44000000000000006,0.38499999999999995,8,9,0,"Havuç",3.3,1.89,11,10,9,8,66.2,0.4,0.35]
[null,null,null,null,null,null,null,null,null,null,null,null,null,null,null,null,null,null,null,null,null,null,null,null,null,null,null,null,null,null,null,null,null,null,null,null,null,null,null,null,null,null,null,null,null,null,null,null,null,null,null,null,"Melas, Şeker Kamışı",1,0.74299999999999999,2.0655399999999999,1.30768,43.094000000000001,null,6.3348180000000003,7.43,0.74299999999999999,0.2,0.4,0,"Melas, Şeker Kamışı",2.78,1.76,74.3,5.8,0.4,0.2,14.7,1,0.1]
[null,null,null,null,null,null,null,null,null,null,null,null,null,null,null,null,null,null,null,null,null,null,null,null,null,null,null,null,null,null,null,null,null,null,null,null,null,null,null,null,null,null,null,null,null,null,null,null,null,null,null,null,"Melas, Şeker Pancarı",1,0.77900000000000003,2.2435200000000002,1.4333600000000002,66.215000000000003,null,9.7336050000000007,1.1685000000000001,0.23370000000000002,0.1,0.1,0,"Melas, Şeker Pancarı",2.88,1.84,77.900000000000006,8.5,0.1,0.1,14.7,0.15,0.03]
[null,null,null,null,null,null,null,null,null,null,null,null,null,null,null,null,null,null,null,null,null,null,null,null,null,null,null,null,null,null,null,null,null,null,null,null,null,null,null,null,null,null,null,null,null,null,null,null,null,null,null,null,"Mısır Grizi",1,0.88500000000000001,2.6019000000000001,1.6637999999999999,105.31500000000001,null,25.591545000000007,0.26549999999999996,5.7524999999999995,6.2,21.1,0,"Mısır Grizi",2.94,1.88,88.5,11.9,21.1,6.2,24.3,0.03,0.65]
[null,null,null,null,null,null,null,null,null,null,null,null,null,null,null,null,null,null,null,null,null,null,null,null,null,null,null,null,null,null,null,null,null,null,null,null,null,null,null,null,null,null,null,null,null,null,null,null,null,null,null,null,"Mısır Koçanı(Taneli),Öğütülmüş",1,0.89200000000000002,2.59572,1.6591200000000002,76.712000000000003,null,25.161536000000002,0.53520000000000001,2.5867999999999998,8,21.5,0,"Mısır Koçanı(Taneli),Öğütülmüş",2.91,1.86,89.2,8.6,21.5,8,32.799999999999997,0.06,0.28999999999999998]
[null,null,null,null,null,null,null,null,null,null,null,null,null,null,null,null,null,null,null,null,null,null,null,null,null,null,null,null,null,null,null,null,null,null,null,null,null,null,null,null,null,null,null,null,null,null,null,null,null,null,null,null,"Mısır Koçanı(Taneli),Öğütülmüş, Nemi Yüksek",1,0.67100000000000004,2.0331299999999994,1.3017399999999997,56.363999999999997,null,16.683744000000001,0.33550000000000002,1.8788,9.4,21,0,"Mısır Koçanı(Taneli),Öğütülmüş, Nemi Yüksek",3.03,1.94,67.099999999999994,8.4,21,9.4,29.6,0.05,0.28000000000000003]
[null,null,null,null,null,null,null,null,null,null,null,null,null,null,null,null,null,null,null,null,null,null,null,null,null,null,null,null,null,null,null,null,null,null,null,null,null,null,null,null,null,null,null,null,null,null,null,null,null,null,null,null,"Mısır, Ezilmiş, Nemi Yüksek",1,0.71799999999999997,2.2329799999999995,1.4431799999999999,66.055999999999997,null,21.732423999999995,0.21539999999999998,2.1539999999999999,3.6,10.3,0,"Mısır, Ezilmiş, Nemi Yüksek",3.11,2.0099999999999998,71.8,9.1999999999999993,10.3,3.6,32.9,0.03,0.3]
[null,null,null,null,null,null,null,null,null,null,null,null,null,null,null,null,null,null,null,null,null,null,null,null,null,null,null,null,null,null,null,null,null,null,null,null,null,null,null,null,null,null,null,null,null,null,null,null,null,null,null,null,"Mısır, Kırılmış, Kuru",1,0.88100000000000001,2.6253799999999994,1.6827099999999999,82.813999999999993,null,30.641179999999999,0.35239999999999999,2.6429999999999998,3.4,9.5,0,"Mısır, Kırılmış, Kuru",2.98,1.91,88.1,9.4,9.5,3.4,37,0.04,0.3]
[null,null,null,null,null,null,null,null,null,null,null,null,null,null,null,null,null,null,null,null,null,null,null,null,null,null,null,null,null,null,null,null,null,null,null,null,null,null,null,null,null,null,null,null,null,null,null,null,null,null,null,null,"Mısır, Öğütülmüş , Kuru",1,0.88100000000000001,2.7487200000000001,1.7708099999999996,82.813999999999993,null,30.641179999999999,0.35239999999999999,2.6429999999999998,3.4,9.5,0,"Mısır, Öğütülmüş , Kuru",3.12,2.0099999999999998,88.1,9.4,9.5,3.4,37,0.04,0.3]
[null,null,null,null,null,null,null,null,null,null,null,null,null,null,null,null,null,null,null,null,null,null,null,null,null,null,null,null,null,null,null,null,null,null,null,null,null,null,null,null,null,null,null,null,null,null,null,null,null,null,null,null,"Mısır, Öğütülmüş , Nemi Yüksek",1,0.71799999999999997,2.31914,1.5006199999999998,66.055999999999997,null,21.732423999999995,0.21539999999999998,2.1539999999999999,3.6,10.3,0,"Mısır, Öğütülmüş , Nemi Yüksek",3.23,2.09,71.8,9.1999999999999993,10.3,3.6,32.9,0.03,0.3]
[null,null,null,null,null,null,null,null,null,null,null,null,null,null,null,null,null,null,null,null,null,null,null,null,null,null,null,null,null,null,null,null,null,null,null,null,null,null,null,null,null,null,null,null,null,null,null,null,null,null,null,null,"Mısır, Pul Haline Gelmiş",1,0.88100000000000001,2.8544400000000003,1.8412899999999996,82.813999999999993,null,52.752518000000002,0.35239999999999999,2.6429999999999998,3.4,9.5,0,"Mısır, Pul Haline Gelmiş",3.24,2.09,88.1,9.4,9.5,3.4,63.7,0.04,0.3]
[null,null,null,null,null,null,null,null,null,null,null,null,null,null,null,null,null,null,null,null,null,null,null,null,null,null,null,null,null,null,null,null,null,null,null,null,null,null,null,null,null,null,null,null,null,null,null,null,null,null,null,null,"Patates",1,0.24,0.75840000000000007,0.43680000000000002,22.32,null,14.775840000000001,9.6000000000000002E-2,0.57599999999999996,1.4,9,0,"Patates",3.16,1.82,24,9.3000000000000007,9,1.4,66.2,0.04,0.24]
[null,null,null,null,null,null,null,null,null,null,null,null,null,null,null,null,null,null,null,null,null,null,null,null,null,null,null,null,null,null,null,null,null,null,null,null,null,null,null,null,null,null,null,null,null,null,null,null,null,null,null,null,"Sorgum, Kuru Ezme",1,0.88600000000000001,2.5073799999999999,1.5948,102.776,null,36.999359999999996,0.62019999999999997,3.1009999999999995,5.9,10.9,0,"Sorgum, Kuru Ezme",2.83,1.8,88.6,11.6,10.9,5.9,36,7.0000000000000007E-2,0.35]
[null,null,null,null,null,null,null,null,null,null,null,null,null,null,null,null,null,null,null,null,null,null,null,null,null,null,null,null,null,null,null,null,null,null,null,null,null,null,null,null,null,null,null,null,null,null,null,null,null,null,null,null,"Sorgum, Pul Haline Getirilmiş",1,0.88600000000000001,2.8086199999999995,1.8074399999999999,102.776,null,60.226736000000002,{"$f":"BQ131*BV131/10","v":0.62019999999999997},3.1009999999999995,5.9,10.9,0,"Sorgum, Pul Haline Getirilmiş",3.17,2.04,88.6,11.6,10.9,5.9,58.6,7.0000000000000007E-2,0.35]
[null,null,null,null,null,null,null,null,null,null,null,null,null,null,null,null,null,null,null,null,null,null,null,null,null,null,null,null,null,null,null,null,null,null,null,null,null,null,null,null,null,null,null,null,null,null,null,null,null,null,null,null,{"$f":"BN132","v":"Şeker Pancarı "},1,{"$f":"BQ132*10/1000","v":0.185},{"$f":"BO132*BQ132/100","v":0.55500000000000005},{"$f":"BP132*BQ132/100","v":0.32374999999999998},{"$f":"BR132*BQ132/10","v":13.875},null,{"$f":"BF132*BU132/100","v":9.1852500000000017},1.073,{"$f":"BW132*BQ132/10","v":0.29599999999999999},{"$f":"BT132","v":1.4},{"$f":"BS132","v":9},{"$f":"BX132","v":0},"Şeker Pancarı ",3,1.75,18.5,7.5,9,1.4,66.2,0.57999999999999996,0.16]
[null,null,null,null,null,null,null,null,null,null,null,null,null,null,null,null,null,null,null,null,null,null,null,null,null,null,null,null,null,null,null,null,null,null,null,null,null,null,null,null,null,null,null,null,null,null,null,null,null,null,null,null,"Tritikale",{"$f":"BB132","v":1},0.89,2.8034999999999997,1.5752999999999999,118.37,null,23.200520000000001,0.35599999999999998,3.0260000000000002,5.12,17.3,0,"Tritikale",3.15,1.77,89,13.3,17.3,5.12,19.600000000000001,0.04,0.34]
[null,null,null,null,null,null,null,null,null,null,null,null,null,null,null,null,null,null,null,null,null,null,null,null,null,null,null,null,null,null,null,null,null,null,null,null,null,null,null,null,null,null,null,null,null,null,null,null,null,null,null,null,"Yağ, Bitkisel",1,1,7.07,5.65,0,null,0,0,0,0,0,0,"Yağ, Bitkisel",7.07,5.65,100,0,0,0,0,0,0]
[null,null,null,null,null,null,null,null,null,null,null,null,null,null,null,null,null,null,null,null,null,null,null,null,null,null,null,null,null,null,null,null,null,null,null,null,null,null,null,null,null,null,null,null,null,null,null,null,null,null,null,null,"Yağ, Ca Sabunları",1,0.95299999999999996,5.9753099999999995,4.7840599999999993,0,null,0,0,0,0,0,0,"Yağ, Ca Sabunları",6.27,5.0199999999999996,95.3,0,0,0,0,0,0]
[null,null,null,null,null,null,null,null,null,null,null,null,null,null,null,null,null,null,null,null,null,null,null,null,null,null,null,null,null,null,null,null,null,null,null,null,null,null,null,null,null,null,null,null,null,null,null,null,null,null,null,null,"Yağ, Hidrolize(Kuyruk Yağı Yağ Asitleri)",1,0.998,6.7464799999999991,5.3991800000000003,0,null,0,0,0,0,0,0,"Yağ, Hidrolize(Kuyruk Yağı Yağ Asitleri)",6.76,5.41,99.8,0,0,0,0,0,0]
[null,null,null,null,null,null,null,null,null,null,null,null,null,null,null,null,null,null,null,null,null,null,null,null,null,null,null,null,null,null,null,null,null,null,null,null,null,null,null,null,null,null,null,null,null,null,null,null,null,null,null,null,"YAĞ,Kısmi Hidrojenize Kuyruk Yağı",1,1,3.72,2.97,0,null,0,0,0,0,0,0,"YAĞ,Kısmi Hidrojenize Kuyruk Yağı",3.72,2.97,100,0,0,0,0,0,0]
[null,null,null,null,null,null,null,null,null,null,null,null,null,null,null,null,null,null,null,null,null,null,null,null,null,null,null,null,null,null,null,null,null,null,null,null,null,null,null,null,null,null,null,null,null,null,null,null,null,null,null,null,"Yağ, Kuyruk",1,0.998,5.6486800000000006,4.5209399999999995,0,null,0,0,0,0,0,0,"Yağ, Kuyruk",5.66,4.53,99.8,0,0,0,0,0,0]
[null,null,null,null,null,null,null,null,null,null,null,null,null,null,null,null,null,null,null,null,null,null,null,null,null,null,null,null,null,null,null,null,null,null,null,null,null,null,null,null,null,null,null,null,null,null,null,null,null,null,null,null,"Yem Şalgamı",1,0.09,0.27900000000000003,0.18,10.8,null,6.0480000000000009,0.63,0.30599999999999999,34,44,0,"Yem Şalgamı",3.1,2,9,12,44,34,56,0.7,0.34]
[null,null,null,null,null,null,null,null,null,null,null,null,null,null,null,null,null,null,null,null,null,null,null,null,null,null,null,null,null,null,null,null,null,null,null,null,null,null,null,null,null,null,null,null,null,null,null,null,null,null,null,null,"Yulaf, Ezme",1,0.9,2.5019999999999998,1.5930000000000002,118.8,null,13.780799999999999,0.99,3.6,14.6,30,0,"Yulaf, Ezme",2.78,1.77,90,13.2,30,14.6,11.6,0.11,0.4]
[null,null,null,null,null,null,null,null,null,null,null,null,null,null,null,null,null,null,null,null,null,null,null,null,null,null,null,null,null,null,null,null,null,null,null,null,null,null,null,null,null,null,null,null,null,null,null,null,null,null,null,null,"Arpa, Malt Cili",1,0.90500000000000003,2.1538999999999997,1.3484499999999999,181.90500000000003,null,38.563860000000005,2.1719999999999997,4.6154999999999999,21.8,47,0,"Arpa, Malt Cili",2.38,1.49,90.5,20.100000000000001,47,21.8,21.2,0.24,0.51]
[null,null,null,null,null,null,null,null,null,null,null,null,null,null,null,null,null,null,null,null,null,null,null,null,null,null,null,null,null,null,null,null,null,null,null,null,null,null,null,null,null,null,null,null,null,null,null,null,null,null,null,null,"Badem Kabukları",1,0.86899999999999999,1.6424100000000001,0.99065999999999999,56.484999999999999,null,28.581410000000002,2.4332000000000003,1.1297000000000001,28.7,36.799999999999997,0,"Badem Kabukları",1.89,1.1399999999999999,86.9,6.5,36.799999999999997,28.7,50.6,0.28000000000000003,0.13]
[null,null,null,null,null,null,null,null,null,null,null,null,null,null,null,null,null,null,null,null,null,null,null,null,null,null,null,null,null,null,null,null,null,null,null,null,null,null,null,null,null,null,null,null,null,null,null,null,null,null,null,null,"Bira Posası, Kuru",1,0.90700000000000003,2.4398300000000002,1.5509700000000002,264.84399999999999,null,125.8009,2.7210000000000001,6.0769000000000002,22.2,47.4,0,"Bira Posası, Kuru",2.69,1.71,90.7,29.2,47.4,22.2,47.5,0.3,0.67]
[null,null,null,null,null,null,null,null,null,null,null,null,null,null,null,null,null,null,null,null,null,null,null,null,null,null,null,null,null,null,null,null,null,null,null,null,null,null,null,null,null,null,null,null,null,null,null,null,null,null,null,null,"Bira Posası, Yaş",1,0.218,0.58642000000000005,0.37278,61.911999999999999,null,18.202127999999998,0.76300000000000001,1.2862,23.1,47.1,0,"Bira Posası, Yaş",2.69,1.71,21.8,28.4,47.1,23.1,29.4,0.35,0.59]
[null,null,null,null,null,null,null,null,null,null,null,null,null,null,null,null,null,null,null,null,null,null,null,null,null,null,null,null,null,null,null,null,null,null,null,null,null,null,null,null,null,null,null,null,null,null,null,null,null,null,null,null,"Bon Kalite",1,0.88,3.0536000000000003,1.6895999999999998,154.88000000000002,null,27.413760000000003,1.4079999999999999,8.9760000000000009,6,20,0,"Bon Kalite",3.47,1.92,88,17.600000000000001,20,6,17.7,0.16,1.02]
[null,null,null,null,null,null,null,null,null,null,null,null,null,null,null,null,null,null,null,null,null,null,null,null,null,null,null,null,null,null,null,null,null,null,null,null,null,null,null,null,null,null,null,null,null,null,null,null,null,null,null,null,"Buğday, DDGS, APAK",1,0.31980000000000003,0.88904399999999995,0.57564000000000004,78.031199999999998,null,30.042012,0.70356000000000007,2.6543399999999999,24.72,47.78,0,"Buğday, DDGS, APAK",2.78,1.8,31.98,24.4,47.78,24.72,38.5,0.22,0.83]
[null,null,null,null,null,null,null,null,null,null,null,null,null,null,null,null,null,null,null,null,null,null,null,null,null,null,null,null,null,null,null,null,null,null,null,null,null,null,null,null,null,null,null,null,null,null,null,null,null,null,null,null,"Buğday, DDGS, Yas",1,0.31539999999999996,0.9556619999999999,0.61818399999999996,90.109780000000001,null,38.936435938000002,0.69387999999999994,2.6178199999999996,19.43,54.04,0,"Buğday, DDGS, Yas",3.03,1.96,31.54,28.57,54.04,19.43,43.21,0.22,0.83]
[null,null,null,null,null,null,null,null,null,null,null,null,null,null,null,null,null,null,null,null,null,null,null,null,null,null,null,null,null,null,null,null,null,null,null,null,null,null,null,null,null,null,null,null,null,null,null,null,null,null,null,null,"Buğday DDGS + % 20 SPP, Ambalajlı",1,0.28832000000000002,0.85804032000000008,0.54146496,72.299123200000011,null,34.564764819456002,1.0091199999999998,1.9721088000000002,20.164000000000001,52.247999999999998,0,"Buğday DDGS + % 20 SPP, Ambalajlı",2.976,1.8779999999999999,28.832000000000001,25.076000000000001,52.247999999999998,20.164000000000001,47.808,0.35,0.68400000000000005]
[null,null,null,null,null,null,null,null,null,null,null,null,null,null,null,null,null,null,null,null,null,null,null,null,null,null,null,null,null,null,null,null,null,null,null,null,null,null,null,null,null,null,null,null,null,null,null,null,null,null,null,null,"Buğday Kepeği",1,0.89100000000000001,2.2720499999999997,1.43451,154.143,null,22.504877999999998,1.1583000000000001,10.5138,15.5,42.5,0,"Buğday Kepeği",2.5499999999999998,1.61,89.1,17.3,42.5,15.5,14.6,0.13,1.18]
[null,null,null,null,null,null,null,null,null,null,null,null,null,null,null,null,null,null,null,null,null,null,null,null,null,null,null,null,null,null,null,null,null,null,null,null,null,null,null,null,null,null,null,null,null,null,null,null,null,null,null,null,"Buğday Kepeği, Razmol",1,0.89500000000000002,2.3628,1.49465,165.57499999999999,null,29.306774999999998,1.4319999999999999,9.1290000000000013,12.1,36.700000000000003,0,"Buğday Kepeği, Razmol",2.64,1.67,89.5,18.5,36.700000000000003,12.1,17.7,0.16,1.02]
[null,null,null,null,null,null,null,null,null,null,null,null,null,null,null,null,null,null,null,null,null,null,null,null,null,null,null,null,null,null,null,null,null,null,null,null,null,null,null,null,null,null,null,null,null,null,null,null,null,null,null,null,"Çikolata Yan Ürünleri",1,0.95199999999999996,3.5890399999999998,2.4371200000000002,113.28800000000001,null,16.653336000000003,2.0943999999999998,2.8559999999999999,15.7,23.8,0,"Çikolata Yan Ürünleri",3.77,2.56,95.2,11.9,23.8,15.7,14.7,0.22,0.3]
[null,null,null,null,null,null,null,null,null,null,null,null,null,null,null,null,null,null,null,null,null,null,null,null,null,null,null,null,null,null,null,null,null,null,null,null,null,null,null,null,null,null,null,null,null,null,null,null,null,null,null,null,"Domates Kurusu",1,0.86180000000000012,1.98214,1.2927000000000002,119.53166000000002,null,28.926661720000002,1.8959600000000001,4.0504600000000002,35,40,0,"Domates Kurusu",2.2999999999999998,1.5,86.18,13.87,40,35,24.2,0.22,0.47]
[null,null,null,null,null,null,null,null,null,null,null,null,null,null,null,null,null,null,null,null,null,null,null,null,null,null,null,null,null,null,null,null,null,null,null,null,null,null,null,null,null,null,null,null,null,null,null,null,null,null,null,null,"Domates Posası, Yaş",1,0.247,0.58538999999999997,0.37544,47.670999999999999,null,11.536381999999998,0.54339999999999999,1.1608999999999998,47.6,60,0,"Domates Posası, Yaş",2.37,1.52,24.7,19.3,60,47.6,24.2,0.22,0.47]
[null,null,null,null,null,null,null,null,null,null,null,null,null,null,null,null,null,null,null,null,null,null,null,null,null,null,null,null,null,null,null,null,null,null,null,null,null,null,null,null,null,null,null,null,null,null,null,null,null,null,null,null,"Elma Posası, Yaş",1,0.22,0.54780000000000006,0.27500000000000002,11.88,null,2.8749600000000002,0.50600000000000001,0.24199999999999999,28,48,0,"Elma Posası, Yaş",2.4900000000000002,1.25,22,5.4,48,28,24.2,0.23,0.11]
[null,null,null,null,null,null,null,null,null,null,null,null,null,null,null,null,null,null,null,null,null,null,null,null,null,null,null,null,null,null,null,null,null,null,null,null,null,null,null,null,null,null,null,null,null,null,null,null,null,null,null,null,"Fırıncılık Yan Ürünleri, Bisküvi Artığı",1,0.90100000000000002,3.0633999999999997,2.01824,87.396999999999991,null,15.469268999999997,2.0722999999999998,2.6128999999999998,6.5,12.7,0,"Fırıncılık Yan Ürünleri, Bisküvi Artığı",3.4,2.2400000000000002,90.1,9.6999999999999993,12.7,6.5,17.7,0.23,0.28999999999999998]
[null,null,null,null,null,null,null,null,null,null,null,null,null,null,null,null,null,null,null,null,null,null,null,null,null,null,null,null,null,null,null,null,null,null,null,null,null,null,null,null,null,null,null,null,null,null,null,null,null,null,null,null,"Fırıncılık Yan Ürünleri, Ekmak Artığı",1,0.68300000000000005,2.2197499999999999,1.4274699999999998,102.45,null,18.133649999999999,0.95620000000000016,1.3660000000000001,3.1,8.9,0,"Fırıncılık Yan Ürünleri, Ekmak Artığı",3.25,2.09,68.3,15,8.9,3.1,17.7,0.14000000000000001,0.2]
[null,null,null,null,null,null,null,null,null,null,null,null,null,null,null,null,null,null,null,null,null,null,null,null,null,null,null,null,null,null,null,null,null,null,null,null,null,null,null,null,null,null,null,null,null,null,null,null,null,null,null,null,"Fırıncılık Yan Ürünleri, Tahıl Artığı",1,0.88500000000000001,2.7169499999999998,1.7434499999999999,80.534999999999997,null,11.758109999999999,1.5045000000000002,2.5665,3.9,10,0,"Fırıncılık Yan Ürünleri, Tahıl Artığı",3.07,1.97,88.5,9.1,10,3.9,14.6,0.17,0.28999999999999998]
[null,null,null,null,null,null,null,null,null,null,null,null,null,null,null,null,null,null,null,null,null,null,null,null,null,null,null,null,null,null,null,null,null,null,null,null,null,null,null,null,null,null,null,null,null,null,null,null,null,null,null,null,"Fırıncılık Yan Ürünleri,Un Artığı",1,0.84699999999999998,2.8543900000000004,1.8718700000000001,105.875,null,18.739874999999998,1.6940000000000002,3.0491999999999999,6.5,13.9,0,"Fırıncılık Yan Ürünleri,Un Artığı",3.37,2.21,84.7,12.5,13.9,6.5,17.7,0.2,0.36]
[null,null,null,null,null,null,null,null,null,null,null,null,null,null,null,null,null,null,null,null,null,null,null,null,null,null,null,null,null,null,null,null,null,null,null,null,null,null,null,null,null,null,null,null,null,null,null,null,null,null,null,null,"Havuç Posası , Yaş",1,0.14000000000000001,0.34860000000000002,0.1764,8.4,null,5.5608000000000004,0.56000000000000005,0.48999999999999994,23,40,0,"Havuç Posası , Yaş",2.4900000000000002,1.26,14,6,40,23,66.2,0.4,0.35]
[null,null,null,null,null,null,null,null,null,null,null,null,null,null,null,null,null,null,null,null,null,null,null,null,null,null,null,null,null,null,null,null,null,null,null,null,null,null,null,null,null,null,null,null,null,null,null,null,null,null,null,null,"İncir Kurusu",1,0.85180000000000011,1.925068,1.3628800000000001,38.07546,null,7.6150919999999998,0,0,8.02,8.9,0,"İncir Kurusu",2.2599999999999998,1.6,85.18,4.47,8.9,8.02,20,0,0]
[null,null,null,null,null,null,null,null,null,null,null,null,null,null,null,null,null,null,null,null,null,null,null,null,null,null,null,null,null,null,null,null,null,null,null,null,null,null,null,null,null,null,null,null,null,null,null,null,null,null,null,null,"Mısır DDGS, Kuru",1,0.90200000000000002,2.73306,1.7769400000000002,267.89400000000001,null,113.05126800000002,1.9844000000000002,7.4866000000000001,19.7,38.799999999999997,0,"Mısır DDGS, Kuru",3.03,1.97,90.2,29.7,38.799999999999997,19.7,42.2,0.22,0.83]
[null,null,null,null,null,null,null,null,null,null,null,null,null,null,null,null,null,null,null,null,null,null,null,null,null,null,null,null,null,null,null,null,null,null,null,null,null,null,null,null,null,null,null,null,null,null,null,null,null,null,null,null,"Mısır Gluten Yemi",1,0.89400000000000002,2.44062,1.5466200000000001,212.77200000000002,null,51.065280000000001,0.62580000000000013,8.9400000000000013,12.1,35.5,0,"Mısır Gluten Yemi",2.73,1.73,89.4,23.8,35.5,12.1,24,7.0000000000000007E-2,1]
[null,null,null,null,null,null,null,null,null,null,null,null,null,null,null,null,null,null,null,null,null,null,null,null,null,null,null,null,null,null,null,null,null,null,null,null,null,null,null,null,null,null,null,null,null,null,null,null,null,null,null,null,"Mısır Hasat Artıkları(fodder)",1,0.8,1.784,1.056,72,null,32.4,4,2,29,48,0,"Mısır Hasat Artıkları(fodder)",2.23,1.32,80,9,48,29,45,0.5,0.25]
[null,null,null,null,null,null,null,null,null,null,null,null,null,null,null,null,null,null,null,null,null,null,null,null,null,null,null,null,null,null,null,null,null,null,null,null,null,null,null,null,null,null,null,null,null,null,null,null,null,null,null,null,"Mısır Hasat Artıkları(saplar)(stover)",1,0.8,1.464,0.8640000000000001,40,null,12,3.6,1.2,43,70,0,"Mısır Hasat Artıkları(saplar)(stover)",1.83,1.08,80,5,70,43,30,0.45,0.15]
[null,null,null,null,null,null,null,null,null,null,null,null,null,null,null,null,null,null,null,null,null,null,null,null,null,null,null,null,null,null,null,null,null,null,null,null,null,null,null,null,null,null,null,null,null,null,null,null,null,null,null,null,"Mısır Özü Küspesi",1,0.93,2.7713999999999999,1.5716999999999999,198.834,null,126.657258,0.372,5.1150000000000002,14.18,47.91,0,"Mısır Özü Küspesi",2.98,1.69,93,21.38,47.91,14.18,63.7,0.04,0.55000000000000004]
[null,null,null,null,null,null,null,null,null,null,null,null,null,null,null,null,null,null,null,null,null,null,null,null,null,null,null,null,null,null,null,null,null,null,null,null,null,null,null,null,null,null,null,null,null,null,null,null,null,null,null,null,"Mısır Sömeği",1,0.90800000000000003,1.5254399999999999,0.89891999999999994,27.24,null,9.5884800000000006,0.90800000000000003,0.54479999999999995,42.2,86.2,0,"Mısır Sömeği",1.68,0.99,90.8,3,86.2,42.2,35.200000000000003,0.1,0.06]
[null,null,null,null,null,null,null,null,null,null,null,null,null,null,null,null,null,null,null,null,null,null,null,null,null,null,null,null,null,null,null,null,null,null,null,null,null,null,null,null,null,null,null,null,null,null,null,null,null,null,null,null,"Pamuk Tohumu Kapçığı",1,0.89,0.84549999999999992,0.42719999999999997,55.180000000000007,null,27.921080000000007,1.6019999999999999,1.0680000000000001,64.900000000000006,85,0,"Pamuk Tohumu Kapçığı",0.95,0.48,89,6.2,85,64.900000000000006,50.6,0.18,0.12]
[null,null,null,null,null,null,null,null,null,null,null,null,null,null,null,null,null,null,null,null,null,null,null,null,null,null,null,null,null,null,null,null,null,null,null,null,null,null,null,null,null,null,null,null,null,null,null,null,null,null,null,null,"Patates Yan Ürünleri",1,0.35399999999999998,1.0053599999999998,0.65489999999999993,37.17,null,24.606539999999999,1.7345999999999999,1.0265999999999997,16.5,22.1,0,"Patates Yan Ürünleri",2.84,1.85,35.4,10.5,22.1,16.5,66.2,0.49,0.28999999999999998]
[null,null,null,null,null,null,null,null,null,null,null,null,null,null,null,null,null,null,null,null,null,null,null,null,null,null,null,null,null,null,null,null,null,null,null,null,null,null,null,null,null,null,null,null,null,null,null,null,null,null,null,null,"Pirinç Kepeği",1,0.90600000000000003,2.7995399999999995,1.8572999999999995,140.43,null,57.155010000000011,0.6342000000000001,16.126799999999999,13.1,26.1,0,"Pirinç Kepeği",3.09,2.0499999999999998,90.6,15.5,26.1,13.1,40.700000000000003,7.0000000000000007E-2,1.78]
[null,null,null,null,null,null,null,null,null,null,null,null,null,null,null,null,null,null,null,null,null,null,null,null,null,null,null,null,null,null,null,null,null,null,null,null,null,null,null,null,null,null,null,null,null,null,null,null,null,null,null,null,"Soya Tohum Kabukları",1,0.90900000000000003,2.1270599999999997,1.32714,126.35100000000003,null,43.46474400000001,5.7267000000000001,1.5453000000000003,44.6,60.3,0,"Soya Tohum Kabukları",2.34,1.46,90.9,13.9,60.3,44.6,34.4,0.63,0.17]
[null,null,null,null,null,null,null,null,null,null,null,null,null,null,null,null,null,null,null,null,null,null,null,null,null,null,null,null,null,null,null,null,null,null,null,null,null,null,null,null,null,null,null,null,null,null,null,null,null,null,null,null,"Şeker Pancarı Posası, Kuru",1,0.88300000000000001,2.0838799999999997,1.2980099999999999,88.3,null,58.454599999999999,8.0352999999999994,0.79469999999999996,23.1,45.8,0,"Şeker Pancarı Posası, Kuru",2.36,1.47,88.3,10,45.8,23.1,66.2,0.91,0.09]
[null,null,null,null,null,null,null,null,null,null,null,null,null,null,null,null,null,null,null,null,null,null,null,null,null,null,null,null,null,null,null,null,null,null,null,null,null,null,null,null,null,null,null,null,null,null,null,null,null,null,null,null,"Şeker Pancarı Posası, Yaş",1,0.17,0.46919999999999995,0.26350000000000001,19.04,null,12.604480000000001,1.4789999999999999,0.17,23.1,45.8,0,"Şeker Pancarı Posası, Yaş",2.76,1.55,17,11.2,45.8,23.1,66.2,0.87,0.1]
[null,null,null,null,null,null,null,null,null,null,null,null,null,null,null,null,null,null,null,null,null,null,null,null,null,null,null,null,null,null,null,null,null,null,null,null,null,null,null,null,null,null,null,null,null,null,null,null,null,null,null,null,"Şeker Pancarı Posası, Yaş, Ambalajlı",1,0.19,0.52439999999999998,0.29449999999999998,21.09,null,13.961580000000001,1.653,0.19,23.1,45.8,0,"Şeker Pancarı Posası, Yaş, Ambalajlı",2.76,1.55,19,11.1,45.8,23.1,66.2,0.87,0.1]
[null,null,null,null,null,null,null,null,null,null,null,null,null,null,null,null,null,null,null,null,null,null,null,null,null,null,null,null,null,null,null,null,null,null,null,null,null,null,null,null,null,null,null,null,null,null,null,null,null,null,null,null,"Turunçgil Posası, Kuru",1,0.85799999999999998,2.3680799999999995,1.5100800000000001,59.201999999999998,null,14.326884,16.473599999999998,1.0295999999999998,22.2,24.2,0,"Turunçgil Posası, Kuru",2.76,1.76,85.8,6.9,24.2,22.2,24.2,1.92,0.12]
[null,null,null,null,null,null,null,null,null,null,null,null,null,null,null,null,null,null,null,null,null,null,null,null,null,null,null,null,null,null,null,null,null,null,null,null,null,null,null,null,null,null,null,null,null,null,null,null,null,null,null,null,"Üzüm Kurusu",1,0.86439999999999995,1.6423599999999998,1.1842280000000001,48.319959999999995,null,9.6639919999999986,5.0135199999999998,1.4694800000000001,19.2,22.84,0,"Üzüm Kurusu",1.9,1.37,86.44,5.59,22.84,19.2,20,0.57999999999999996,0.17]
[null,null,null,null,null,null,null,null,null,null,null,null,null,null,null,null,null,null,null,null,null,null,null,null,null,null,null,null,null,null,null,null,null,null,null,null,null,null,null,null,null,null,null,null,null,null,null,null,null,null,null,null,"Üzüm Posası,Kuru",1,0.9,0.65700000000000003,0.38700000000000001,120.6,null,29.185199999999998,5.22,1.53,54.4,53.2,0,"Üzüm Posası,Kuru",0.73,0.43,90,13.4,53.2,54.4,24.2,0.57999999999999996,0.17]
[null,null,null,null,null,null,null,null,null,null,null,null,null,null,null,null,null,null,null,null,null,null,null,null,null,null,null,null,null,null,null,null,null,null,null,null,null,null,null,null,null,null,null,null,null,null,null,null,null,null,null,null,"Zeytin Küspesi, Yağı Tam Alınmamış",1,0.65400000000000003,1.1445000000000001,0.69978000000000007,51.012,null,0,0,0,60.1,67.8,0,"Zeytin Küspesi, Yağı Tam Alınmamış",1.75,1.07,65.400000000000006,7.8,67.8,60.1,0,0,0]
[null,null,null,null,null,null,null,null,null,null,null,null,null,null,null,null,null,null,null,null,null,null,null,null,null,null,null,null,null,null,null,null,null,null,null,null,null,null,null,null,null,null,null,null,null,null,null,null,null,null,null,null,"Zeytin Küspesi, Yağı Tam Alınmış",1,0.68300000000000005,1.1815899999999999,0.71715000000000007,52.590999999999994,null,0,0,0,61.9,72.400000000000006,0,"Zeytin Küspesi, Yağı Tam Alınmış",1.73,1.05,68.3,7.7,72.400000000000006,61.9,0,0,0]
[null,null,null,null,null,null,null,null,null,null,null,null,null,null,null,null,null,null,null,null,null,null,null,null,null,null,null,null,null,null,null,null,null,null,null,null,null,null,null,null,null,null,null,null,null,null,null,null,null,null,null,null,"Buzağı Başlangıç Yemi",1,0.9,2.952,1.4678453038674033,162,null,40.5,6.2999999999999989,4.05,11.6,12.8,4000,"Buzağı Başlangıç Yemi",3.28,1.630939226519337,90,18,12.8,11.6,25,0.7,0.45,4000]
[null,null,null,null,null,null,null,null,null,null,null,null,null,null,null,null,null,null,null,null,null,null,null,null,null,null,null,null,null,null,null,null,null,null,null,null,null,null,null,null,null,null,null,null,null,null,null,null,null,null,null,null,"Buzağı Büyütme Yemi",1,0.9,2.9160000000000004,1.4499447513812154,144,null,30.24,5.4,3.6,8,18,4000,"Buzağı Büyütme Yemi",3.24,1.6110497237569061,90,16,18,8,21,0.6,0.4,4000]
[null,null,null,null,null,null,null,null,null,null,null,null,null,null,null,null,null,null,null,null,null,null,null,null,null,null,null,null,null,null,null,null,null,null,null,null,null,null,null,null,null,null,null,null,null,null,null,null,null,null,null,null,"Düve Yemi 1. Sınıf (TS11110)",1,0.89100000000000001,2.7799200000000002,1.7730900000000001,171.07199999999997,null,44.889292799999993,10.5138,5.6132999999999997,4.72,10.29,0,"Düve Yemi 1. Sınıf (TS11110)",3.12,1.99,89.1,19.2,10.29,4.72,26.24,1.18,0.63]
[null,null,null,null,null,null,null,null,null,null,null,null,null,null,null,null,null,null,null,null,null,null,null,null,null,null,null,null,null,null,null,null,null,null,null,null,null,null,null,null,null,null,null,null,null,null,null,null,null,null,null,null,"Düve Yemi 2. Sınıf (TS11110)",1,0.8990999999999999,2.7152819999999998,1.735263,161.83799999999999,null,36.041322600000001,10.519469999999998,5.84415,6.27,13.82,0,"Düve Yemi 2. Sınıf (TS11110)",3.02,1.93,89.91,18,13.82,6.27,22.27,1.17,0.65]
[null,null,null,null,null,null,null,null,null,null,null,null,null,null,null,null,null,null,null,null,null,null,null,null,null,null,null,null,null,null,null,null,null,null,null,null,null,null,null,null,null,null,null,null,null,null,null,null,null,null,null,null,"Kazein",1,0.91,4.6228000000000007,2.2986298342541436,843.57,null,0,3.6399999999999997,3.1849999999999996,0,0,0,"Kazein",5.08,2.5259668508287292,91,92.7,0,0,0,0.4,0.35]
[null,null,null,null,null,null,null,null,null,null,null,null,null,null,null,null,null,null,null,null,null,null,null,null,null,null,null,null,null,null,null,null,null,null,null,null,null,null,null,null,null,null,null,null,null,null,null,null,null,null,null,null,"Lor Altı Suyu-Fimar",1,0.05,0.18100000000000002,0.09,4.4249999999999998,null,0,0.36499999999999999,0.32500000000000001,0,0,0,"Lor Altı Suyu-Fimar",3.62,1.8,5,8.85,0,0,0,0.73,0.65]
[null,null,null,null,null,null,null,null,null,null,null,null,null,null,null,null,null,null,null,null,null,null,null,null,null,null,null,null,null,null,null,null,null,null,null,null,null,null,null,null,null,null,null,null,null,null,null,null,null,null,null,null,"Peynir Altı Suyu",1,7.0000000000000007E-2,0.25340000000000001,0.14000000000000001,9.94,null,0,0.5109999999999999,0.45499999999999996,0,0,0,"Peynir Altı Suyu",3.62,2,7,14.2,0,0,0,0.73,0.65]
[null,null,null,null,null,null,null,null,null,null,null,null,null,null,null,null,null,null,null,null,null,null,null,null,null,null,null,null,null,null,null,null,null,null,null,null,null,null,null,null,null,null,null,null,null,null,null,null,null,null,null,null,"Peynir Altı Suyu Protein Konsantresi",1,0.93,3.8780999999999999,2.1425966850828733,345.03000000000003,null,0,5.0220000000000002,5.58,0,0,0,"Peynir Altı Suyu Protein Konsantresi",4.17,2.3038674033149174,93,37.1,0,0,0,0.54,0.6]
[null,null,null,null,null,null,null,null,null,null,null,null,null,null,null,null,null,null,null,null,null,null,null,null,null,null,null,null,null,null,null,null,null,null,null,null,null,null,null,null,null,null,null,null,null,null,null,null,null,null,null,null,"Peynir Altı Suyu Tozu",1,0.98,3.3418000000000001,1.8462983425414368,134.26,null,0,17.346,9.5060000000000002,0,0,0,"Peynir Altı Suyu Tozu",3.41,1.8839779005524864,98,13.7,0,0,0,1.77,0.97]
[null,null,null,null,null,null,null,null,null,null,null,null,null,null,null,null,null,null,null,null,null,null,null,null,null,null,null,null,null,null,null,null,null,null,null,null,null,null,null,null,null,null,null,null,null,null,null,null,null,null,null,null,"Peynir Altı Suyu Tozu, Düşük Laktozlu",1,0.93,3.1619999999999999,1.7469613259668508,166.46999999999997,null,0,15.903,10.416,0,0,0,"Peynir Altı Suyu Tozu, Düşük Laktozlu",3.4,1.8784530386740332,93,17.899999999999999,0,0,0,1.71,1.1200000000000001]
[null,null,null,null,null,null,null,null,null,null,null,null,null,null,null,null,null,null,null,null,null,null,null,null,null,null,null,null,null,null,null,null,null,null,null,null,null,null,null,null,null,null,null,null,null,null,null,null,null,null,null,null,"Peynir Altı Suyu- Fimar",1,0.05,0.18100000000000002,0.1,5.1749999999999998,null,0,0.36499999999999999,0.32500000000000001,0,0,0,"Peynir Altı Suyu- Fimar",3.62,2,5,10.35,0,0,0,0.73,0.65]
[null,null,null,null,null,null,null,null,null,null,null,null,null,null,null,null,null,null,null,null,null,null,null,null,null,null,null,null,null,null,null,null,null,null,null,null,null,null,null,null,null,null,null,null,null,null,null,null,null,null,null,null,"Sığır Besi Yemi",1,0.89,2.5009000000000001,1.5842000000000001,130.47399999999999,null,31.6660398,10.590999999999999,4.984,9.1,21.29,0,"Sığır Besi Yemi",2.81,1.78,89,14.66,21.29,9.1,24.27,1.19,0.56000000000000005]
[null,null,null,null,null,null,null,null,null,null,null,null,null,null,null,null,null,null,null,null,null,null,null,null,null,null,null,null,null,null,null,null,null,null,null,null,null,null,null,null,null,null,null,null,null,null,null,null,null,null,null,null,"Sığır Süt Yemi,16 HP, 2400 ME",1,0.89,2.4119000000000002,1.5307999999999999,162.87,null,36.271149000000001,10.590999999999999,4.984,11.9,26.07,0,"Sığır Süt Yemi,16 HP, 2400 ME",2.71,1.72,89,18.3,26.07,11.9,22.27,1.19,0.56000000000000005]
[null,null,null,null,null,null,null,null,null,null,null,null,null,null,null,null,null,null,null,null,null,null,null,null,null,null,null,null,null,null,null,null,null,null,null,null,null,null,null,null,null,null,null,null,null,null,null,null,null,null,null,null,"Sığır Süt Yemi,16 HP, 2500 ME",1,0.89,2.4563999999999999,1.5842000000000001,162.87,null,36.271149000000001,10.590999999999999,4.984,9.1,21,0,"Sığır Süt Yemi,16 HP, 2500 ME",2.76,1.78,89,18.3,21,9.1,22.27,1.19,0.56000000000000005]
[null,null,null,null,null,null,null,null,null,null,null,null,null,null,null,null,null,null,null,null,null,null,null,null,null,null,null,null,null,null,null,null,null,null,null,null,null,null,null,null,null,null,null,null,null,null,null,null,null,null,null,null,"Sığır Süt Yemi,16 HP, 2600 ME",1,0.89,2.5809999999999995,1.6732,162.87,null,36.271149000000001,10.590999999999999,4.984,8.6999999999999993,19.3,0,"Sığır Süt Yemi,16 HP, 2600 ME",2.9,1.88,89,18.3,19.3,8.6999999999999993,22.27,1.19,0.56000000000000005]
[null,null,null,null,null,null,null,null,null,null,null,null,null,null,null,null,null,null,null,null,null,null,null,null,null,null,null,null,null,null,null,null,null,null,null,null,null,null,null,null,null,null,null,null,null,null,null,null,null,null,null,null,"Sığır Süt Yemi,18 HP, 2400 ME",1,0.89,2.4119000000000002,1.5307999999999999,181.56,null,40.433411999999997,10.590999999999999,4.984,11.9,26.07,0,"Sığır Süt Yemi,18 HP, 2400 ME",2.71,1.72,89,20.399999999999999,26.07,11.9,22.27,1.19,0.56000000000000005]
[null,null,null,null,null,null,null,null,null,null,null,null,null,null,null,null,null,null,null,null,null,null,null,null,null,null,null,null,null,null,null,null,null,null,null,null,null,null,null,null,null,null,null,null,null,null,null,null,null,null,null,null,"Sığır Süt Yemi,18 HP, 2500 ME",1,0.89,2.4563999999999999,1.5842000000000001,181.738,null,40.473052600000003,{"$f":"BQ195*BV195/10","v":10.590999999999999},5.2509999999999994,10.5,23.7,0,"Sığır Süt Yemi,18 HP, 2500 ME",2.76,1.78,89,20.420000000000002,23.7,10.5,22.27,1.19,0.59]
[null,null,null,null,null,null,null,null,null,null,null,null,null,null,null,null,null,null,null,null,null,null,null,null,null,null,null,null,null,null,null,null,null,null,null,null,null,null,null,null,null,null,null,null,null,null,null,null,null,null,null,null,{"$f":"BN196","v":"Sığır Süt Yemi,18 HP, 2600 ME"},1,{"$f":"BQ196*10/1000","v":0.89},{"$f":"BO196*BQ196/100","v":2.5899000000000001},{"$f":"BP196*BQ196/100","v":1.6643000000000001},{"$f":"BR196*BQ196/10","v":181.738},null,{"$f":"BF196*BU196/100","v":40.473052600000003},10.590999999999999,{"$f":"BW196*BQ196/10","v":5.2509999999999994},{"$f":"BT196","v":8.17},{"$f":"BS196","v":18.75},{"$f":"BX196","v":0},"Sığır Süt Yemi,18 HP, 2600 ME",2.91,1.87,89,20.420000000000002,18.75,8.17,22.27,1.19,0.59]
[null,null,null,null,null,null,null,null,null,null,null,null,null,null,null,null,null,null,null,null,null,null,null,null,null,null,null,null,null,null,null,null,null,null,null,null,null,null,null,null,null,null,null,null,null,null,null,null,null,null,null,null,"Sığır Süt Yemi, 18 HP, 2650 ME",{"$f":"BB196","v":1},0.89,2.5899000000000001,1.6643000000000001,181.738,null,40.473052600000003,10.590999999999999,5.2509999999999994,8.17,18.75,0,"Sığır Süt Yemi, 18 HP, 2650 ME",2.91,1.87,89,20.420000000000002,18.75,8.17,22.27,1.19,0.59]
[null,null,null,null,null,null,null,null,null,null,null,null,null,null,null,null,null,null,null,null,null,null,null,null,null,null,null,null,null,null,null,null,null,null,null,null,null,null,null,null,null,null,null,null,null,null,null,null,null,null,null,null,"Sığır Süt Yemi, 19 HP, 2600 ME",1,0.89,2.5899000000000001,1.6643000000000001,194.02,null,43.208253999999997,10.590999999999999,5.2509999999999994,8.6999999999999993,20.2,0,"Sığır Süt Yemi, 19 HP, 2600 ME",2.91,1.87,89,21.8,20.2,8.6999999999999993,22.27,1.19,0.59]
[null,null,null,null,null,null,null,null,null,null,null,null,null,null,null,null,null,null,null,null,null,null,null,null,null,null,null,null,null,null,null,null,null,null,null,null,null,null,null,null,null,null,null,null,null,null,null,null,null,null,null,null,"Sığır Süt Yemi, 19 HP, 2700 ME",1,0.89,2.7322999999999995,1.7354999999999998,194.02,null,43.208253999999997,10.590999999999999,5.2509999999999994,8.6999999999999993,20.2,0,"Sığır Süt Yemi, 19 HP, 2700 ME",3.07,1.95,89,21.8,20.2,8.6999999999999993,22.27,1.19,0.59]
[null,null,null,null,null,null,null,null,null,null,null,null,null,null,null,null,null,null,null,null,null,null,null,null,null,null,null,null,null,null,null,null,null,null,null,null,null,null,null,null,null,null,null,null,null,null,null,null,null,null,null,null,"Sığır Süt Yemi, 19 HP, 2800 ME",1,0.89,2.8034999999999997,1.8244999999999998,189.57,null,42.217238999999999,10.501999999999999,4.6280000000000001,8.3000000000000007,19.600000000000001,0,"Sığır Süt Yemi, 19 HP, 2800 ME",3.15,2.0499999999999998,89,21.3,19.600000000000001,8.3000000000000007,22.27,1.18,0.52]
[null,null,null,null,null,null,null,null,null,null,null,null,null,null,null,null,null,null,null,null,null,null,null,null,null,null,null,null,null,null,null,null,null,null,null,null,null,null,null,null,null,null,null,null,null,null,null,null,null,null,null,null,"Sığır Süt Yemi, 20 HP, 2650 ME",1,0.89,2.5899000000000001,1.6643000000000001,194.02,null,43.208253999999997,10.590999999999999,5.2509999999999994,8.17,18.75,0,"Sığır Süt Yemi, 20 HP, 2650 ME",2.91,1.87,89,21.8,18.75,8.17,22.27,1.19,0.59]
[null,null,null,null,null,null,null,null,null,null,null,null,null,null,null,null,null,null,null,null,null,null,null,null,null,null,null,null,null,null,null,null,null,null,null,null,null,null,null,null,null,null,null,null,null,null,null,null,null,null,null,null,"Sığır Süt Yemi, 21 HP, 2600 ME",1,0.89,2.5899000000000001,1.6643000000000001,200.25,null,44.595675,10.590999999999999,5.2509999999999994,8.17,18.75,0,"Sığır Süt Yemi, 21 HP, 2600 ME",2.91,1.87,89,22.5,18.75,8.17,22.27,1.19,0.59]
[null,null,null,null,null,null,null,null,null,null,null,null,null,null,null,null,null,null,null,null,null,null,null,null,null,null,null,null,null,null,null,null,null,null,null,null,null,null,null,null,null,null,null,null,null,null,null,null,null,null,null,null,"Sığır Süt Yemi, 21 HP, 2600 ME",1,0.89,2.5899000000000001,1.6643000000000001,210.57400000000001,null,46.894829799999997,10.590999999999999,5.2509999999999994,8.17,18.75,0,"Sığır Süt Yemi, 21 HP, 2600 ME",2.91,1.87,89,23.66,18.75,8.17,22.27,1.19,0.59]
[null,null,null,null,null,null,null,null,null,null,null,null,null,null,null,null,null,null,null,null,null,null,null,null,null,null,null,null,null,null,null,null,null,null,null,null,null,null,null,null,null,null,null,null,null,null,null,null,null,null,null,null,"Sığır Süt Yemi, 21 HP, 2650 ME",1,0.89,2.6789000000000001,1.6998999999999997,210.57400000000001,null,46.894829799999997,10.501999999999999,4.6280000000000001,10,21.7,0,"Sığır Süt Yemi, 21 HP, 2650 ME",3.01,1.91,89,23.66,21.7,10,22.27,1.18,0.52]
[null,null,null,null,null,null,null,null,null,null,null,null,null,null,null,null,null,null,null,null,null,null,null,null,null,null,null,null,null,null,null,null,null,null,null,null,null,null,null,null,null,null,null,null,null,null,null,null,null,null,null,null,"Sığır Süt Yemi, 21 HP, 2700 ME",1,0.89,2.7322999999999995,1.7354999999999998,210.57400000000001,null,46.894829799999997,10.501999999999999,4.6280000000000001,9,20.2,0,"Sığır Süt Yemi, 21 HP, 2700 ME",3.07,1.95,89,23.66,20.2,9,22.27,1.18,0.52]
[null,null,null,null,null,null,null,null,null,null,null,null,null,null,null,null,null,null,null,null,null,null,null,null,null,null,null,null,null,null,null,null,null,null,null,null,null,null,null,null,null,null,null,null,null,null,null,null,null,null,null,null,"Sığır Süt Yemi, 21 HP, 2750 ME",1,0.89,2.7500999999999998,1.7710999999999999,210.57400000000001,null,46.894829799999997,10.501999999999999,4.6280000000000001,9,20.2,0,"Sığır Süt Yemi, 21 HP, 2750 ME",3.09,1.99,89,23.66,20.2,9,22.27,1.18,0.52]
[null,null,null,null,null,null,null,null,null,null,null,null,null,null,null,null,null,null,null,null,null,null,null,null,null,null,null,null,null,null,null,null,null,null,null,null,null,null,null,null,null,null,null,null,null,null,null,null,null,null,null,null,"Sığır Süt Yemi, 21 HP, 2800 ME",1,0.89,2.7946000000000004,1.8067,210.57400000000001,null,46.894829799999997,10.501999999999999,4.6280000000000001,9,20.2,0,"Sığır Süt Yemi, 21 HP, 2800 ME",3.14,2.0299999999999998,89,23.66,20.2,9,22.27,1.18,0.52]
[null,null,null,null,null,null,null,null,null,null,null,null,null,null,null,null,null,null,null,null,null,null,null,null,null,null,null,null,null,null,null,null,null,null,null,null,null,null,null,null,null,null,null,null,null,null,null,null,null,null,null,null,"Sığır Süt Yemi, 22 HP, 2750 ME",1,0.89,2.7500999999999998,1.7710999999999999,222.5,null,49.550750000000001,10.501999999999999,4.6280000000000001,8.6,19.600000000000001,0,"Sığır Süt Yemi, 22 HP, 2750 ME",3.09,1.99,89,25,19.600000000000001,8.6,22.27,1.18,0.52]
[null,null,null,null,null,null,null,null,null,null,null,null,null,null,null,null,null,null,null,null,null,null,null,null,null,null,null,null,null,null,null,null,null,null,null,null,null,null,null,null,null,null,null,null,null,null,null,null,null,null,null,null,"Sığır Süt Yemi, 24 HP, 2900 ME",1,0.89,2.8925000000000001,1.8600999999999999,239.94400000000002,null,53.4355288,10.590999999999999,5.2509999999999994,10.5,23.7,0,"Sığır Süt Yemi, 24 HP, 2900 ME",3.25,2.09,89,26.96,23.7,10.5,22.27,1.19,0.59]
[null,null,null,null,null,null,null,null,null,null,null,null,null,null,null,null,null,null,null,null,null,null,null,null,null,null,null,null,null,null,null,null,null,null,null,null,null,null,null,null,null,null,null,null,null,null,null,null,null,null,null,null,"Sığır Süt Yemi, 24 HP, 3100 ME",1,0.89,3.0971999999999995,2.2071999999999998,239.94400000000002,null,53.4355288,10.590999999999999,5.2509999999999994,10.5,23.7,0,"Sığır Süt Yemi, 24 HP, 3100 ME",3.48,2.48,89,26.96,23.7,10.5,22.27,1.19,0.59]
[null,null,null,null,null,null,null,null,null,null,null,null,null,null,null,null,null,null,null,null,null,null,null,null,null,null,null,null,null,null,null,null,null,null,null,null,null,null,null,null,null,null,null,null,null,null,null,null,null,null,null,null,"Sığır Süt Yemi, 25 HP, 2550 ME",1,0.89,2.5186999999999999,1.6287,249.2,null,55.496839999999992,10.590999999999999,5.2509999999999994,10.5,23.7,0,"Sığır Süt Yemi, 25 HP, 2550 ME",2.83,1.83,89,28,23.7,10.5,22.27,1.19,0.59]
[null,null,null,null,null,null,null,null,null,null,null,null,null,null,null,null,null,null,null,null,null,null,null,null,null,null,null,null,null,null,null,null,null,null,null,null,null,null,null,null,null,null,null,null,null,null,null,null,null,null,null,null,"Süt",1,0.125,0.67125000000000001,0.60412500000000002,31.75,null,0,1.25,0.9375,0,0,9230,"Süt",5.37,{"$f":"BO212*0.9","v":4.8330000000000002},12.5,25.4,0,0,0,1,0.75,9230]
[null,null,null,null,null,null,null,null,null,null,null,null,null,null,null,null,null,null,null,null,null,null,null,null,null,null,null,null,null,null,null,null,null,null,null,null,null,null,null,null,null,null,null,null,null,null,null,null,null,null,null,null,"Süt İkamesi, 18 HP, 20 YAĞ",1,0.125,0.59,0.53100000000000003,22.5,null,0,1.25,0.875,0,0,9000,"Süt İkamesi, 18 HP, 20 YAĞ",4.72,{"$f":"BO213*0.9","v":4.2480000000000002},12.5,18,0,0,0,1,0.7,9000]
[null,null,null,null,null,null,null,null,null,null,null,null,null,null,null,null,null,null,null,null,null,null,null,null,null,null,null,null,null,null,null,null,null,null,null,null,null,null,null,null,null,null,null,null,null,null,null,null,null,null,null,null,"Süt İkamesi, 20 HP, 20 YAĞ",1,0.125,0.59375,0.53437500000000004,25,null,0,1.25,0.875,0,0,9000,"Süt İkamesi, 20 HP, 20 YAĞ",4.75,4.2750000000000004,12.5,20,0,0,0,1,0.7,9000]
[null,null,null,null,null,null,null,null,null,null,null,null,null,null,null,null,null,null,null,null,null,null,null,null,null,null,null,null,null,null,null,null,null,null,null,null,null,null,null,null,null,null,null,null,null,null,null,null,null,null,null,null,"Süt İkamesi , 22 HP, 10 Yağ",1,0.125,0.53625,0.48262500000000003,27.5,null,0,1.25,0.875,0,0,9000,"Süt İkamesi , 22 HP, 10 Yağ",4.29,3.8610000000000002,12.5,22,0,0,0,1,0.7,9000]
[null,null,null,null,null,null,null,null,null,null,null,null,null,null,null,null,null,null,null,null,null,null,null,null,null,null,null,null,null,null,null,null,null,null,null,null,null,null,null,null,null,null,null,null,null,null,null,null,null,null,null,null,"Süt Tozu",1,0.95,5.1015000000000006,4.5913500000000003,241.3,null,0,9.5,7.125,0,0,0,"Süt Tozu",5.37,4.8330000000000002,95,25.4,0,0,0,1,0.75]
[null,null,null,null,null,null,null,null,null,null,null,null,null,null,null,null,null,null,null,null,null,null,null,null,null,null,null,null,null,null,null,null,null,null,null,null,null,null,null,null,null,null,null,null,null,null,null,null,null,null,null,null,"Yağsız Süt",1,0.1,0.40199999999999997,0.36180000000000001,35.5,null,0,1.35,1.02,0,0,0,"Yağsız Süt",4.0199999999999996,3.6179999999999999,10,35.5,0,0,0,1.35,1.02]
[null,null,null,null,null,null,null,null,null,null,null,null,null,null,null,null,null,null,null,null,null,null,null,null,null,null,null,null,null,null,null,null,null,null,null,null,null,null,null,null,null,null,null,null,null,null,null,null,null,null,null,null,"Yağsız Süt Tozu",1,0.94,3.8351999999999999,3.4516800000000001,351.56,null,0,12.126000000000001,10.152000000000001,0,0,0,"Yağsız Süt Tozu",4.08,3.6720000000000002,94,37.4,0,0,0,1.29,1.08]
[null,null,null,null,null,null,null,null,null,null,null,null,null,null,null,null,null,null,null,null,null,null,null,null,null,null,null,null,null,null,null,null,null,null,null,null,null,null,null,null,null,null,null,null,null,null,null,null,null,null,null,null,"Yumurta Çiğ",1,0.24,1.44,1.2960000000000003,120,null,0,0.48000000000000009,1.7280000000000002,0,0,0,"Yumurta Çiğ",6,5.4,24,50,0,0,0,0.2,0.72]
[null,null,null,null,null,null,null,null,null,null,null,null,null,null,null,null,null,null,null,null,null,null,null,null,null,null,null,null,null,null,null,null,null,null,null,null,null,null,null,null,null,null,null,null,null,null,null,null,null,null,null,null,"Amonyum Fosfat (Dibazik), (NH4) 2HPO4",1,1,0,0,1159,null,0,5.2,206,0,0,0,"Amonyum Fosfat (Dibazik), (NH4) 2HPO4",0,0,100,115.9,0,0,0,0.52,20.6]
[null,null,null,null,null,null,null,null,null,null,null,null,null,null,null,null,null,null,null,null,null,null,null,null,null,null,null,null,null,null,null,null,null,null,null,null,null,null,null,null,null,null,null,null,null,null,null,null,null,null,null,null,"Amonyum Fosfat (Monobazik), (NH4) 2HPO4",1,1,0,0,709.00000000000011,null,0,2.8000000000000003,247.4,0,0,0,"Amonyum Fosfat (Monobazik), (NH4) 2HPO4",0,0,100,70.900000000000006,0,0,0,0.28000000000000003,24.74]
[null,null,null,null,null,null,null,null,null,null,null,null,null,null,null,null,null,null,null,null,null,null,null,null,null,null,null,null,null,null,null,null,null,null,null,null,null,null,null,null,null,null,null,null,null,null,null,null,null,null,null,null,"Amonyum Klorid",1,1,0,0,1636.3,null,0,0,0,0,0,0,"Amonyum Klorid",0,0,100,163.63,0,0,0,0,0]
[null,null,null,null,null,null,null,null,null,null,null,null,null,null,null,null,null,null,null,null,null,null,null,null,null,null,null,null,null,null,null,null,null,null,null,null,null,null,null,null,null,null,null,null,null,null,null,null,null,null,null,null,"Amonyum Sülfat, (NH4) 2SO4",1,1,0,0,1341,null,0,0,0,0,0,0,"Amonyum Sülfat, (NH4) 2SO4",0,0,100,134.1,0,0,0,0,0]
[null,null,null,null,null,null,null,null,null,null,null,null,null,null,null,null,null,null,null,null,null,null,null,null,null,null,null,null,null,null,null,null,null,null,null,null,null,null,null,null,null,null,null,null,null,null,null,null,null,null,null,null,"Bakır Klorid, CuCl2",1,1,0,0,0,null,0,0,0,0,0,0,"Bakır Klorid, CuCl2",0,0,100,0,0,0,0,0,0]
[null,null,null,null,null,null,null,null,null,null,null,null,null,null,null,null,null,null,null,null,null,null,null,null,null,null,null,null,null,null,null,null,null,null,null,null,null,null,null,null,null,null,null,null,null,null,null,null,null,null,null,null,"Bakır Sülfat, 5 Sulu, CuSO4, 5H2O",1,1,0,0,0,null,0,0,0,0,0,0,"Bakır Sülfat, 5 Sulu, CuSO4, 5H2O",0,0,100,0,0,0,0,0,0]
[null,null,null,null,null,null,null,null,null,null,null,null,null,null,null,null,null,null,null,null,null,null,null,null,null,null,null,null,null,null,null,null,null,null,null,null,null,null,null,null,null,null,null,null,null,null,null,null,null,null,null,null,"Çinko Karbonat, ZnCO3",1,1,0,0,0,null,0,0,0,0,0,0,"Çinko Karbonat, ZnCO3",0,0,100,0,0,0,0,0,0]
[null,null,null,null,null,null,null,null,null,null,null,null,null,null,null,null,null,null,null,null,null,null,null,null,null,null,null,null,null,null,null,null,null,null,null,null,null,null,null,null,null,null,null,null,null,null,null,null,null,null,null,null,"Çinko Klorid, ZnCl2",1,1,0,0,0,null,0,0,0,0,0,0,"Çinko Klorid, ZnCl2",0,0,100,0,0,0,0,0,0]
[null,null,null,null,null,null,null,null,null,null,null,null,null,null,null,null,null,null,null,null,null,null,null,null,null,null,null,null,null,null,null,null,null,null,null,null,null,null,null,null,null,null,null,null,null,null,null,null,null,null,null,null,"Çinko Oksit, ZnO",1,1,0,0,0,null,0,0,0,0,0,0,"Çinko Oksit, ZnO",0,0,100,0,0,0,0,0,0]
[null,null,null,null,null,null,null,null,null,null,null,null,null,null,null,null,null,null,null,null,null,null,null,null,null,null,null,null,null,null,null,null,null,null,null,null,null,null,null,null,null,null,null,null,null,null,null,null,null,null,null,null,"Kalsiyum Fosfat, Ca(H2PO4)2",1,1,0,0,0,null,0,163.99999999999997,216,0,0,0,"Kalsiyum Fosfat, Ca(H2PO4)2",0,0,100,0,0,0,0,16.399999999999999,21.6]
[null,null,null,null,null,null,null,null,null,null,null,null,null,null,null,null,null,null,null,null,null,null,null,null,null,null,null,null,null,null,null,null,null,null,null,null,null,null,null,null,null,null,null,null,null,null,null,null,null,null,null,null,"Klasiyum Hidroksit, Ca(OH)2",1,1,0,0,0,null,0,540,0,0,0,0,"Klasiyum Hidroksit, Ca(OH)2",0,0,100,0,0,0,0,54,0]
[null,null,null,null,null,null,null,null,null,null,null,null,null,null,null,null,null,null,null,null,null,null,null,null,null,null,null,null,null,null,null,null,null,null,null,null,null,null,null,null,null,null,null,null,null,null,null,null,null,null,null,null,"Kalsiyum İyodat",1,1,0,0,0,null,0,100,0,0,0,0,"Kalsiyum İyodat",0,0,100,0,0,0,0,10,0]
[null,null,null,null,null,null,null,null,null,null,null,null,null,null,null,null,null,null,null,null,null,null,null,null,null,null,null,null,null,null,null,null,null,null,null,null,null,null,null,null,null,null,null,null,null,null,null,null,null,null,null,null,"Kalsiyum Karbonat, CaCO3",1,1,0,0,0,null,0,390,0.4,0,0,0,"Kalsiyum Karbonat, CaCO3",0,0,100,0,0,0,0,39,0.04]
[null,null,null,null,null,null,null,null,null,null,null,null,null,null,null,null,null,null,null,null,null,null,null,null,null,null,null,null,null,null,null,null,null,null,null,null,null,null,null,null,null,null,null,null,null,null,null,null,null,null,null,null,"Kalsiyum Klorid (susuz), CaCl2",1,1,0,0,0,null,0,342.99999999999994,0,0,0,0,"Kalsiyum Klorid (susuz), CaCl2",0,0,100,0,0,0,0,34.299999999999997,0]
[null,null,null,null,null,null,null,null,null,null,null,null,null,null,null,null,null,null,null,null,null,null,null,null,null,null,null,null,null,null,null,null,null,null,null,null,null,null,null,null,null,null,null,null,null,null,null,null,null,null,null,null,"Kalsiyum Klorid, 2 Sulu, CaCl2, 2H2O",1,1,0,0,0,null,0,280,0,0,0,0,"Kalsiyum Klorid, 2 Sulu, CaCl2, 2H2O",0,0,100,0,0,0,0,28,0]
[null,null,null,null,null,null,null,null,null,null,null,null,null,null,null,null,null,null,null,null,null,null,null,null,null,null,null,null,null,null,null,null,null,null,null,null,null,null,null,null,null,null,null,null,null,null,null,null,null,null,null,null,"Kalsiyum Oksit, Cao",1,1,0,0,0,null,0,714.7,0,0,0,0,"Kalsiyum Oksit, Cao",0,0,100,0,0,0,0,71.47,0]
[null,null,null,null,null,null,null,null,null,null,null,null,null,null,null,null,null,null,null,null,null,null,null,null,null,null,null,null,null,null,null,null,null,null,null,null,null,null,null,null,null,null,null,null,null,null,null,null,null,null,null,null,"Kalsiyum Sülfat, 2 Sulu, CaSO4, 2H2O",1,1,0,0,0,null,0,220,0,0,0,0,"Kalsiyum Sülfat, 2 Sulu, CaSO4, 2H2O",0,0,100,0,0,0,0,22,0]
[null,null,null,null,null,null,null,null,null,null,null,null,null,null,null,null,null,null,null,null,null,null,null,null,null,null,null,null,null,null,null,null,null,null,null,null,null,null,null,null,null,null,null,null,null,null,null,null,null,null,null,null,"Kaya Fosfatı",1,1,0,0,0,null,0,350,130,0,0,0,"Kaya Fosfatı",0,0,100,0,0,0,0,35,13]
[null,null,null,null,null,null,null,null,null,null,null,null,null,null,null,null,null,null,null,null,null,null,null,null,null,null,null,null,null,null,null,null,null,null,null,null,null,null,null,null,null,null,null,null,null,null,null,null,null,null,null,null,"Magnezyum Klorid, 6 Sulu, MgCl2, 6H2O",1,1,0,0,0,null,0,0,0,0,0,0,"Magnezyum Klorid, 6 Sulu, MgCl2, 6H2O",0,0,100,0,0,0,0,0,0]
[null,null,null,null,null,null,null,null,null,null,null,null,null,null,null,null,null,null,null,null,null,null,null,null,null,null,null,null,null,null,null,null,null,null,null,null,null,null,null,null,null,null,null,null,null,null,null,null,null,null,null,null,"Magnezyum Oksit, Mgo",1,1,0,0,0,null,0,30.7,0,0,0,0,"Magnezyum Oksit, Mgo",0,0,100,0,0,0,0,3.07,0]
[null,null,null,null,null,null,null,null,null,null,null,null,null,null,null,null,null,null,null,null,null,null,null,null,null,null,null,null,null,null,null,null,null,null,null,null,null,null,null,null,null,null,null,null,null,null,null,null,null,null,null,null,"Magnezyum Sülfat, 1 Sulu",1,0.98,0,0,0,null,0,0,0,0,0,0,"Magnezyum Sülfat, 1 Sulu",0,0,98,0,0,0,0,0,0]
[null,null,null,null,null,null,null,null,null,null,null,null,null,null,null,null,null,null,null,null,null,null,null,null,null,null,null,null,null,null,null,null,null,null,null,null,null,null,null,null,null,null,null,null,null,null,null,null,null,null,null,null,"Magnezyum Sülfat, 7 Sulu, MuSO4, 7H2O",1,0.98,0,0,0,null,0,0,0,0,0,0,"Magnezyum Sülfat, 7 Sulu, MuSO4, 7H2O",0,0,98,0,0,0,0,0,0]
[null,null,null,null,null,null,null,null,null,null,null,null,null,null,null,null,null,null,null,null,null,null,null,null,null,null,null,null,null,null,null,null,null,null,null,null,null,null,null,null,null,null,null,null,null,null,null,null,null,null,null,null,"Manganez Karbonat, MnCO3",1,1,0,0,0,null,0,0,0,0,0,0,"Manganez Karbonat, MnCO3",0,0,100,0,0,0,0,0,0]
[null,null,null,null,null,null,null,null,null,null,null,null,null,null,null,null,null,null,null,null,null,null,null,null,null,null,null,null,null,null,null,null,null,null,null,null,null,null,null,null,null,null,null,null,null,null,null,null,null,null,null,null,"Manganez Klorid , 4 Sulu , MnCl2, 4H2O",1,1,0,0,0,null,0,0,0,0,0,0,"Manganez Klorid , 4 Sulu , MnCl2, 4H2O",0,0,100,0,0,0,0,0,0]
[null,null,null,null,null,null,null,null,null,null,null,null,null,null,null,null,null,null,null,null,null,null,null,null,null,null,null,null,null,null,null,null,null,null,null,null,null,null,null,null,null,null,null,null,null,null,null,null,null,null,null,null,"Manganez Klorid , MnCl2",1,1,0,0,0,null,0,0,0,0,0,0,"Manganez Klorid , MnCl2",0,0,100,0,0,0,0,0,0]
[null,null,null,null,null,null,null,null,null,null,null,null,null,null,null,null,null,null,null,null,null,null,null,null,null,null,null,null,null,null,null,null,null,null,null,null,null,null,null,null,null,null,null,null,null,null,null,null,null,null,null,null,"Manganez Sülfat, 1 Sulu, MnSO4, H2O",1,1,0,0,0,null,0,0,0,0,0,0,"Manganez Sülfat, 1 Sulu, MnSO4, H2O",0,0,100,0,0,0,0,0,0]
[null,null,null,null,null,null,null,null,null,null,null,null,null,null,null,null,null,null,null,null,null,null,null,null,null,null,null,null,null,null,null,null,null,null,null,null,null,null,null,null,null,null,null,null,null,null,null,null,null,null,null,null,"Manganez Sülfat, MnSO4",1,1,0,0,0,null,0,0,0,0,0,0,"Manganez Sülfat, MnSO4",0,0,100,0,0,0,0,0,0]
[null,null,null,null,null,null,null,null,null,null,null,null,null,null,null,null,null,null,null,null,null,null,null,null,null,null,null,null,null,null,null,null,null,null,null,null,null,null,null,null,null,null,null,null,null,null,null,null,null,null,null,null,"Sodyum Selenit, Na2SeO3",1,1,0,0,0,null,0,0,0,0,0,0,"Sodyum Selenit, Na2SeO3",0,0,100,0,0,0,0,0,0]
[null,null,null,null,null,null,null,null,null,null,null,null,null,null,null,null,null,null,null,null,null,null,null,null,null,null,null,null,null,null,null,null,null,null,null,null,null,null,null,null,null,null,null,null,null,null,null,null,null,null,null,null,"Sodyum Sülfat ,10 Sulu, Na2SO4, 10H2O",1,1,0,0,0,null,0,0,250,0,0,0,"Sodyum Sülfat ,10 Sulu, Na2SO4, 10H2O",0,0,100,0,0,0,0,0,25]
[null,null,null,null,null,null,null,null,null,null,null,null,null,null,null,null,null,null,null,null,null,null,null,null,null,null,null,null,null,null,null,null,null,null,null,null,null,null,null,null,null,null,null,null,null,null,null,null,null,null,null,null,"Sodyum Tripolifosfat, Na5P3O10",1,1,0,0,0,null,0,0,0,0,0,0,"Sodyum Tripolifosfat, Na5P3O10",0,0,100,0,0,0,0,0,0]
[null,null,null,null,null,null,null,null,null,null,null,null,null,null,null,null,null,null,null,null,null,null,null,null,null,null,null,null,null,null,null,null,null,null,null,null,null,null,null,null,null,null,null,null,null,null,null,null,null,null,null,null,"Tuz ",1,1,0,0,0,null,0,0,0,0,0,0,"Tuz ",0,0,100,0,0,0,0,0,0]
[null,null,null,null,null,null,null,null,null,null,null,null,null,null,null,null,null,null,null,null,null,null,null,null,null,null,null,null,null,null,null,null,null,null,null,null,null,null,null,null,null,null,null,null,null,null,null,null,null,null,null,null,"Üre",1,1,0,0,2810,null,0,0,0,0,0,0,"Üre",0,0,100,281,0,0,0,0,0]
[null,null,null,null,null,null,null,null,null,null,null,null,null,null,null,null,null,null,null,null,null,null,null,null,null,null,null,null,null,null,null,null,null,null,null,null,null,null,null,null,null,null,null,null,null,null,null,null,null,null,null,null,"Vitamin Kar. (Kavimix 802-ekonomik)",1,1,0,0,0,null,0,0,0,0,0,0,"Vitamin Kar. (Kavimix 802-ekonomik)",0,0,100,0,0,0,0,0,0]
[null,null,null,null,null,null,null,null,null,null,null,null,null,null,null,null,null,null,null,null,null,null,null,null,null,null,null,null,null,null,null,null,null,null,null,null,null,null,null,null,null,null,null,null,null,null,null,null,null,null,null,null,"Vitamin Kar. (Kavimix 803-zengin)",1,1,0,0,0,null,0,0,0,0,0,0,"Vitamin Kar. (Kavimix 803-zengin)",0,0,100,0,0,0,0,0,0]
[null,null,null,null,null,null,null,null,null,null,null,null,null,null,null,null,null,null,null,null,null,null,null,null,null,null,null,null,null,null,null,null,null,null,null,null,null,null,null,null,null,null,null,null,null,null,null,null,null,null,null,null,"Vitamin Kar. ( Rovimix 302-F/30)",1,1,0,0,0,null,0,0,0,0,0,0,"Vitamin Kar. ( Rovimix 302-F/30)",0,0,100,0,0,0,0,0,0]
[null,null,null,null,null,null,null,null,null,null,null,null,null,null,null,null,null,null,null,null,null,null,null,null,null,null,null,null,null,null,null,null,null,null,null,null,null,null,null,null,null,null,null,null,null,null,null,null,null,null,null,null,"Vitamin Kar. (Farmix-Standart)",1,1,0,0,0,null,0,0,0,0,0,0,"Vitamin Kar. (Farmix-Standart)",0,0,100,0,0,0,0,0,0]
[null,null,null,null,null,null,null,null,null,null,null,null,null,null,null,null,null,null,null,null,null,null,null,null,null,null,null,null,null,null,null,null,null,null,null,null,null,null,null,null,null,null,null,null,null,null,null,null,null,null,null,null,"Vit-Min. Kar. (Rovimix 302-SM) 8Süt), 1kg/ton",1,1,0,0,0,null,0,0,0,0,0,0,"Vit-Min. Kar. (Rovimix 302-SM) 8Süt), 1kg/ton",0,0,100,0,0,0,0,0,0]
[null,null,null,null,null,null,null,null,null,null,null,null,null,null,null,null,null,null,null,null,null,null,null,null,null,null,null,null,null,null,null,null,null,null,null,null,null,null,null,null,null,null,null,null,null,null,null,null,null,null,null,null,"BOŞ",1,0,0,0,0,null,0,0,0,"0","0","0","BOŞ","0","0","0","0","0","0","0","0","0","0"]
[null,null,null,null,null,null,null,null,null,null,null,null,null,null,null,null,null,null,null,null,null,null,null,null,null,null,null,null,null,null,null,null,null,null,null,null,null,null,null,null,null,null,null,null,null,null,null,null,null,null,null,null,"","","","","","","",null,"",""]

{"sheet":"D.BUZAĞI-DÜVE","index":4,"n_rows":258,"n_cols":95,"rows_kept":258,"cut":false,"hidden":false,"merged":[[28,13,29,14],[21,7,22,7],[18,9,18,10],[19,9,19,10],[20,4,20,6],[20,7,20,9],[21,5,22,5],[21,8,22,8],[18,3,19,5],[12,38,14,38],[18,39,18,40],[20,0,22,0],[21,10,22,10],[21,2,22,2],[21,11,22,11],[15,7,15,9],[16,7,16,9],[17,7,17,9],[14,7,14,9],[0,0,1,0],[0,1,1,1],[0,2,0,5],[39,28,39,29],[21,1,22,1],[21,4,22,4],[26,24,26,25],[20,10,20,12],[20,1,20,3],[26,13,27,13],[26,14,27,14],[20,13,21,13],[20,14,21,14],[22,13,23,13],[22,14,23,14],[24,13,25,13],[0,31,0,34],[4,15,5,16],[6,15,6,16],[7,15,8,16],[9,15,9,16],[7,27,7,30],[7,31,7,34],[30,13,31,14],[0,52,0,54],[4,39,4,40],[11,39,11,40],[0,15,2,15],[23,22,23,23],[22,38,24,38],[19,38,21,38],[15,38,17,38],[8,38,10,38],[0,44,0,47],[5,38,7,38],[0,21,0,25],[0,27,0,30],[13,42,14,43],[24,14,25,14],[0,69,1,69],[6,52,6,54],[12,52,12,54],[6,49,6,51],[12,49,12,51],[0,49,0,51],[0,6,1,6],[10,7,10,9],[11,7,11,9],[12,7,12,9],[13,7,13,9],[2,7,2,9],[3,7,3,9],[4,7,4,9],[5,7,5,9],[6,7,6,9],[7,7,7,9],[8,7,8,9],[9,7,9,9],[48,28,49,29],[64,26,64,30],[64,32,64,36],[10,15,10,16],[16,15,16,16],[22,15,22,16],[28,15,29,16],[30,15,31,16],[34,31,34,35],[39,30,39,31],[13,31,13,34],[39,32,39,35],[25,30,25,31],[26,28,27,28],[26,32,27,32]]}
["Yem Adı","Yem Birim Fiyatı (tl/kg)","Yem Tüketimi (kg/gün/baş)",null,null,null,"Günlük Max Yem (kg/baş)","Doğum Ağıtlığı","Gebelik Süresi",null,null,"90 gün > Dişi Buzağı","90 gün < Buzağı-Düve ","1-180 Gün Gebe Düve","180-288 Gün Gebe Düve","180 gün<gebelikten gelen GCAA(g/gün)",null,null,null,null,null,"Kondisyon Skoru",null,null,null,null,null,null,null,null,null,null,null,null,null,null,null,null,null,null,null,null,null,null,null,null,null,null,null,"KM",null,null,"NE",null,null,null,null,null,null,null,"KM (kg/gün)","ME (Mcal/gün)","Nel (Mcal/gün)","HP (g/gün)","MBP (g/gün)","Rumende Yıkıma Dirençli Protein (g/gün)","Ca (g/gün)","P (g/gün)","ADF (kg/gün)","NDF (kg/gün)",null,"Rasyon özeti","Yem","KM","ME","NEl","HP","MBP","Rumende Yıkıma Dirençli Protein","Ca","P","ADF","NDF","Vit A"]
[null,null,"90 gün > Dişi Buzağı","90 gün < Buzağı-Düve ","1-180 Gün Gebe Düve","180-288 Gün Gebe Düve",null,36,2,"Hayvan sayısı","Baş",44,44,44,44,null,null,null,null,null,"Başlangıç","İNDİS",{"$f":"INDEX($Z$2:$Z$6,M11)","v":3},"SATIR",{"$f":"MATCH(M11,Z2:Z6,0)","v":3},1,null,null,null,null,null,null,null,null,null,null,null,null,null,null,null,null,null,null,null,null,null,null,"Gebelik","Başlangıç","Orta","Bitiş","Başlangıç","Orta","Bitiş",null,null,null,null,null,null,null,null,null,null,null,null,null,null,null,"Vit A IU","Yem maddeleri","kg/gün","kg/gün","Mcal/gün","Mcal/gün","g/gün"," (g/gün)"," (g/gün)","g/gün","g/gün","kg/gün","kg/gün","IU","YEM MADDESİ","ME","NEI","KM","HP","NDF","ADF","RUP","CA","P","Vit A"]
["Çayır-Baklagil Kuru Otu, Orta Olgun, %47-53 NDF",1,0,0,0,0,10,"Canlı Ağırlık",null,null,"kg",{"$f":"H2+L5*L4/2/1000","v":57},{"$f":"O21+M5*M4/2/1000","v":218},{"$f":"(O23+N4*N5/2/1000)","v":420.3},{"$f":"O25+O5*O4/2/1000","v":536.6},null,null,null,null,null,"Orta","İNDİS",{"$f":"INDEX($Z$2:$Z$6,N11)","v":3},"SATIR",{"$f":"MATCH(N11,Z2:Z6,0)","v":3},2,null,null,null,null,null,null,null,null,null,null,null,null,null,null,null,null,null,null,null,null,null,null,"0-7 ay gebe",{"$f":"$AO6+$M3*$AO7+$M4*$AO8/1000","v":5.4439931231427163},{"$f":"$AO6+$N3*$AO7+$N4*$AO8/1000","v":9.1904043742842774},{"$f":"$AO6+$O3*$AO7+$O4*$AO8/1000","v":11.446065879828963},{"$f":"(0.086*(POWER(M3*0.96,3/4)*(0.8+(H2-1)*0.05)+(0.0007*(20-H2))*POWER(M3,0.75)))+0.0635*(POWER(0.96*M3,3/4))*(POWER(0.956*M4/1000,1.097))","v":14.260758692848004},{"$f":"(0.086*(POWER(N3*0.96,3/4)*(0.8+(H2-1)*0.05)+(0.0007*(20-H2))*POWER(N3,0.75)))+0.0635*(POWER(0.96*N3,3/4))*(POWER(0.956*N4/1000,1.097))","v":23.33295822672153},{"$f":"(0.086*(POWER(O3*0.96,3/4)*(0.8+(H2-1)*0.05)+(0.0007*(20-H2))*POWER(O3,0.75)))+0.0635*(POWER(0.96*O3,3/4))*(POWER(0.956*O4/1000,1.097))","v":30.140740027407332},null,null,null,null,{"$f":"MATCH(A3,BT3:BT412,0)","v":16},{"$f":"(INDEX($BV$3:$BV$412,BH3))","v":0.85299999999999998},{"$f":"(INDEX($BW$3:$BW$412,BH3))","v":1.7486499999999998},{"$f":"(INDEX($BX$3:$BX$412,BH3))","v":1.0662499999999999},{"$f":"INDEX($BY$3:$BY$412,BH3)","v":156.95199999999997},{"$f":"INDEX($BZ$3:$BZ$412,BH3)","v":0},{"$f":"INDEX($CA$3:$CA$394,BH3)","v":28.565263999999992},{"$f":"INDEX($CB$3:$CB$412,BH3)","v":8.7005999999999997},{"$f":"INDEX($CC$3:$CC$412,BH3)","v":2.9002000000000003},{"$f":"INDEX($CD$3:$CD$412,BH3)","v":31.8},{"$f":"INDEX($CE$3:$CE$412,BH3)","v":50.8},{"$f":"INDEX($CF$3:$CF$412,BH3)","v":0},{"$f":"CG3","v":"Baklagil Kuru Otu"},1,{"$f":"CJ3*10/1000","v":0.878},{"$f":"CH3*CJ3/100","v":1.8262399999999999},{"$f":"CI3*CJ3/100","v":1.1150599999999999},{"$f":"CK3*CJ3/10","v":177.35599999999999},null,{"$f":"BY3*CN3/100","v":33.342928000000001},{"$f":"CJ3*CO3/10","v":13.345599999999999},{"$f":"CP3*CJ3/10","v":2.2827999999999999},{"$f":"CM3","v":31.2},{"$f":"CL3","v":39.6},{"$f":"CQ3","v":0},"Baklagil Kuru Otu",2.08,1.27,87.8,20.2,39.6,31.2,18.8,1.52,0.26]
["Arpa , Ezme",1.5,0,1.3933475208176795,5.5710375245639545,8.316561570241344,10,"Günlük Canlı Ağırlık Artışı",null,null,"(g/gün)",700,700,700,1000,{"$f":"AJ29","v":561},{"$f":"IF(AI31<=0,T24,0)","v":0},null,null,null,"Bitiş","İNDİS",{"$f":"INDEX($Z$2:$Z$6,O11)","v":3},"SATIR",{"$f":"MATCH(O11,Z2:Z6,0)","v":3},3,null,null,null,null,null,null,null,null,null,null,null,null,null,null,null,null,null,null,null,null,null,null,"7>gebe",{"$f":"($M3-$H2)*$AO10+$AO9+$AO11*$M4/1000","v":4.7773059998550442},{"$f":"($N3-$H2)*$AO10+$AO9+$AO11*$N4/1000","v":8.5237172509966044},{"$f":"($O3-$H2)*$AO10+$AO9+$AO11*$O4/1000","v":10.77937875654129},{"$f":"(0.086*(POWER((AG3-AE1)*0.96,3/4)*(0.8+(AB2-1)*0.05)+0.0007*(20-AA2)*POWER(AG3,0.75)))+0.0635*(POWER(0.96*(AG3-AE1),3/4))*(POWER(0.956*AG6/2/1000,1.097))+((0.00318*AF17-0.0352)*(AE1/45))/0.218","v":0},{"$f":"(0.086*(POWER((AG4-AE1)*0.96,3/4)*(0.8+(AB2-1)*0.05)+0.0007*(20-AA2)*POWER(AG4,0.75)))+0.0635*(POWER(0.96*(AG4-AE1),3/4))*(POWER(0.956*AG7/2/1000,1.097))+((0.00318*AF17-0.0352)*(AE1/45))/0.218","v":0},{"$f":"(0.086*(POWER((AG5-AE1)*0.96,3/4)*(0.8+(AB2-1)*0.05)+0.0007*(20-AA2)*POWER(AG5,0.75)))+0.0635*(POWER(0.96*(AG5-AE1),3/4))*(POWER(0.956*AG8/2/1000,1.097))+((0.00318*AF17-0.0352)*(AE1/45))/0.218","v":0},null,null,null,null,{"$f":"MATCH(A4,BT3:BT412,0)","v":114},{"$f":"(INDEX($BV$3:$BV$412,BH4))","v":0.91},{"$f":"(INDEX($BW$3:$BW$412,BH4))","v":2.6571999999999996},{"$f":"(INDEX($BX$3:$BX$412,BH4))","v":1.6926000000000001},{"$f":"INDEX($BY$3:$BY$412,BH4)","v":112.84},{"$f":"INDEX($BZ$3:$BZ$412,BH4)","v":0},{"$f":"INDEX($CA$3:$CA$394,BH4)","v":20.424040000000002},{"$f":"INDEX($CB$3:$CB$412,BH4)","v":0.54600000000000004},{"$f":"INDEX($CC$3:$CC$412,BH4)","v":3.5490000000000004},{"$f":"INDEX($CD$3:$CD$412,BH4)","v":7.2},{"$f":"INDEX($CE$3:$CE$412,BH4)","v":20.8},{"$f":"INDEX($CF$3:$CF$412,BH4)","v":0},{"$f":"CG4","v":"Baklagil Kuru Otu, Körpe < %40 NDF"},{"$f":"BU3","v":1},{"$f":"CJ4*10/1000","v":0.84199999999999997},{"$f":"CH4*CJ4/100","v":1.8776599999999999},{"$f":"CI4*CJ4/100","v":1.1619599999999999},{"$f":"CK4*CJ4/10","v":191.97600000000003},null,{"$f":"BY4*CN4/100","v":31.292088000000007},13.135200000000001,{"$f":"CP4*CJ4/10","v":2.6101999999999999},{"$f":"CM4","v":28.6},{"$f":"CL4","v":36.299999999999997},{"$f":"CQ4","v":0},"Baklagil Kuru Otu, Körpe < %40 NDF",2.23,1.38,84.2,22.8,36.299999999999997,28.6,16.3,1.56,0.31]
["Yonca Kuru Otu, 2. Kalite  %19-21 HP, <%37-40 NDF",1,0,1.4941150189329973,0,0,10,"Bakım Süresi",null,null," (gün)",60,400,178,108,"1 KG HAYVANSAL PROTEİN İÇİN TÜKETİLEN YEM METABOLİK  ENERJİSİ (MJ)",null,null,null,null,"Buzağı","İNDİS",{"$f":"INDEX($Z$2:$Z$6,L11)","v":3},"SATIR",{"$f":"MATCH(L11,Z2:Z6,0)","v":3},4,null,null,null,null,null,null,null,null,null,null,null,null,"KM","dm düve reg",null,null,null,null,null,null,null,null,"SATIR",{"$f":"MATCH(I2,AW3:AW4,0)","v":{"$error":"#N/A"}},{"$f":"MATCH(I2,AW3:AW4,0)","v":{"$error":"#N/A"}},{"$f":"MATCH(I2,AW3:AW4,0)","v":{"$error":"#N/A"}},{"$f":"MATCH(AC2,AW3:AW4,0)","v":{"$error":"#N/A"}},{"$f":"MATCH(AC2,AW3:AW4,0)","v":{"$error":"#N/A"}},{"$f":"MATCH(AC2,AW3:AW4,0)","v":{"$error":"#N/A"}},null,null,null,null,{"$f":"MATCH(A5,BT3:BT412,0)","v":30},{"$f":"(INDEX($BV$3:$BV$412,BH5))","v":0.87970000000000004},1.741806,1.0556399999999999,177.6994,0,51.710525400000009,12.403769999999998,1.9353400000000001,29.4,39.6,0,"Baklagil Kuru Otu, Olgun >%46 NDF",{"$f":"BU4","v":1},0.83799999999999997,1.5754399999999997,0.94693999999999989,188.55,null,33.561900000000009,10.223599999999999,2.3464,39.5,50.9,0,"Baklagil Kuru Otu, Olgun >%46 NDF",1.88,1.1299999999999999,83.8,22.5,50.9,39.5,17.8,1.22,0.28000000000000003]
["Buzağı Başlangıç Yemi",2.8,0,0,0,0,10,"Satılan Hayvan",null,null,"Baş",0,0,0,19,null,null,null,null,null,null,null,null,null,null,5,null,null,null,null,null,null,null,null,null,null,null,null,"gebelik öncesi","(Constant)",1.1690848735232269,null,null,null,null,null,null,null,"İNDİS",{"$f":"INDEX($AX$3:$AX4,AX5)","v":{"$error":"#N/A"}},{"$f":"INDEX($AY$3:$AY4,AY5)","v":{"$error":"#N/A"}},{"$f":"INDEX($AZ$3:$AZ$4,AZ5)","v":{"$error":"#N/A"}},{"$f":"INDEX($AG$3:$AG4,BA5)","v":{"$error":"#N/A"}},{"$f":"INDEX($AH$3:$AH4,BB5)","v":{"$error":"#N/A"}},{"$f":"INDEX($AI$3:$AI$4,BC5)","v":{"$error":"#N/A"}},null,null,null,null,{"$f":"MATCH(A6,BT3:BT412,0)","v":177},0.9,2.952,1.4678453038674033,162,0,40.5,6.2999999999999989,4.05,11.6,12.8,4000,"Baklagil Kuru Otu, Orta Olgun, %40-46 NDF",1,0.83899999999999997,1.7535099999999999,1.0739200000000002,174.512,null,30.714112000000004,11.494300000000001,2.5170000000000003,33.4,42.9,0,"Baklagil Kuru Otu, Orta Olgun, %40-46 NDF",2.09,1.28,83.9,20.8,42.9,33.4,17.600000000000001,1.37,0.3]
["Buzağı Büyütme Yemi",2.5,0,0,0,0,10,"Karkas Ranıman",null,null,"%",50,50,55,55,{"$f":"HESAP!FY9","v":407.42325172630717},null,null,null,null,null,null,null,null,null,null,null,null,null,null,null,null,null,null,null,null,null,null,null,"ca",1.85190867579909E-2,null,null,null,null,null,null,null,null,"ME",null,null,"MP",null,null,null,null,null,null,{"$f":"MATCH(A7,BT3:BT412,0)","v":178},0.9,2.9160000000000004,1.4499447513812154,144,0,30.24,5.4,3.6,8,18,4000,"Buğday Kuru Otu, Başaklı",1,0.86799999999999999,1.48428,0.8766799999999999,81.591999999999999,null,30.107447999999998,2.6907999999999999,1.736,38.1,61.1,0,"Buğday Kuru Otu, Başaklı",1.71,1.01,86.8,9.4,61.1,38.1,36.9,0.31,0.2]
["Düve Yemi 1. Sınıf (TS11110)",2,5.3342007385804878E-2,0,0,0,10,"Karkas Et Oranı",null,null,"%",80,80,80,80,"1 KG HAYVANSAL PROTEİN İÇİN METAN SALINIMI (MJ)",null,null,null,null,null,null,null,null,null,null,null,null,null,null,null,null,null,null,null,null,null,null,null,"gcdd",0.33963905196781929,null,null,null,null,null,null,null,"Gebelik","Başlangıç","Orta","Bitiş","Başlangıç","Orta","Bitiş",null,null,null,null,{"$f":"MATCH(A8,BT3:BT412,0)","v":179},0.89100000000000001,2.7799200000000002,1.7730900000000001,171.07199999999997,0,44.889292799999993,10.5138,5.6132999999999997,4.72,10.29,0,"Buğday Samanı",1,0.92700000000000005,1.3348800000000001,0.76013999999999993,44.495999999999995,null,7.386336,3.3372000000000002,3.2444999999999999,35.200000000000003,73,0,"Buğday Samanı",1.44,0.82,92.7,4.8,73,35.200000000000003,16.600000000000001,0.36,0.35]
["Düve Yemi 2. Sınıf (TS11110)",2,0,0,0,0,10,"Et Protein Oranı",null,null,"%",20,20,20,20,null,null,null,null,null,null,null,null,null,null,null,null,null,null,null,null,null,null,null,null,null,null,null,"gebelik dönemi","(Constant)",1.1690848735232269,null,null,null,null,null,null,null,"0-7 ay gebe",{"$f":"BA3*1.56","v":22.246783560842886},36.39941483368559,47.019554442755442,{"$f":"4.1*POWER(AG3,1/2)+(AG6/1000*(268-(29.4*((0.0635*(POWER((0.96*0.891*(478/(0.96*AG3))*(0.96*AG3-20)),3/4)*(POWER((0.956*AG6/1000),1.097))))/AG6/1000))))/0.28908","v":{"$error":"#DIV/0!"}},{"$f":"4.1*POWER(AG4,1/2)+(AG7/1000*(268-(29.4*((0.0635*(POWER((0.96*0.891*(478/(0.96*AG4))*(0.96*AG4-20)),3/4)*(POWER((0.956*AG7/1000),1.097))))/AG7/1000))))/0.28908","v":{"$error":"#DIV/0!"}},{"$f":"4.1*POWER(AG5,1/2)+(AG8/1000*(268-(29.4*((0.0635*(POWER((0.96*0.891*(478/(0.96*AG5))*(0.96*AG5-20)),3/4)*(POWER((0.956*AG8/1000),1.097))))/AG8/1000))))/0.28908","v":{"$error":"#DIV/0!"}},null,null,null,null,{"$f":"MATCH(A9,BT3:BT412,0)","v":180},0.8990999999999999,2.7152819999999998,1.735263,161.83799999999999,0,36.041322600000001,10.519469999999998,5.84415,6.27,13.82,0,"Çayır Kuru Otu, Soğuk Mevsim",1,0.88100000000000001,1.6386599999999998,0.98671999999999993,93.385999999999996,null,21.385393999999998,3.3478000000000003,2.5548999999999995,37.6,64.400000000000006,0,"Çayır Kuru Otu, Soğuk Mevsim",1.86,1.1200000000000001,88.1,10.6,64.400000000000006,37.6,22.9,0.38,0.28999999999999998]
["Yonca Kuru Otu, 1. Kalite >%21 HP,     <%37 NDF",1,0,0,0,0,10,"Birim İşçiye düşen hayvan say",null,null,"Baş",70,70,70,70,{"$f":"HESAP!GH9","v":31.164142654532},null,null,null,null,null,null,null,null,null,null,null,null,null,null,null,null,null,null,null,null,null,null,null,"ca",1.85190867579909E-2,null,null,null,null,null,null,null,"7>gebe",0,0,0,{"$f":"4.1*POWER(AG3,1/2)+(((0.69*AF17)-69.2)*AE1/45)/0.33+(AG6/2/1000*(268-(29.4*((0.0635*(POWER((0.96*0.891*(478/(0.96*AG3))*(0.96*AG3-20)),3/4)*(POWER((0.956*AG6/1000),1.097))))/AG6/2/1000))))/0.28908","v":{"$error":"#DIV/0!"}},{"$f":"4.1*POWER(AG4,1/2)+(((0.69*AF17)-69.2)*AE1/45)/0.33+(AG7/2/1000*(268-(29.4*((0.0635*(POWER((0.96*0.891*(478/(0.96*AG4))*(0.96*AG4-20)),3/4)*(POWER((0.956*AG7/1000),1.097))))/AG7/2/1000))))/0.28908","v":{"$error":"#DIV/0!"}},{"$f":"4.1*POWER(AG5,1/2)+(((0.69*AF17)-69.2)*AE1/45)/0.33+(AG8/2/1000*(268-(29.4*((0.0635*(POWER((0.96*0.891*(478/(0.96*AG5))*(0.96*AG5-20)),3/4)*(POWER((0.956*AG8/1000),1.097))))/AG8/2/1000))))/0.28908","v":{"$error":"#DIV/0!"}},null,null,null,null,{"$f":"MATCH(A10,BT3:BT412,0)","v":29},0.84599999999999997,1.7427599999999999,1.0659599999999998,192.80339999999998,0,37.789466400000002,11.928599999999999,1.8611999999999997,27.2,36.799999999999997,0,"Çayır Kuru Otu, Soğuk Mevsim, Körpe <%55 NDF",1,0.84,1.8648000000000002,1.1508,151.19999999999999,null,36.741599999999998,3.6119999999999997,3.528,34.9,49.6,0,"Çayır Kuru Otu, Soğuk Mevsim, Körpe <%55 NDF",2.2200000000000002,1.37,84,18,49.6,34.9,24.3,0.43,0.42]
["Çayır Merası, Soğuk Mevsim, Bakımlı",0.01,0,0,0,0,100,"Vücut Kondisyon Skoru",null,null,"puan",3,3,3,3,"1 KG CAA YEM MALİYETİ (TL/KG)",null,null,null,null,null,null,null,null,null,"COAT",null,null,null,null,null,null,null,null,null,null,null,null,null,"gcdd",0.33963905196781929,null,null,null,null,null,null,null,"SATIR",{"$f":"MATCH(I2,AW9:AW10,0)","v":{"$error":"#N/A"}},{"$f":"MATCH(I2,AW9:AW10,0)","v":{"$error":"#N/A"}},{"$f":"MATCH(I2,AW9:AW10,0)","v":{"$error":"#N/A"}},{"$f":"MATCH(AC2,AW9:AW10,0)","v":{"$error":"#N/A"}},{"$f":"MATCH(AC2,AW9:AW10,0)","v":{"$error":"#N/A"}},{"$f":"MATCH(AC2,AW9:AW10,0)","v":{"$error":"#N/A"}},null,null,null,null,{"$f":"MATCH(A11,BT3:BT412,0)","v":48},0.20100000000000001,0.49446000000000007,0.30954000000000004,53.265000000000008,0,11.824830000000002,1.1256000000000002,0.88440000000000007,25,45.8,0,"Çayır Kuru Otu , Soğuk Mevsim,Olgun >%60 NDF",1,0.84399999999999997,1.5614000000000001,0.93684000000000012,91.152000000000015,null,20.235744,{"$f":"CJ11*CO11/10","v":3.9668000000000001},3.7136000000000005,25,69.099999999999994,0,"Çayır Kuru Otu , Soğuk Mevsim,Olgun >%60 NDF",1.85,1.1100000000000001,84.4,10.8,69.099999999999994,25,22.2,0.47,0.44]
["Çayır Kuru Otu, Soğuk Mevsim",1,0,2.7329285854110839,0,0,10,"Dış İzolasyon",null,null,null,"Kuru-temiz","Kuru-temiz","Kuru-temiz","Kuru-temiz","90 gün > Dişi Buzağı",{"$f":"AB88","v":17.946743860298916},null,null,"Başlangıç","İNDİS",{"$f":"INDEX($Z$12:$Z$15,X12)","v":1},"SATIR",{"$f":"MATCH(M12,Y12:Y15,0)","v":1},"Kuru-temiz",1,null,null,null,null,null,null,null,null,null,null,null,null,"Ca","Ca düve reg",null,null,null,null,null,null,null,null,"İNDİS",{"$f":"INDEX($AX$9:$AX10,AX11)","v":{"$error":"#N/A"}},{"$f":"INDEX($AY$9:$AY10,AY11)","v":{"$error":"#N/A"}},{"$f":"INDEX($AZ$9:$AZ$10,AZ11)","v":{"$error":"#N/A"}},{"$f":"INDEX($AG$9:$AG10,BA11)","v":{"$error":"#N/A"}},{"$f":"INDEX($AH$9:$AH10,BB11)","v":{"$error":"#N/A"}},{"$f":"INDEX($AI$9:$AI$10,BC11)","v":{"$error":"#N/A"}},null,null,null,null,{"$f":"MATCH(A12,BT3:BT412,0)","v":7},0.88100000000000001,1.6386599999999998,0.98671999999999993,93.385999999999996,0,21.385393999999998,3.3478000000000003,2.5548999999999995,37.6,64.400000000000006,0,"Çayır Kuru Otu , Soğuk Mevsim,Orta Olgun.,%55-60 NDF",1,0.83799999999999997,1.6927599999999998,1.03074,111.45399999999999,null,27.640591999999998,4.609,2.4301999999999997,40.299999999999997,57.7,0,"Çayır Kuru Otu , Soğuk Mevsim,Orta Olgun.,%55-60 NDF",2.02,1.23,83.8,13.3,57.7,40.299999999999997,24.8,0.55000000000000004,0.28999999999999998]
["Yağ, Bitkisel",15,0.30811824416253109,0,0.17401718247629516,0.20972363886674963,1,"Rüzgar",null,null,"km/saat",1,0.6,1,1,"90 gün < Buzağı-Düve ",{"$f":"AC88","v":12.653748189867517},null,null,"Orta","İNDİS",{"$f":"INDEX($Z$12:$Z$15,X13)","v":1},"SATIR",{"$f":"MATCH(N12,Y12:Y15,0)","v":1},"Bacaklar çamur",0.8,null,null,null,null,null,null,null,null,null,null,null,null,"gebelik öncesi","(Constant)",3.1907579546278342,null,null,null,null,null,null,null,null,"Ca",null,null,"P",null,null,null,null,null,null,{"$f":"MATCH(A13,BT3:BT412,0)","v":132},1,7.07,5.65,0,0,0,0,0,0,0,{"$f":"INDEX($CF$3:$CF$412,BH13)","v":0},"Çayır-Baklagil Kuru Otu (Baklagil Yoğun), Körpe <%44 NDF",1,0.83799999999999997,1.8016999999999999,1.10616,171.79,null,32.811890000000005,4.7765999999999993,3.0167999999999999,32.9,41.7,0,"Çayır-Baklagil Kuru Otu (Baklagil Yoğun), Körpe <%44 NDF",2.15,1.32,83.8,20.5,41.7,32.9,19.100000000000001,0.56999999999999995,0.36]
["Mısır Silajı, %29-33 KM",0.5,0,0,0.78723392893353605,4.9628892207685835,30,"Kıl Kalınlığı",null,null,"cm",0.6,0.6,0.67,1,"1-180 Gün Gebe Düve",{"$f":"AD88","v":19.524083589671825},null,null,"Bitiş","İNDİS",{"$f":"INDEX($Z$12:$Z$15,X14)","v":1},"SATIR",{"$f":"MATCH(O12,Y12:Y15,0)","v":1},"Islak-paspaslı",0.5,null,null,null,null,null,null,null,null,null,null,null,null,null,"ca",2.3288812785388122E-2,null,{"$f":"'NET GELİR'!E7","v":560375.49766731751},null,null,null,null,null,"Gebelik","Başlangıç","Orta","Bitiş","Başlangıç","Orta","Bitiş",null,null,null,null,{"$f":"MATCH(A14,BT3:BT412,0)","v":64},0.313,0.63852000000000009,0.38811999999999997,22.536000000000001,0,6.7157280000000004,0.87640000000000007,0.81379999999999997,31.1,52.9,0,"Çayır-Baklagil kUru Otu (Çayır OtuYoğun), Körpe <%51NDF",1,0.84299999999999997,1.8377399999999999,1.1296200000000001,155.11199999999999,null,51.031847999999997,4.7208000000000006,2.6132999999999997,41.1,49.6,0,"Çayır-Baklagil kUru Otu (Çayır OtuYoğun), Körpe <%51NDF",2.1800000000000002,1.34,84.3,18.399999999999999,49.6,41.1,32.9,0.56000000000000005,0.31]
["Buğday Samanı",0.6,0,0,3.7442459799452914,2.7168796687082826,10,"Mevcut Çevre Isısı",null,null,"0C",5,5,15,-20,"180-288 Gün Gebe Düve",{"$f":"AE88","v":19.83459738442896},null,null,"Buzağı","İNDİS",{"$f":"INDEX($Z$12:$Z$15,X15)","v":1},"SATIR",{"$f":"MATCH(L12,Y12:Y15,0)","v":1},"Kar-çamur kaplı",0.2,null,null,null,null,null,null,null,null,null,null,null,null,null,"gcdd",31.487959338986716,null,null,null,null,null,null,null,"0-7 ay gebe",{"$f":"(AO13+AO14*M3+AO15*M4/1000)","v":30.309290679133145},{"$f":"(AO13+AO14*N3+AO15*N4/1000)","v":35.02061750561716},{"$f":"(AO13+AO14*O3+AO15*O4/1000)","v":47.175494234253819},{"$f":"(AO20+AO21*M3+AO22*M4/1000)","v":14.438713234761181},{"$f":"(AO20+AO21*N3+AO22*N4/1000)","v":18.332064490468941},{"$f":"(AO23+AO24*O3+AO25*O4/1000)","v":25.798571428571424},null,null,null,null,{"$f":"MATCH(A15,BT3:BT412,0)","v":6},0.92700000000000005,1.3348800000000001,0.76013999999999993,44.495999999999995,0,7.386336,3.3372000000000002,3.2444999999999999,35.200000000000003,73,0,"Çayır-Baklagil Kuru Otu , Olgun> %50 NDF",1,0.84299999999999997,1.5511200000000001,0.92730000000000001,144.99599999999998,null,33.639071999999999,5.0579999999999998,3.0347999999999997,35.200000000000003,53.6,0,"Çayır-Baklagil Kuru Otu , Olgun> %50 NDF",1.84,1.1000000000000001,84.3,17.2,53.6,35.200000000000003,23.2,0.6,0.36]
["Soya Küspesi , Solvent, %51",5,0.41485260499993343,0.49609010342248733,0,0,2,"Önceden Maruz Kaldığı Çevre Isısı",null,null,"0C",5,5,5,15,"GENEL",{"$f":"AF88","v":15.9964840751657},null,null,null,null,null,null,null,null,null,null,null,null,null,null,null,null,null,null,null,null,null,"gebelik dönemi","(Constant)",4.5999999999999996,null,null,null,null,null,null,null,"7>gebe",{"$f":"(AO16+AO17*M3+AO18*M4/1000)","v":29.700571428571429},{"$f":"(AO16+AO17*N3+AO18*N4/1000)","v":36.289771428571427},{"$f":"(AO16+AO17*O3+AO18*O4/1000)","v":47.792114285714284},{"$f":"(AO23+AO24*M3+AO25*M4/1000)","v":16.528571428571425},{"$f":"(AO23+AO24*N3+AO25*N4/1000)","v":20.863571428571422},{"$f":"(AO23+AO24*O3+AO25*O4/1000)","v":25.798571428571424},null,null,null,null,{"$f":"MATCH(A16,BT3:BT412,0)","v":107},0.89500000000000002,3.0519499999999997,1.9779499999999999,510.15,0,157.12619999999998,3.1324999999999998,6.2649999999999997,6.2,9.8000000000000007,0,"Çayır-Baklagil Kuru Otu, Olgun> %53 NDF",1,0.89700000000000002,1.6684200000000002,1.0046400000000002,163.25399999999999,null,27.589925999999995,10.405199999999999,3.2292000000000001,31.1,56,0,"Çayır-Baklagil Kuru Otu, Olgun> %53 NDF",1.86,1.1200000000000001,89.7,18.2,56,31.1,16.899999999999999,1.1599999999999999,0.36]
["Amonyum Fosfat (Dibazik), (NH4) 2HPO4",1,0,6.010833022422693E-2,1.1849203988315973E-2,2.6176997695280632E-2,1,"Meradan Ahıra Olan Mesafe",null,null,"m",null,null,1000,null,"BİRİM YEM MALİYETİ(TL)",null,null,null,null,null,null,null,null,null,null,null,null,null,null,null,null,null,null,null,null,null,null,null,"ca",3.2571428571428571E-2,null,null,null,null,null,null,null,"SATIR",{"$f":"MATCH(G20,AW15:AW16,0)","v":1},{"$f":"MATCH(H20,AW15:AW16,0)","v":1},{"$f":"MATCH(I20,AW15:AW16,0)","v":2},{"$f":"MATCH(G20,AW15:AW16,0)","v":1},{"$f":"MATCH(G20,AW15:AW16,0)","v":1},{"$f":"MATCH(G20,AW15:AW16,0)","v":1},null,null,null,null,{"$f":"MATCH(A17,BT3:BT412,0)","v":218},1,0,0,1159,0,0,5.2,206,0,0,0,"Çayır-Baklagil Kuru Otu, Olgun> %57 NDF",1,0.84699999999999998,1.6262399999999999,0.98251999999999995,112.651,null,19.713925,9.1476000000000006,2.9645000000000001,30.8,62.5,0,"Çayır-Baklagil Kuru Otu, Olgun> %57 NDF",1.92,1.1599999999999999,84.7,13.3,62.5,30.8,17.5,1.08,0.35]
["Kalsiyum Karbonat, CaCO3",1,0,0,4.8030732357658978E-2,7.6151036761159488E-2,1,"Meradan Ahıra Günlük Seyahat Sayısı",null,null,"adet",null,null,2,null,"90 gün > Dişi Buzağı",{"$f":"AB87","v":3.4358987305230326},null,null,"YPMP","BüyümeMP","GebelikMP","GebelikMP2","YPME","toplamMP",null,null,null,null,null,null,null,null,null,null,null,null,null,null,"gebe",25.714285714285715,null,null,null,null,null,null,null,"İNDİS",{"$f":"INDEX($AX$15:$AX16,AX17)","v":30.309290679133145},{"$f":"INDEX($AY$15:$AY16,AY17)","v":35.02061750561716},{"$f":"INDEX($AZ$15:$AZ$16,AZ17)","v":47.792114285714284},{"$f":"INDEX($BA$15:$BA16,BA17)","v":14.438713234761181},{"$f":"INDEX($BB$15:$BB16,BB17)","v":18.332064490468941},{"$f":"INDEX($BC$15:$BC$16,BC17)","v":25.798571428571424},null,null,null,null,{"$f":"MATCH(A18,BT3:BT412,0)","v":230},1,0,0,0,0,0,390,0.4,0,0,0,"Çayır-Baklagil Kuru Otu, Orta Olgun, %47-53 NDF",1,0.85299999999999998,1.7486499999999998,1.0662499999999999,156.95199999999997,null,28.565263999999992,8.7005999999999997,2.9002000000000003,31.8,50.8,0,"Çayır-Baklagil Kuru Otu, Orta Olgun, %47-53 NDF",2.0499999999999998,1.25,85.3,18.399999999999999,50.8,31.8,18.2,1.02,0.34]
["Süt",2,2.88,null,null,null,"Gebelik durumu","Gebelik durumu","Gebelik durumu","Otluyormu?",null,"hayır","hayır","evet","hayır","90 gün < Buzağı-Düve ",{"$f":"AC87","v":1.4340638387207301},null,"Başlangıç",{"$f":"3.8*POWER(M3,0.75)","v":215.58868664141426},{"$f":"(AH29+AD21)*(268-(29.4*0.0635*POWER((0.96*0.891*(478/(0.96*M3))*(0.96*M3-20)),3/4)*POWER((0.956*(AH29+AD21)),1.097)/(AH29+AD21)))/0.28908","v":298.44302221943525},null,null,{"$f":"0.133*(POWER((M3-IF(U24>0,U24,0)),3/4))","v":7.5456040324495},{"$f":"T19+U19+W19","v":514.03170886084945},null,null,null,null,null,null,null,null,null,null,null,null,null,"P","P düve reg",null,null,null,null,null,null,null,null,null,null,null,null,null,null,null,null,null,null,null,{"$f":"MATCH(A19,BT212:BT219,0)","v":1},{"$f":"(INDEX($BV$212:$BV$219,BH19))","v":0.125},{"$f":"(INDEX($BW$212:$BW$219,BH19))","v":0.67125000000000001},{"$f":"(INDEX($BX$212:$BX$219,BH19))","v":0.60412500000000002},{"$f":"(INDEX($BY$212:$BY$219,BH19))","v":31.75},{"$f":"(INDEX($BZ$212:$BZ$219,BH19))","v":0},{"$f":"(INDEX($CA$212:$CA$219,BH19))","v":0},{"$f":"(INDEX($CB$212:$CB$219,BH19))","v":1.25},{"$f":"(INDEX($CC$212:$CC$219,BH19))","v":0.9375},{"$f":"(INDEX($CD$212:$CD$219,BH19))","v":0},{"$f":"(INDEX($CE$212:$CE$219,BH19))","v":0},{"$f":"(INDEX($CF$212:$CF$219,BH19))","v":9230},"Çayır-Baklagil Silajı, Orta Olgun> %51-57 NDF",1,0.873,1.8071099999999998,1.09998,151.90199999999999,null,42.988265999999996,9.2538,2.8809,42.1,55.1,0,"Çayır-Baklagil Silajı, Orta Olgun> %51-57 NDF",2.0699999999999998,1.26,87.3,17.399999999999999,55.1,42.1,28.3,1.06,0.33]
["Süt İkamesi, 18 HP, 20 YAĞ",1,0,null,null,null,"0-7 ay gebe","0-7 ay gebe","7>gebe","Mera eğimi varmı?",null,"yok","var","yok","yok","1-180 Gün Gebe Düve",{"$f":"AD87","v":1.3222049525650472},null,"Orta",{"$f":"3.8*POWER(N3,0.75)","v":352.73872364733745},{"$f":"(AH30+AD21)*(268-(29.4*0.0635*POWER((0.96*0.891*(478/(0.96*N3))*(0.96*N3-20)),3/4)*POWER((0.956*(AH30+AD21)),1.097))/(AH30+AD21))/0.28908","v":285.15642509439925},null,null,{"$f":"0.133*(POWER((N3-IF(U27>0,U27,0)),3/4))","v":12.345855327656812},{"$f":"T20+U20+W20","v":637.89514874173665},null,null,null,null,null,null,null,null,null,null,null,null,null,"gebelik öncesi","(Constant)",2.6169719866637742,null,null,null,null,null,null,null,null,null,null,null,null,null,null,null,null,null,null,{"$f":"MATCH(A20,BT212:BT219,0)","v":2},{"$f":"(INDEX($BV$212:$BV$219,BH20))","v":0.125},{"$f":"(INDEX($BW$212:$BW$219,BH20))","v":0.59},{"$f":"(INDEX($BX$212:$BX$219,BH20))","v":0.53100000000000003},{"$f":"(INDEX($BY$212:$BY$219,BH20))","v":22.5},{"$f":"(INDEX($BZ$212:$BZ$219,BH20))","v":0},{"$f":"(INDEX($CA$212:$CA$219,BH20))","v":0},{"$f":"(INDEX($CB$212:$CB$219,BH20))","v":1.25},{"$f":"(INDEX($CC$212:$CC$219,BH20))","v":0.875},{"$f":"(INDEX($CD$212:$CD$219,BH20))","v":0},{"$f":"(INDEX($CE$212:$CE$219,BH20))","v":0},{"$f":"(INDEX($CF$212:$CF$219,BH20))","v":9000},"Çayır-Baklagil Silajı, Orta Olgun> %44-50 NDF",1,0.84199999999999997,1.7008400000000001,1.03566,160.82200000000003,null,42.457008000000002,9.8513999999999999,2.7786,41.6,47.2,0,"Çayır-Baklagil Silajı, Orta Olgun> %44-50 NDF",2.02,1.23,84.2,19.100000000000001,47.2,41.6,26.4,1.17,0.33]
[null,"90 gün > Dişi Buzağı",null,null,"90 gün < Buzağı-Düve Başlangıç",null,null,"1-180 Gün Gebe Düve",null,null,"180-288 Gün Gebe Düve",null,null,"90 gün buzağı CA (kg)",{"$f":"H2+L4*L5/1000","v":78},"180-288 Gün Gebe Düve",{"$f":"AE87","v":1.2162210342277493},null,"Bitiş",{"$f":"3.8*POWER(O3,0.75)","v":423.66403473237364},{"$f":"(IF(V27>0,(AI31+AD21),(AH31+AD21))*(268-(29.4*((0.0635*(POWER((0.96*0.891*(478/(0.96*O3))*(0.96*O3-20)),3/4)*(POWER((0.956*IF(V27>0,(AI31+AD21),(AH31+AD21))),1.097))))/IF(V27>0,(AI31+AD21),(AH31+AD21))))))/0.28908","v":187.83840636553987},{"$f":"IF((I2+N5+O5)>180,((((0.69*(I2+N5+O5))-69.2)*H2/45)/0.33),0)","v":313.98787878787874},{"$f":"IF(V27>0,V21,0)","v":313.98787878787874},{"$f":"0.133*(POWER((O3-IF(V27>0,V27,0)),3/4))","v":14.079075057347831},{"$f":"T21+U21+W21","v":925.49031988579236},null,null,null,null,9.9999999999999994E-12,null,null,null,null,null,null,null,null,null,"ca",1.924543378995433E-2,null,null,null,null,null,null,null,null,null,null,null,null,null,null,null,null,null,null,null,null,null,null,null,null,null,null,null,null,null,null,"Fiğ Kuru Otu",1,0.91,1.9565000000000001,1.2285000000000001,159.25,null,28.028000000000002,12.467000000000002,2.73,31.4,42.9,0,"Fiğ Kuru Otu",2.15,1.35,91,17.5,42.9,31.4,17.600000000000001,1.37,0.3]
[null,"İHTİYAÇ","RASYON",null,"İHTİYAÇ","RASYON",null,"İHTİYAÇ","RASYON",null,"İHTİYAÇ","RASYON",null,null,null,"GENEL",{"$f":"AF87","v":1.5056267715996705},null,"Buzağı",null,null,null,null,null,null,null,{"$f":"1/1.1","v":0.90909090909090906},"TAMAM",null,null,null,null,null,null,null,null,null,null,null,"gcdd",10.89462383126766,null,null,null,null,null,null,null,null,null,null,null,null,null,null,null,null,null,null,null,null,null,null,null,null,null,null,null,null,null,null,"Fiğ Kuru Otu, Erken Biçim",1,0.91,2.1111999999999997,1.2557999999999998,184.73,null,32.512480000000004,12.467000000000002,2.73,31.4,42.9,0,"Fiğ Kuru Otu, Erken Biçim",2.3199999999999998,1.38,91,20.3,42.9,31.4,17.600000000000001,1.37,0.3]
[null,null,null,null,null,null,null,null,null,null,null,null,null,"Düve Aşım CA (kg)",{"$f":"O21+M4*M5/1000","v":358},"BİRİM YEM KM MALİYETİ (TL)",null,null,null,null,null,null,null,null,null,null,1.1000000000000001,"FAZLA",null,"Dişi Buzağı","Düve Başlangıç","Düve Besleme Ortası","Düve Bitiş",null,null,null,null,null,"gebelik dönemi","(Constant)",6.1571428571428513,null,null,null,null,null,null,null,null,null,null,null,null,null,null,null,null,null,null,null,null,null,null,null,null,null,null,null,null,null,null,"Fiğ Kuru Otu, Geç Biçim",1,0.91,1.8018000000000001,1.1830000000000001,146.51000000000002,null,22.855560000000001,12.467000000000002,2.73,31.4,42.9,0,"Fiğ Kuru Otu, Geç Biçim",1.98,1.3,91,16.100000000000001,42.9,31.4,15.6,1.37,0.3]
["KM (kg/gün)",{"$f":"T32","v":1.0869390541564405},{"$f":"C3*BI3+C4*BI4+C5*BI5+C6*BI6+C7*BI7+C8*BI8+C9*BI9+C10*BI10+C11*BI11+C12*BI12+C13*BI13+C14*BI14+C15*BI15+C16*BI16+C17*BI17+C18*BI18+C19*BI19+C20*BI20","v":1.0869390542182238},{"$f":"IF(AP36<$AQ$49,$AR$51,IF(AND(AP36>$AQ$50),$AR$50,IF(AND(AP36=$AQ$50),$AR$49,IF(AND(AP36=$AQ$49),$AR$49,IF(AND(AP36<$AQ$50,AP36>$AQ$49),$AR$49,0)))))","v":"TAMAM"},{"$f":"T29","v":5.4941382826339655},{"$f":"D3*BI3+D4*BI4+D5*BI5+D6*BI6+D7*BI7+D8*BI8+D9*BI9+D10*BI10+D11*BI11+D12*BI12+D13*BI13+D14*BI14+D15*BI15+D16*BI16+D17*BI17+D18*BI18+D19*BI19+D20*BI20","v":5.4941382826339646},{"$f":"IF(AQ36<$AQ$49,$AR$51,IF(AND(AQ36>$AQ$50),$AR$50,IF(AND(AQ36=$AQ$50),$AR$49,IF(AND(AQ36=$AQ$49),$AR$49,IF(AND(AQ36<$AQ$50,AQ36>$AQ$49),$AR$49,0)))))","v":"TAMAM"},{"$f":"T30","v":9.0208615149468869},{"$f":"E3*BI3+E4*BI4+E5*BI5+E6*BI6+E7*BI7+E8*BI8+E9*BI9+E10*BI10+E11*BI11+E12*BI12+E13*BI13+E14*BI14+E15*BI15+E16*BI16+E17*BI17+E18*BI18+E19*BI19+E20*BI20","v":9.0208615093409517},{"$f":"IF(AR36<$AQ$49,$AR$51,IF(AND(AR36>$AQ$50),$AR$50,IF(AND(AR36=$AQ$50),$AR$49,IF(AND(AR36=$AQ$49),$AR$49,IF(AND(AR36<$AQ$50,AR36>$AQ$49),$AR$49,0)))))","v":"TAMAM"},{"$f":"T31","v":11.952054481235962},{"$f":"F3*BI3+F4*BI4+F5*BI5+F6*BI6+F7*BI7+F8*BI8+F9*BI9+F10*BI10+F11*BI11+F12*BI12+F13*BI13+F14*BI14+F15*BI15+F16*BI16+F17*BI17+F18*BI18+F19*BI19+F20*BI20","v":11.952054481235958},{"$f":"IF(AS36<$AQ$49,$AR$51,IF(AND(AS36>$AQ$50),$AR$50,IF(AND(AS36=$AQ$50),$AR$49,IF(AND(AS36=$AQ$49),$AR$49,IF(AND(AS36<$AQ$50,AS36>$AQ$49),$AR$49,0)))))","v":"TAMAM"},null,null,"90 gün > Dişi Buzağı",{"$f":"AH87","v":6.7099387943327171},null,null,"hesaplanamaz",null,{"$f":"1.7111*H2-(280-IF(I2>0,(I2+N5+O5/2),0))*0.7*H2/45","v":35.839600000000004},"KM Tahmin",null,null,null,2,"EKSİK","yemmph",{"$f":"C25*36.5","v":201.69870461391648},{"$f":"F25*36.5","v":448.84942366214312},{"$f":"I25*36.5","v":786.00728164226268},{"$f":"L25*36.5","v":1108.7650949354945},null,null,null,null,null,null,"ca",2.1428571428571425E-2,null,null,null,null,null,null,null,null,null,null,null,null,null,null,null,null,null,null,null,null,null,null,null,null,null,null,null,null,null,null,"Karışık Çayır-Baklagil Kuru Otu,Körpe<%47NDF",1,0.83099999999999996,1.8281999999999998,1.12185,163.70699999999999,null,29.303552999999997,9.9719999999999978,2.5760999999999998,30.8,45.4,0,"Karışık Çayır-Baklagil Kuru Otu,Körpe<%47NDF",2.2000000000000002,1.35,83.1,19.7,45.4,30.8,17.899999999999999,1.2,0.31]
["ME (Mcal/gün)",{"$f":"V32","v":5.5259919072082955},{"$f":"C3*BJ3+C4*BJ4+C5*BJ5+C6*BJ6+C7*BJ7+C8*BJ8+C9*BJ9+C10*BJ10+C11*BJ11+C12*BJ12+C13*BJ13+C14*BJ14+C15*BJ15+C16*BJ16+C17*BJ17+C18*BJ18+C19*BJ19+C20*BJ20","v":5.5259919072305888},{"$f":"IF(AP37<$AQ$49,$AR$51,IF(AND(AP37>$AQ$50),$AR$50,IF(AND(AP37=$AQ$50),$AR$49,IF(AND(AP37=$AQ$49),$AR$49,IF(AND(AP37<$AQ$50,AP37>$AQ$49),$AR$49,0)))))","v":"TAMAM"},{"$f":"V29","v":12.670262555337727},{"$f":"D3*BJ3+D4*BJ4+D5*BJ5+D6*BJ6+D7*BJ7+D8*BJ8+D9*BJ9+D10*BJ10+D11*BJ11+D12*BJ12+D13*BJ13+D14*BJ14+D15*BJ15+D16*BJ16+D17*BJ17+D18*BJ18+D19*BJ19+D20*BJ20","v":12.297244483894332},"TAMAM",{"$f":"V30","v":22.436337308617787},{"$f":"E3*BJ3+E4*BJ4+E5*BJ5+E6*BJ6+E7*BJ7+E8*BJ8+E9*BJ9+E10*BJ10+E11*BJ11+E12*BJ12+E13*BJ13+E14*BJ14+E15*BJ15+E16*BJ16+E17*BJ17+E18*BJ18+E19*BJ19+E20*BJ20","v":21.534446072390757},"TAMAM",{"$f":"V31","v":31.416234748490432},{"$f":"F3*BJ3+F4*BJ4+F5*BJ5+F6*BJ6+F7*BJ7+F8*BJ8+F9*BJ9+F10*BJ10+F11*BJ11+F12*BJ12+F13*BJ13+F14*BJ14+F15*BJ15+F16*BJ16+F17*BJ17+F18*BJ18+F19*BJ19+F20*BJ20","v":30.377125888643686},"TAMAM","Düve 180 günlük Gebe CA(kg)",{"$f":"O23+N4*N5/1000","v":482.6},"90 gün < Buzağı-Düve ",{"$f":"AI87","v":1.4386448917461856},null,null,null,null,null,"Sabit",-0.29125003661431698,null,null,null,null,"yemmphp",{"$f":"(C27-C30)","v":312.20238032822044},{"$f":"(F27-F30)","v":758.57910099511105},{"$f":"(I27-I30)","v":679.98797358353727},{"$f":"(L27-L30)","v":978.25891075441427},null,null,null,null,null,null,"gebe",8.1428571428571459,null,null,null,null,null,null,null,null,null,null,null,null,null,null,null,null,null,null,null,null,null,null,null,null,null,null,null,null,null,null,"Köpek Dişi (Bermudagrass) Kuru Otu, Başak, Başı",1,0.871,1.5068299999999999,0.88841999999999999,90.583999999999989,null,25.001183999999999,4.2678999999999991,2.3517000000000001,36.799999999999997,73.3,0,"Köpek Dişi (Bermudagrass) Kuru Otu, Başak, Başı",1.73,1.02,87.1,10.4,73.3,36.799999999999997,27.6,0.49,0.27]
["NE (Mcal/gün)",{"$f":"W32","v":3.588875934552358},{"$f":"C3*BK3+C4*BK4+C5*BK5+C6*BK6+C7*BK7+C8*BK8+C9*BK9+C10*BK10+C11*BK11+C12*BK12+C13*BK13+C14*BK14+C15*BK15+C16*BK16+C17*BK17+C18*BK18+C19*BK19+C20*BK20","v":4.3958859694536159},{"$f":"IF(AP38<$AQ$49,$AR$51,IF(AND(AP38>$AQ$50),$AR$50,IF(AND(AP38=$AQ$50),$AR$49,IF(AND(AP38=$AQ$49),$AR$49,IF(AND(AP38<$AQ$50,AP38>$AQ$49),$AR$49,0)))))","v":"FAZLA"},{"$f":"W29","v":7.6135043061837635},{"$f":"D3*BK3+D4*BK4+D5*BK5+D6*BK6+D7*BK7+D8*BK8+D9*BK9+D10*BK10+D11*BK11+D12*BK12+D13*BK13+D14*BK14+D15*BK15+D16*BK16+D17*BK17+D18*BK18+D19*BK19+D20*BK20","v":7.6135043061837671},"TAMAM",{"$f":"W30","v":13.564427581152113},{"$f":"E3*BK3+E4*BK4+E5*BK5+E6*BK6+E7*BK7+E8*BK8+E9*BK9+E10*BK10+E11*BK11+E12*BK12+E13*BK13+E14*BK14+E15*BK15+E16*BK16+E17*BK17+E18*BK18+E19*BK19+E20*BK20","v":13.564427566761314},"TAMAM",{"$f":"W31","v":19.252958880642371},{"$f":"F3*BK3+F4*BK4+F5*BK5+F6*BK6+F7*BK7+F8*BK8+F9*BK9+F10*BK10+F11*BK11+F12*BK12+F13*BK13+F14*BK14+F15*BK15+F16*BK16+F17*BK17+F18*BK18+F19*BK19+F20*BK20","v":19.252956149124252},"TAMAM",null,null,"1-180 Gün Gebe Düve",{"$f":"AJ87","v":1.3834993038658967},null,null,null,null,null,"ma",9.7714507231305536E-2,null,null,null,null,null,null,"KURU",null,null,null,null,null,null,null,null,null,null,null,null,null,null,null,null,null,null,null,null,null,null,null,null,null,null,null,null,null,null,null,null,null,null,null,null,null,null,null,null,"Köpek Dişi (Bermudagrass,Tifton-85) Kuru Otu, 3-4",1,0.873,1.6237800000000002,0.97776000000000007,119.601,null,32.770674,3.4046999999999996,1.9205999999999999,36.200000000000003,76.900000000000006,0,"Köpek Dişi (Bermudagrass,Tifton-85) Kuru Otu, 3-4",1.86,1.1200000000000001,87.3,13.7,76.900000000000006,36.200000000000003,27.4,0.39,0.22]
["HP (g/gün)",{"$f":"6.25*((1/0.7)*(0.2*POWER(L3,0.75)+L4/1000*30+3.3*T32)-3.3*T32)/0.75","v":312.20238034442241},{"$f":"C3*BL3+C4*BL4+C5*BL5+C6*BL6+C7*BL7+C8*BL8+C9*BL9+C10*BL10+C11*BL11+C12*BL12+C13*BL13+C14*BL14+C15*BL15+C16*BL16+C17*BL17+C18*BL18+C19*BL19+C20*BL20","v":312.20238032822044},{"$f":"IF(AP39<$AQ$49,$AR$51,IF(AND(AP39>$AQ$50),$AR$50,IF(AND(AP39=$AQ$50),$AR$49,IF(AND(AP39=$AQ$49),$AR$49,IF(AND(AP39<$AQ$50,AP39>$AQ$49),$AR$49,0)))))","v":"TAMAM"},{"$f":"E30+E29","v":687.56839927762053},{"$f":"D3*BL3+D4*BL4+D5*BL5+D6*BL6+D7*BL7+D8*BL8+D9*BL9+D10*BL10+D11*BL11+D12*BL12+D13*BL13+D14*BL14+D15*BL15+D16*BL16+D17*BL17+D18*BL18+D19*BL19+D20*BL20","v":1000.6918665125096},"FAZLA",{"$f":"H30+H29","v":818.93631176454926},{"$f":"E3*BL3+E4*BL4+E5*BL5+E6*BL6+E7*BL7+E8*BL8+E9*BL9+E10*BL10+E11*BL11+E12*BL12+E13*BL13+E14*BL14+E15*BL15+E16*BL16+E17*BL17+E18*BL18+E19*BL19+E20*BL20","v":826.71417464034664},"TAMAM",{"$f":"K30+K29","v":1159.4154827415753},{"$f":"F3*BL3+F4*BL4+F5*BL5+F6*BL6+F7*BL7+F8*BL8+F9*BL9+F10*BL10+F11*BL11+F12*BL12+F13*BL13+F14*BL14+F15*BL15+F16*BL16+F17*BL17+F18*BL18+F19*BL19+F20*BL20","v":1201.5138971329482},"TAMAM","Düve Gebelik Sonu CA (kg)",{"$f":"O25+O5*O4/1000","v":590.6},"180-288 Gün Gebe Düve",{"$f":"AK87","v":1.4129880199371847},null,"Fötüs ağırlığı",null,null,{"$f":"V24","v":35.839600000000004},"gcaa",0.34523809523809562,"ME sıcaklık stres",null,null,null,"önceki sıcaklık NE",null,"1.lak",null,"NE Süt verimi ",null,null,null,null,null,null,null,null,null,null,null,null,null,null,null,null,null,null,null,null,null,null,null,null,null,null,null,null,null,null,null,null,null,null,null,null,null,null,"Mercimek Samanı",1,0.92900000000000005,1.6629100000000003,0.83610000000000018,65.03,null,32.515000000000001,21.459900000000001,1.3006000000000002,39.799999999999997,60.6,0,"Mercimek Samanı",1.79,0.9,92.9,7,60.6,39.799999999999997,50,2.31,0.14000000000000001]
["Metabolik Protein",null,null,null,{"$f":"Y19","v":514.03170886084945},{"$f":"F29*0.8+F30*0.64","v":514.03170886084956},"TAMAM",{"$f":"Y20","v":637.89514874173665},{"$f":"I29*0.8+I30*0.64","v":637.89514754318782},"TAMAM",{"$f":"Y21","v":925.49031988579236},{"$f":"L29*0.8+L30*0.64","v":925.49031988579316},"TAMAM",null,null,"GENEL",{"$f":"AL87","v":1.6174016370808815},null,null,"KM","ME","ME","NE","Nem",28,31,"Sıcaklık stres","SCSTME",null,"NE gebelik","NE büyüme",null,null,null,null,null,null,null,null,null,null,null,null,null,null,null,null,null,null,null,null,null,null,null,null,null,null,null,null,null,null,null,null,null,null,null,null,null,null,null,null,"Nohut Samanı",1,0.90400000000000003,1.3198400000000001,0.74128000000000005,48.81600000000001,null,24.408000000000005,8.4976000000000003,1.4464000000000001,46.9,65.599999999999994,0,"Nohut Samanı",1.46,0.82,90.4,5.4,65.599999999999994,46.9,50,0.94,0.16]
["Rumende Yıkılabilir protein (g/gün)",null,null,null,{"$f":"E25*36.5","v":462.46458326982702},{"$f":"IF(AE24<AE25,AE24,AE25)","v":448.84942366214312},"TAMAM",{"$f":"H25*36.5","v":818.92631176454927},{"$f":"IF(AF24<AF25,AF24,AF25)","v":679.98797358353727},"EKSİK",{"$f":"K25*36.5","v":1146.6925683199008},{"$f":"IF(AG24<AG25,AG24,AG25)","v":978.25891075441427},"EKSİK","NET GELİR (TL)",null,"DÜVE NET GELİR (TL)",null,null,"Başlangıç",{"$f":"(X25+X26*POWER(M3,3/4)+X27*AH29)*(1-(IF(M15<-5,M15*0.006,0)))","v":5.4941382826339655},{"$f":"X19+AE29/AB36+AD29/AB36","v":10.819118754309335},{"$f":"U29+AB29+AC29/AB36+IF(M17>0,AD36/AB36,0)+AF36/AB36+AC41","v":12.670262555337727},{"$f":"X29+IF(M17>0,AD36,0)+AC29+AD29+AE29+AC36+AF36+AF41","v":7.6135043061837635},{"$f":"(0.08*POWER((M3-IF(I2>180,T27,0)),3/4))","v":4.5387091924508267},{"$f":"X29*AA29/AB36","v":0.52951607245259646},{"$f":"X29*AA30/AB36","v":1.3616127577352479},7.0000000000000007E-2,{"$f":"IF(M15<$Z$36,$AA$36,IF(AND(M15=$Y$28),$Y$29,IF(AND($Y$28<M15,M15<$Z$28),$Y$29,IF(AND($Z$28=M15),$Z$29,IF(AND(M15>$Z$28),$Z$29,0)))))","v":0.85830116517977439},{"$f":"(0.0007*(20-M16))*POWER(M3,0.75)","v":0.59570558150917108},null,{"$f":"0.0635*(POWER(0.96*(M3-H2),3/4))*POWER((0.956*AH29),1.097)","v":1.9641088331159007},null,null,{"$f":"M4/1000","v":0.7},{"$f":"((M4+1)-700*H2/45)/1000","v":0.14099999999999999},{"$f":"1+700*H2/45","v":561},null,null,null,null,null,null,null,null,null,null,null,null,null,null,null,null,null,null,null,null,null,null,null,null,null,null,null,null,null,null,null,null,null,null,null,"Sorgum, Sudan Kuru Otu",1,0.86499999999999999,1.5310499999999998,0.90825,81.31,null,33.66234,4.6710000000000003,1.73,40,64.8,0,"Sorgum, Sudan Kuru Otu",1.77,1.05,86.5,9.4,64.8,40,41.4,0.54,0.2]
["Rumende Yıkıma Dirençli Protein (g/gün)",null,null,null,{"$f":"IF((E28-E29*0.8)/0.64>0,(E28-E29*0.8)/0.64,0)+0.01","v":225.10381600779345},{"$f":"D3*BN3+D4*BN4+D5*BN5+D6*BN6+D7*BN7+D8*BN8+D9*BN9+D10*BN10+D11*BN11+D12*BN12+D13*BN13+D14*BN14+D15*BN15+D16*BN16+D17*BN17+D18*BN18+D19*BN19+D20*BN20","v":242.11276551739849},"TAMAM",{"$f":"IF((H28-H29*0.8)/0.64>0,(H28-H29*0.8)/0.64,0)+0.01","v":0.01},{"$f":"E3*BN3+E4*BN4+E5*BN5+E6*BN6+E7*BN7+E8*BN8+E9*BN9+E10*BN10+E11*BN11+E12*BN12+E13*BN13+E14*BN14+E15*BN15+E16*BN16+E17*BN17+E18*BN18+E19*BN19+E20*BN20","v":146.72620105680934},"FAZLA",{"$f":"IF((K28-K29*0.8)/0.64>0,(K28-K29*0.8)/0.64,0)+0.01","v":12.722914421674526},{"$f":"F3*BN3+F4*BN4+F5*BN5+F6*BN6+F7*BN7+F8*BN8+F9*BN9+F10*BN10+F11*BN11+F12*BN12+F13*BN13+F14*BN14+F15*BN15+F16*BN16+F17*BN17+F18*BN18+F19*BN19+F20*BN20","v":223.25498637853386},"FAZLA",null,null,null,null,null,"Orta",{"$f":"(X25+X26*POWER(N3,3/4)+X27*AH30)*(1-(IF(N15<-5,N15*0.006,0)))","v":9.0208615149468869},{"$f":"X20+AE30/AB37+AD30/AB37","v":18.079932660241894},{"$f":"U30+AB30+AC30/AB37+IF(N17>0,AD37/AB37,0)+AF37/AB37+AC42","v":22.436337308617787},{"$f":"X30+IF(N17>0,AD37,0)+AC30+AD30+AE30+AC37+AF37+AF42","v":13.564427581152113},{"$f":"(0.08*POWER((N3-IF(U27>0,U27,0)),3/4))","v":7.4260783925755254},{"$f":"X30*AA29/AB37","v":0.86637581246714468},{"$f":"X30*AA30/AB37","v":2.2278235177726575},0.18,{"$f":"IF(N15<$Z$37,$AA$37,IF(AND(N15=$Y$28),$Y$30,IF(AND($Y$28<N15,N15<$Z$28),$Y$30,IF(AND($Z$28=N15),$Z$30,IF(AND(N15>$Z$28),$Z$30,0)))))","v":0},{"$f":"(0.0007*(20-N16))*POWER(N3,0.75)","v":0.97467278902553778},null,{"$f":"0.0635*POWER(0.96*(N3-H2),3/4)*POWER(0.956*AH30,1.097)","v":3.4404463995510501},null,{"$f":"I4*(0.3512+0.0962*I7*100)","v":0},{"$f":"N4/1000","v":0.7},{"$f":"(((N4+1)-700*H2/45))/1000","v":0.14099999999999999},{"$f":"1+700*H2/45","v":561},null,null,null,null,null,null,null,null,null,null,null,null,null,null,null,null,null,null,null,null,null,null,null,null,null,null,null,null,null,null,null,null,null,null,null,"Yerfıstığı Sapı",1,0.89,1.7978000000000001,1.1125,97.9,null,27.803600000000003,10.946999999999999,1.5130000000000001,35,60,0,"Yerfıstığı Sapı",2.02,1.25,89,11,60,35,28.4,1.23,0.17]
["Ca (g/gün)",null,null,null,{"$f":"AX18","v":30.309290679133145},{"$f":"D3*BO3+D4*BO4+D5*BO5+D6*BO6+D7*BO7+D8*BO8+D9*BO9+D10*BO10+D11*BO11+D12*BO12+D13*BO13+D14*BO14+D15*BO15+D16*BO16+D17*BO17+D18*BO18+D19*BO19+D20*BO20","v":30.309290679133145},"TAMAM",{"$f":"AY18","v":35.02061750561716},{"$f":"E3*BO3+E4*BO4+E5*BO5+E6*BO6+E7*BO7+E8*BO8+E9*BO9+E10*BO10+E11*BO11+E12*BO12+E13*BO13+E14*BO14+E15*BO15+E16*BO16+E17*BO17+E18*BO18+E19*BO19+E20*BO20","v":35.020617468228942},"TAMAM",{"$f":"AZ18","v":47.792114285714284},{"$f":"F3*BO3+F4*BO4+F5*BO5+F6*BO6+F7*BO7+F8*BO8+F9*BO9+F10*BO10+F11*BO11+F12*BO12+F13*BO13+F14*BO14+F15*BO15+F16*BO16+F17*BO17+F18*BO18+F19*BO19+F20*BO20","v":47.792114285714305},"TAMAM",{"$f":"'NET GELİR'!E7","v":560375.49766731751},null,{"$f":"HESAP!GN3+HESAP!GN15+HESAP!GN16+HESAP!GN17+HESAP!GN18","v":-103234.86748289542},null,null,"Bitiş",{"$f":"(X25+X26*POWER((O3-IF(V27>0,T29,0)),3/4)+X27*(IF(T29>0,AI31,AH31)))*(1-(IF(O15<-5,O15*0.006,0)))","v":11.952054481235962},{"$f":"X21+AE31/AB38+AD31/AB38","v":23.448700661454911},{"$f":"U31+AB31+AC31/AB38+IF(O17>0,AD38/AB38,0)+AF38/AB38+AC43","v":31.416234748490432},{"$f":"X31+IF(O17>0,AD38,0)+AC31+AD31+AE31+AC38+AF38+AF43","v":19.252958880642371},{"$f":"(0.08*POWER((O3-IF(V27>0,T29,0)),3/4))","v":8.8506630659568089},{"$f":"X31*AA29/AB38","v":1.0325773576949613},{"$f":"X31*AA30/AB38","v":2.6551989197870425},null,{"$f":"IF(O15<$Z$38,$AA$38,IF(AND(O15=$Y$28),$Y$31,IF(AND($Y$28<O15,O15<$Z$28),$Y$31,IF(AND($Z$28=O15),$Z$31,IF(AND(O15>$Z$28),$Z$31,0)))))","v":7.3171726302095106},{"$f":"(0.0007*(20-O16))*POWER(O3,0.75)","v":0.39021687409560735},{"$f":"IF(V27>0,(((0.00318*(I2+N5+O5)-0.0352)*(H2/45))/0.218),0)","v":3.2317064220183487},{"$f":"0.0635*(POWER(0.96*((O3-IF(V27>0,V27,0)-H2)),3/4))*(POWER(0.956*IF(V27>0,AI31,AH31),1.097))","v":2.3900689404458997},null,{"$f":"J4*(0.3512+0.0962*J7*100)","v":0},{"$f":"O4/1000","v":1},{"$f":"(((O4+1)-700*H2/45))/1000","v":0.441},{"$f":"1+700*H2/45","v":561},null,null,null,null,null,null,null,null,null,null,null,null,null,null,null,null,null,null,null,null,null,null,null,null,null,null,null,null,null,null,null,null,null,null,null,"Yonca Kuru Otu, 1. Kalite >%21 HP,     <%37 NDF",1,0.84599999999999997,1.7427599999999999,1.0659599999999998,192.80339999999998,null,37.789466400000002,11.928599999999999,1.8611999999999997,27.2,36.799999999999997,0,"Yonca Kuru Otu, 1. Kalite >%21 HP,     <%37 NDF",2.06,1.26,84.6,22.79,36.799999999999997,27.2,19.600000000000001,1.41,0.22]
["P (g/gün)",null,null,null,{"$f":"BA18","v":14.438713234761181},{"$f":"D3*BP3+D4*BP4+D5*BP5+D6*BP6+D7*BP7+D8*BP8+D9*BP9+D10*BP10+D11*BP11+D12*BP12+D13*BP13+D14*BP14+D15*BP15+D16*BP16+D17*BP17+D18*BP18+D19*BP19+D20*BP20+AD21","v":30.309290679133142},"FAZLA",{"$f":"BB18","v":18.332064490468941},{"$f":"E3*BP3+E4*BP4+E5*BP5+E6*BP6+E7*BP7+E8*BP8+E9*BP9+E10*BP10+E11*BP11+E12*BP12+E13*BP13+E14*BP14+E15*BP15+E16*BP16+E17*BP17+E18*BP18+E19*BP19+E20*BP20+AD21","v":35.020617542522238},"FAZLA",{"$f":"BC18","v":25.798571428571424},{"$f":"F3*BP3+F4*BP4+F5*BP5+F6*BP6+F7*BP7+F8*BP8+F9*BP9+F10*BP10+F11*BP11+F12*BP12+F13*BP13+F14*BP14+F15*BP15+F16*BP16+F17*BP17+F18*BP18+F19*BP19+F20*BP20+AD21","v":47.792114285714305},"FAZLA",null,null,null,null,null,"Buzağı",{"$f":"U32/4.75*(1-(IF(L15<-5,L15*0.006,0)))","v":1.0869390541564405},{"$f":"0.086*POWER(L3,3/4)/0.75+0.84*POWER(L3,0.355)*POWER(L4/1000,1.2)*0.69/0.57","v":5.1629605072430929},{"$f":"U32+AB32+AC32/AB39+IF(L17>0,AD39/AB39,0)+AF39/AB39+AC44","v":5.5259919072082955},{"$f":"X32+AE32+IF(L17>0,AD39,0)+AF39+AC39+AF44+AC32","v":3.588875934552358},{"$f":"0.086*POWER(L3,3/4)","v":1.7840400226861397},{"$f":"X32*AA29/AB39","v":0.20813800264671634},{"$f":"X32*AA30/AB39","v":0.53521200680584191},null,{"$f":"IF(L15<$Z$39,$AA$39,IF(AND(L15=$Y$28),$Y$32,IF(AND($Y$28<L15,L15<$Z$28),$Y$32,IF(AND($Z$28=L15),$Z$32,IF(AND(L15>$Z$28),$Z$32,0)))))","v":0},{"$f":"(0.0007*(20-L16))*POWER(L3,0.75)","v":0.21781883997912174},null,{"$f":"0.84*POWER(L3,0.355)*POWER(L4/1000,1.2)*0.69","v":1.5870170718870966},null,null,null,null,null,null,null,null,null,null,null,null,null,null,null,null,null,null,null,null,null,null,null,null,null,null,null,null,null,null,null,null,null,null,null,null,null,null,null,null,"Yonca Kuru Otu, 2. Kalite  %19-21 HP, <%37-40 NDF",1,0.87970000000000004,1.741806,1.0556399999999999,177.6994,null,51.710525400000009,12.403769999999998,1.9353400000000001,29.4,39.6,0,"Yonca Kuru Otu, 2. Kalite  %19-21 HP, <%37-40 NDF",1.98,1.2,87.97,20.2,39.6,29.4,29.1,1.41,0.22]
["Ca/P",null,null,null,"1:1-1:2",{"$f":"F31/F32","v":1.0000000000000002},{"$f":"IF(F33<$T$42,$U$43,IF(AND(F33>$T$43),$U$42,IF(AND(F33=$T$42),$U$41,IF(AND(F33=$T$43),$U$41,IF(AND(F33<$T$43,F33>$T$42),$U$41,0)))))","v":"TAMAM"},"1:1-1:2",{"$f":"I31/I32+AD21","v":0.99999999788858407},{"$f":"IF(I33<$T$42,$U$43,IF(AND(I33>$T$43),$U$42,IF(AND(I33=$T$42),$U$41,IF(AND(I33=$T$43),$U$41,IF(AND(I33<$T$43,I33>$T$42),$U$41,0)))))","v":"EKSİK"},"1:1-1:2",{"$f":"L31/L32","v":1},{"$f":"IF(L33<$T$42,$U$43,IF(AND(L33>$T$43),$U$42,IF(AND(L33=$T$42),$U$41,IF(AND(L33=$T$43),$U$41,IF(AND(L33<$T$43,L33>$T$42),$U$41,0)))))","v":"TAMAM"},null,null,null,null,null,null,null,null,null,null,null,null,null,null,null,null,null,null,null,"var","var",null,null,null,null,null,null,null,null,null,null,null,null,null,null,null,null,null,null,null,null,null,null,null,null,null,null,null,null,null,null,null,null,null,null,null,null,null,"Yonca Kuru Otu, 3. Kalite  %17-19 HP, <%40-44 NDF",1,0.9081999999999999,1.7528259999999998,1.0353479999999999,162.84026,null,51.131841640000005,12.44234,1.99804,32.299999999999997,43.4,0,"Yonca Kuru Otu, 3. Kalite  %17-19 HP, <%40-44 NDF",1.93,1.1399999999999999,90.82,17.93,43.4,32.299999999999997,31.4,1.37,0.22]
["ADF (% KM en az)",null,null,null,19,{"$f":"(D3*BQ3+D4*BQ4+D5*BQ5+D6*BQ6+D7*BQ7+D8*BQ8+D9*BQ9+D10*BQ10+D11*BQ11+D12*BQ12+D13*BQ13+D14*BQ14+D15*BQ15+D16*BQ16+D17*BQ17+D18*BQ18+D19*BQ19+D20*BQ20)/(D3+D4+D5+D6+D7+D8+D9+D10+D11+D12+D13+D14+D15+D16+D17+D18+D19+D20+AD21)","v":25.870742363162709},{"$f":"IF(F34<$T$46,$U$43,IF(AND(F34>$T$46),$U$41,IF(AND(F34=$T$46),$U$41,0)))","v":"TAMAM"},19,{"$f":"(E3*BQ3+E4*BQ4+E5*BQ5+E6*BQ6+E7*BQ7+E8*BQ8+E9*BQ9+E10*BQ10+E11*BQ11+E12*BQ12+E13*BQ13+E14*BQ14+E15*BQ15+E16*BQ16+E17*BQ17+E18*BQ18+E19*BQ19+E20*BQ20)/(E3+E4+E5+E6+E7+E8+E9+E10+E11+E12+E13+E14+E15+E16+E17+E18+E19+E20+AD21)","v":19.00000264768229},{"$f":"IF(I34<$T$46,$U$43,IF(AND(I34>$T$46),$U$41,IF(AND(I34=$T$46),$U$41,0)))","v":"TAMAM"},19,{"$f":"(F3*BQ3+F4*BQ4+F5*BQ5+F6*BQ6+F7*BQ7+F8*BQ8+F9*BQ9+F10*BQ10+F11*BQ11+F12*BQ12+F13*BQ13+F14*BQ14+F15*BQ15+F16*BQ16+F17*BQ17+F18*BQ18+F19*BQ19+F20*BQ20)/(F3+F4+F5+F6+F7+F8+F9+F10+F11+F12+F13+F14+F15+F16+F17+F18+F19+F20+AD21)","v":19.000000115412767},{"$f":"IF(L34<$T$46,$U$43,IF(AND(L34>$T$46),$U$41,IF(AND(L34=$T$46),$U$41,0)))","v":"TAMAM"},null,null,null,null,null,"ADF",19,null,null,null,null,null,null,null,9.9999999999999994E-12,null,null,null,null,"yok","yok",null,null,null,null,null,null,null,null,null,null,null,null,null,null,null,null,null,null,null,null,null,null,null,null,null,null,null,null,null,null,null,null,null,null,null,null,null,"Yonca Kuru Otu, 4. Kalite  %15-17 HP, <%44-48 NDF",1,0.91269999999999996,1.679368,1.00397,146.76215999999997,null,46.963891199999992,10.861129999999999,2.19048,37.700000000000003,47.4,0,"Yonca Kuru Otu, 4. Kalite  %15-17 HP, <%44-48 NDF",1.84,1.1000000000000001,91.27,16.079999999999998,47.4,37.700000000000003,32,1.19,0.24]
["NDF (% KM en az)",null,null,null,27,{"$f":"(D3*BR3+D4*BR4+D5*BR5+D6*BR6+D7*BR7+D8*BR8+D9*BR9+D10*BR10+D11*BR11+D12*BR12+D13*BR13+D14*BR14+D15*BR15+D16*BR16+D17*BR17+D18*BR18+D19*BR19+D20*BR20)/(D3+D4+D5+D6+D7+D8+D9+D10+D11+D12+D13+D14+D15+D16+D17+D18+D19+D20+AD21)","v":43.553301467586579},{"$f":"IF(F35<$T$47,$U$43,IF(AND(F35>$T$47),$U$41,IF(AND(F35=$T$47),$U$41,0)))","v":"TAMAM"},27,{"$f":"(E3*BR3+E4*BR4+E5*BR5+E6*BR6+E7*BR7+E8*BR8+E9*BR9+E10*BR10+E11*BR11+E12*BR12+E13*BR13+E14*BR14+E15*BR15+E16*BR16+E17*BR17+E18*BR18+E19*BR19+E20*BR20)/(E3+E4+E5+E6+E7+E8+E9+E10+E11+E12+E13+E14+E15+E16+E17+E18+E19+E20+AD21)","v":41.682946219749837},{"$f":"IF(I35<$T$47,$U$43,IF(AND(I35>$T$47),$U$41,IF(AND(I35=$T$47),$U$41,0)))","v":"TAMAM"},27,{"$f":"(F3*BR3+F4*BR4+F5*BR5+F6*BR6+F7*BR7+F8*BR8+F9*BR9+F10*BR10+F11*BR11+F12*BR12+F13*BR13+F14*BR14+F15*BR15+F16*BR16+F17*BR17+F18*BR18+F19*BR19+F20*BR20)/(F3+F4+F5+F6+F7+F8+F9+F10+F11+F12+F13+F14+F15+F16+F17+F18+F19+F20+AD21)","v":38.866733136623196},{"$f":"IF(L35<$T$47,$U$43,IF(AND(L35>$T$47),$U$41,IF(AND(L35=$T$47),$U$41,0)))","v":"TAMAM"},null,null,null,null,null,"NDF",27,"SA","HP","EI","TI","INS","LCT","MECS","km","NEMcs","NE Mesafe","NE topoğrafya","eğim durumu",null,null,null,null,null,null,null,null,null,"Dişi Buzağı","Düve Başlangıç","Düve Besleme Ortası","Düve Bitiş",null,null,null,null,null,null,null,null,null,null,null,null,null,null,null,null,null,null,null,null,null,null,null,null,null,null,"Yonca Kuru Otu, 5. Kalite  %13-15 HP, <%48-54 NDF",1,0.91269999999999996,1.64286,0.97658900000000004,130.69864000000001,null,41.954263440000005,10.769859999999998,1.9166699999999999,41.8,52.7,0,"Yonca Kuru Otu, 5. Kalite  %13-15 HP, <%48-54 NDF",1.8,1.07,91.27,14.32,52.7,41.8,32.1,1.18,0.21]
["Vitamin A (IU)",{"$f":"110*L3","v":6270},{"$f":"(C3*BS3+C4*BS4+C5*BS5+C6*BS6+C7*BS7+C8*BS8+C9*BS9+C10*BS10+C11*BS11+C12*BS12+C13*BS13+C14*BS14+C15*BS15+C16*BS16+C17*BS17+C18*BS18+C19*BS19+C20*BS20)","v":26582.399999999998},{"$f":"IF(AP48<$AQ$49,$AR$51,IF(AND(AP48>$AQ$50),$AR$50,IF(AND(AP48=$AQ$50),$AR$49,IF(AND(AP48=$AQ$49),$AR$49,IF(AND(AP48<$AQ$50,AP48>$AQ$49),$AR$49,0)))))","v":"FAZLA"},null,null,null,null,null,null,null,null,null,null,null,null,null,null,null,"Başlangıç",{"$f":"0.09*POWER((0.96*M3),0.67)","v":3.2294613127525036},{"$f":"((U29-AE29)/U36)","v":2.7419464311979067},{"$f":"((7.36-(0.296*M13)+2.55*M14))*V12*0.8","v":6.969920000000001},{"$f":"5.1875+(0.3125*M11)","v":6.125},{"$f":"W36+X36","v":13.094920000000002},{"$f":"39-V36*Y36*0.85","v":8.480266213301217},{"$f":"U36*(Z36-M15)/Y36","v":0.85830116517977439},0.6,{"$f":"AB29*AB36","v":0.51498069910786459},{"$f":"((M17/1000)*M18)*(0.00045*M3)+(0.0012*M3)","v":0.2616},{"$f":"0.006*M3*M17*M18/1000","v":0},{"$f":"IF(AH36=AG33,AE36,0)","v":0},"İNDİS",{"$f":"INDEX(AG33:AG34,AJ36)","v":"var"},"SATIR",{"$f":"MATCH(M20,AH33:AH34,0)","v":1},null,null,null,null,null,{"$f":"C24/$B24","v":1.0000000000568414},{"$f":"F24/E24","v":0.99999999999999989},{"$f":"I24/H24","v":0.99999999937855877},{"$f":"L24/K24","v":0.99999999999999967},null,null,null,null,null,null,null,null,null,null,null,null,null,null,null,null,null,null,null,null,null,null,null,null,null,null,"Yonca Kuru Otu, 6. Kalite <%13 HP, >%54 NDF ",1,0.93600000000000005,1.6005599999999998,0.89855999999999991,116.43839999999997,null,40.404124799999998,11.044799999999999,1.9655999999999998,42.1,54.8,0,"Yonca Kuru Otu, 6. Kalite <%13 HP, >%54 NDF ",1.71,0.96,93.6,12.44,54.8,42.1,34.700000000000003,1.18,0.21]
[null,null,null,null,null,null,null,null,null,null,null,null,null,null,null,null,null,null,null,"Orta",{"$f":"0.09*POWER((0.96*N3),0.67)","v":5.0135924406933761},{"$f":"((U30-(AE30))/U37)","v":2.9199593772058217},{"$f":"((7.36-(0.296*N13)+2.55*N14))*V13*0.8","v":7.0180000000000007},{"$f":"5.1875+(0.3125*N11)","v":6.125},{"$f":"W37+X37","v":13.143000000000001},{"$f":"39-V37*Y37*0.85","v":6.3795278195763032},{"$f":"U37*(Z37-N15)/Y37","v":-3.2884070728889743},0.6,{"$f":"AB30*AB37","v":0},{"$f":"((N17/1000)*N18)*(0.00045*N3)+(0.0012*N3)","v":0.88262999999999991},{"$f":"0.006*N3*N17*N18/1000","v":5.0436000000000005},{"$f":"IF(AH37=AG33,AE37,0)","v":0},"İNDİS",{"$f":"INDEX(AG33:AG34,AJ37)","v":"yok"},"SATIR",{"$f":"MATCH(N20,AH33:AH34,0)","v":2},null,null,null,null,null,1.0000000000040343,{"$f":"F25/E25","v":0.97055956261251664},0.95980220729340637,0.96692446220352124,null,null,null,null,null,null,null,null,null,null,null,null,null,null,null,null,null,null,null,null,null,null,null,null,null,null,"Yonca Kuru Otu, Erken Vejetatif",1,0.93810000000000004,2.5422509999999998,1.6135320000000002,281.61761999999999,null,49.564701120000002,14.0715,3.0957300000000005,20.3,27,0,"Yonca Kuru Otu, Erken Vejetatif",2.71,1.72,93.81,30.02,27,20.3,17.600000000000001,1.5,0.33]
[null,null,null,null,null,null,null,null,null,null,null,null,null,null,null,null,null,null,null,"Bitiş",{"$f":"0.09*POWER((0.96*O3),0.67)","v":5.905139795588723},{"$f":"((U31-(AE31))/U38)","v":3.5661529531850031},{"$f":"((7.36-(0.296*O13)+2.55*O14))*V14*0.8","v":7.6912000000000011},{"$f":"5.1875+(0.3125*O11)","v":6.125},{"$f":"W38+X38","v":13.816200000000002},{"$f":"39-V38*Y38*0.85","v":-2.8800800670254461},{"$f":"U38*(Z38-O15)/Y38","v":7.3171726302095106},0.6,{"$f":"AB31*AB38","v":4.3903035781257058},{"$f":"((O17/1000)*O18)*(0.00045*O3)+(0.0012*O3)","v":0.64391999999999994},{"$f":"0.006*O3*O17*O18/1000","v":0},{"$f":"IF(AH38=AG33,AE38,0)","v":0},"İNDİS",{"$f":"INDEX(AG33:AG34,AJ38)","v":"yok"},"SATIR",{"$f":"MATCH(O20,AH33:AH34,0)","v":2},null,null,null,null,null,1.2248642888798875,{"$f":"F26/E26","v":1.0000000000000004},0.99999999893907798,0.99999985812476222,null,null,null,null,null,null,null,null,null,null,null,null,null,null,null,null,null,null,null,null,null,null,null,null,null,null,"Yonca Kuru Otu, Geç Vejetatif",1,0.93730000000000002,2.090179,1.293474,218.29716999999999,null,39.075193429999992,14.0595,3.0930900000000001,28.6,37.299999999999997,0,"Yonca Kuru Otu, Geç Vejetatif",2.23,1.38,93.73,23.29,37.299999999999997,28.6,17.899999999999999,1.5,0.33]
[null,null,null,null,null,null,null,null,null,null,null,null,null,null,null,null,null,null,null,"Buzağı",{"$f":"0.09*POWER((0.96*L3),0.67)","v":1.3146204653543467},{"$f":"((U32-AE32)/U39)","v":2.7201337036785942},{"$f":"((7.36-(0.296*L13)+2.55*L14))*V15*0.8","v":6.8751999999999995},{"$f":"(6.5*L11)","v":19.5},{"$f":"W39+X39","v":26.3752},{"$f":"39-V39*Y39*0.85","v":-21.982459892074111},{"$f":"U39*(Z39-L15)/Y39","v":-1.3448881517381275},0.6,{"$f":"AB32*AB39","v":0},{"$f":"((L17/1000)*L18)*(0.00045*L3)+(0.0012*L3)","v":6.8399999999999989E-2},{"$f":"0.006*L3*L17*L18/1000","v":0},{"$f":"IF(AH39=AH33,AE39,0)","v":0},"İNDİS",{"$f":"INDEX(AH33:AH34,AJ39)","v":"yok"},"SATIR",{"$f":"MATCH(L20,AH33:AH34,0)","v":2},null,null,null,null,null,0.99999999994810429,1.4554070075993395,1.0094975186275945,1.0363100329588719,null,null,null,null,null,null,null,null,null,null,null,null,null,null,null,null,null,null,null,null,null,null,null,null,null,null,"Yonca Kuru Otu, 6. Kalite <%13 HP, >%54 NDF ",1,0.93600000000000005,1.6005599999999998,0.89855999999999991,116.43839999999997,null,40.404124799999998,11.044799999999999,1.9655999999999998,42.1,54.8,0,"Yonca Kuru Otu, 6. Kalite <%13 HP, >%54 NDF ",1.71,0.96,93.6,12.44,54.8,42.1,34.700000000000003,1.18,0.21]
[null,null,null,null,null,null,null,null,null,null,null,null,null,null,null,null,null,null,null,null,null,null,null,null,null,null,null,null,"ME mera",null,"NE mera",null,"Otluyormu",null,null,null,null,null,null,null,null,{"$error":"#DIV/0!"},1.0000000000000002,0.99999999812108809,1.0000000000000009,null,null,null,null,null,null,null,null,null,null,null,null,null,null,null,null,null,null,null,null,null,null,null,null,null,null,"Yosun, Kurutulmuş",1,0.91,0.91,0.52779999999999994,63.7,null,12.548900000000001,24.752000000000002,2.8210000000000002,10,25,0,"Yosun, Kurutulmuş",1,0.57999999999999996,91,7,25,10,19.7,2.72,0.31]
[null,null,null,null,null,null,null,null,null,null,null,null,null,null,null,null,null,null,null,1,"TAMAM",null,null,null,null,{"$f":"U29-AO7","v":10.800599667551344},null,"Başlangıç",{"$f":"IF(AH41=AE45,AD41,0)","v":0},{"$f":"M3*0.003","v":0.65400000000000003},{"$f":"M3*0.002","v":0.436},{"$f":"IF(AH41=AE45,AE41,0)","v":0},"İNDİS",{"$f":"INDEX(AE45:AE46,AJ41)","v":"hayır"},"SATIR",{"$f":"MATCH(M19,AE45:AE46,0)","v":2},null,null,null,null,null,{"$error":"#DIV/0!"},0.97055956261251675,0.83034085462263374,0.85311350032356936,null,null,null,null,null,null,null,null,null,null,null,null,null,null,null,null,null,null,null,null,null,null,null,null,null,null,"Yulaf Kuru Otu, Başaklı",1,0.91900000000000004,1.6817700000000002,1.0109000000000001,83.628999999999991,null,31.026358999999999,3.4003000000000001,2.0217999999999998,36.4,58,0,"Yulaf Kuru Otu, Başaklı",1.83,1.1000000000000001,91.9,9.1,58,36.4,37.1,0.37,0.22]
[null,null,null,null,null,null,null,null,null,null,null,null,null,null,null,null,null,null,null,1,"FAZLA",null,null,null,null,{"$f":"U30-AE30","v":14.639486260690845},null,"Orta",{"$f":"IF(AH42=AE45,AD42,0)","v":1.2609000000000001},{"$f":"N3*0.003","v":1.2609000000000001},{"$f":"N3*0.002","v":0.84060000000000001},{"$f":"IF(AH42=AE45,AE42,0)","v":0.84060000000000001},"İNDİS",{"$f":"INDEX(AE45:AE46,AJ42)","v":"evet"},"SATIR",{"$f":"MATCH(N19,AE45:AE46,0)","v":1},null,null,null,null,null,{"$error":"#DIV/0!"},1.0755604672157852,14672.620105680935,17.547472141933198,null,null,null,null,null,null,null,null,null,null,null,null,null,null,null,null,null,null,null,null,null,null,null,null,null,null,"Arpa Silajı, Başaklı",1,0.35499999999999998,0.72065000000000001,0.44020000000000004,42.6,null,10.351800000000001,1.704,1.0649999999999999,34.5,56.3,0,"Arpa Silajı, Başaklı",2.0299999999999998,1.24,35.5,12,56.3,34.5,24.3,0.48,0.3]
[null,null,null,null,null,null,null,null,null,null,null,null,null,null,null,null,null,null,null,2,"EKSİK",null,null,null,null,null,null,"Bitiş",{"$f":"IF(AH43=AE45,AD43,0)","v":0},{"$f":"O3*0.003","v":1.6098000000000001},{"$f":"O3*0.002","v":1.0732000000000002},{"$f":"IF(AH43=AE45,AE43,0)","v":0},"İNDİS",{"$f":"INDEX(AE45:AE46,AJ43)","v":"hayır"},"SATIR",{"$f":"MATCH(O19,AE45:AE46,0)","v":2},null,null,null,null,null,{"$error":"#DIV/0!"},1,0.99999999893239411,1.0000000000000004,null,null,null,null,null,null,null,null,null,null,null,null,null,null,null,null,null,null,null,null,null,null,null,null,null,null,"Baklagil Merası,Bakımlı",1,0.214,0.52644000000000002,0.32955999999999996,56.709999999999994,null,13.156719999999998,2.8033999999999999,0.79179999999999995,23.9,33.1,0,"Baklagil Merası,Bakımlı",2.46,1.54,21.4,26.5,33.1,23.9,23.2,1.31,0.37]
[null,null,null,null,null,null,null,null,null,null,null,null,null,null,null,null,null,null,null,null,null,null,null,null,null,null,null,"Buzağı",{"$f":"IF(AH44=AE45,AD44,0)","v":0},{"$f":"O4*0.003","v":3},{"$f":"L3*0.002","v":0.114},{"$f":"IF(AH44=AF45,AE44,0)","v":0},"İNDİS",{"$f":"INDEX(AF45:AF46,AJ44)","v":"hayır"},"SATIR",{"$f":"MATCH(L19,AF45:AF46,0)","v":2},null,null,null,null,null,{"$error":"#DIV/0!"},2.0991684083151929,1.9103477167413345,1.8525101057644398,null,null,null,null,null,null,null,null,null,null,null,null,null,null,null,null,null,null,null,null,null,null,null,null,null,null,"Baklagil Silajı",1,0.39100000000000001,0.77418000000000009,0.46920000000000001,7.82,null,1.4779800000000001,5.2394000000000007,1.2512000000000001,37,45.7,0,"Baklagil Silajı",1.98,1.2,39.1,2,45.7,37,18.899999999999999,1.34,0.32]
[null,null,null,null,null,null,null,null,null,null,null,null,null,null,null,null,null,null,null,null,null,null,null,null,null,null,null,null,null,null,"evet","evet",null,null,null,null,null,null,null,null,null,null,null,null,null,null,null,null,null,null,null,null,null,null,null,null,null,null,null,null,null,null,null,null,null,null,null,null,null,null,null,"Baklagil Silajı, Körpe < %40 NDF",1,0.41199999999999998,0.89816000000000018,0.55208000000000002,95.584000000000003,null,15.77136,5.7267999999999999,1.4832000000000001,30.2,36.700000000000003,0,"Baklagil Silajı, Körpe < %40 NDF",2.1800000000000002,1.34,41.2,23.2,36.700000000000003,30.2,16.5,1.39,0.36]
[null,null,null,null,null,null,null,null,null,null,null,null,null,null,null,null,null,null,null,19,null,null,null,null,null,null,null,null,null,null,"hayır","hayır",null,null,null,null,null,null,null,null,null,null,null,null,null,null,null,null,null,null,null,null,null,null,null,null,null,null,null,null,null,null,null,null,null,null,null,null,null,null,null,"Baklagil Silajı, Olgun >%46 NDF",1,0.42599999999999999,0.78383999999999998,0.46860000000000007,86.478000000000009,null,21.360066000000003,5.5380000000000003,1.4058000000000002,40.9,50,0,"Baklagil Silajı, Olgun >%46 NDF",1.84,1.1000000000000001,42.6,20.3,50,40.9,24.7,1.3,0.33]
[null,null,null,null,null,null,null,null,null,null,null,null,null,null,null,null,null,null,null,27,null,null,null,null,null,null,null,null,null,null,null,null,null,null,null,null,null,null,null,null,null,{"$f":"C35/$B35","v":{"$error":"#DIV/0!"}},{"$f":"F35/$E35","v":1.6130852395402437},{"$f":"I35/H35","v":1.5438128229536976},{"$f":"L35/K35","v":1.4395086346897481},{"$f":"AC35/AB35","v":{"$error":"#VALUE!"}},{"$f":"#REF!/#REF!","v":{"$error":"#REF!"}},{"$f":"AF35/AE35","v":{"$error":"#VALUE!"}},{"$f":"AH35/#REF!","v":{"$error":"#REF!"}},null,null,null,null,null,null,null,null,null,null,null,null,null,null,null,null,null,null,null,null,null,null,"Baklagil Silajı, Orta Olgun.. %40-46NDF",1,0.42899999999999999,0.86228999999999989,0.52337999999999996,93.950999999999993,null,15.595866000000001,5.8344000000000005,1.5014999999999998,35.200000000000003,43.2,0,"Baklagil Silajı, Orta Olgun.. %40-46NDF",2.0099999999999998,1.22,42.9,21.9,43.2,35.200000000000003,16.600000000000001,1.36,0.35]
[null,null,null,null,null,null,null,null,null,null,null,null,null,null,null,null,null,null,null,null,null,null,null,null,null,null,null,null,null,null,null,null,null,null,null,null,null,null,null,null,null,{"$f":"C36/$B36","v":4.2396172248803827},null,null,null,null,null,null,null,null,null,null,null,null,null,null,null,null,null,null,null,null,null,null,null,null,null,null,null,null,null,"Buğday Silajı, Başak, Başı",1,0.33300000000000002,0.63602999999999998,0.38627999999999996,39.959999999999994,null,9.1508399999999988,1.2654000000000001,0.96569999999999978,37.6,59.9,0,"Buğday Silajı, Başak, Başı",1.91,1.1599999999999999,33.299999999999997,12,59.9,37.6,22.9,0.38,0.28999999999999998]
[null,null,null,null,null,null,null,null,null,null,null,null,null,null,null,null,null,null,null,null,null,null,null,null,null,null,null,null,{"$f":"'NET GELİR'!E7","v":560375.49766731751},null,null,null,null,null,null,null,null,null,null,null,null,null,0.9,"TAMAM",null,null,null,null,null,null,null,null,null,null,null,null,null,null,null,null,null,null,null,null,null,null,null,null,null,null,null,"Çavdar Silajı, Körpe",1,0.29699999999999999,0.61776000000000009,0.38016,47.817,null,11.619531,1.2770999999999999,1.2473999999999998,34.9,57.8,0,"Çavdar Silajı, Körpe",2.08,1.28,29.7,16.100000000000001,57.8,34.9,24.3,0.43,0.42]
[null,null,null,null,null,null,null,null,null,null,null,null,null,null,null,null,null,null,null,null,null,null,null,null,null,null,null,null,null,null,null,null,null,null,null,null,null,null,null,null,null,null,1.1000000000000001,"FAZLA",null,null,null,null,null,null,null,null,null,null,null,null,null,null,null,null,null,null,null,null,null,null,null,null,null,null,null,"Çayır Merası, Soğuk Mevsim, Bakımlı",1,0.20100000000000001,0.49446000000000007,0.30954000000000004,53.265000000000008,null,11.824830000000002,1.1256000000000002,0.88440000000000007,25,45.8,0,"Çayır Merası, Soğuk Mevsim, Bakımlı",2.46,1.54,20.100000000000001,26.5,45.8,25,22.2,0.56000000000000005,0.44]
[null,null,null,null,null,null,null,null,null,null,null,null,null,null,null,null,null,null,null,null,null,null,null,null,null,null,null,null,null,null,null,null,null,null,null,null,null,null,null,null,null,null,null,"EKSİK",null,null,null,null,null,null,null,null,null,null,null,null,null,null,null,null,null,null,null,null,null,null,null,null,null,null,null,"Çayır Silajı, Soğuk Mevsim",1,0.36499999999999999,0.67890000000000006,0.40880000000000005,46.720000000000006,null,11.586560000000002,2.0075000000000003,1.0585,40.299999999999997,60.7,0,"Çayır Silajı, Soğuk Mevsim",1.86,1.1200000000000001,36.5,12.8,60.7,40.299999999999997,24.8,0.55000000000000004,0.28999999999999998]
[null,null,null,null,null,null,null,null,null,null,null,null,null,null,null,null,null,null,null,null,null,null,null,null,null,null,null,"KM (kg/gün)",{"$f":"C26/B26","v":1.2248642888798875},null,null,null,null,null,null,null,null,null,null,null,null,null,null,null,null,null,null,null,null,null,null,null,null,null,null,null,null,null,null,null,null,null,null,null,null,null,null,null,null,null,null,"Çayır Silajı, Soğuk Mevsim,Körpe<%55  NDF",1,0.36199999999999999,0.7602000000000001,0.46698000000000006,60.81600000000001,null,11.615856000000003,2.0634000000000001,1.3031999999999999,32.9,51,0,"Çayır Silajı, Soğuk Mevsim,Körpe<%55  NDF",2.1,1.29,36.200000000000003,16.8,51,32.9,19.100000000000001,0.56999999999999995,0.36]
[null,null,null,null,null,null,null,null,null,null,null,null,null,null,null,null,null,null,null,null,null,null,null,null,null,null,null,"ME (Mcal/gün)",0.99999999994810429,null,null,null,null,null,null,null,null,null,null,null,null,null,null,null,null,null,null,null,null,null,null,null,null,null,null,null,null,null,null,null,null,null,null,null,null,null,null,null,null,null,null,"Çayır Silajı, Soğuk Mevsim, Olgun>%60 NDF",1,0.38700000000000001,0.68112000000000006,0.40635000000000004,49.149000000000001,null,16.170020999999998,2.1672000000000002,1.1997000000000002,41.1,66.599999999999994,0,"Çayır Silajı, Soğuk Mevsim, Olgun>%60 NDF",1.76,1.05,38.700000000000003,12.7,66.599999999999994,41.1,32.9,0.56000000000000005,0.31]
[null,null,null,null,null,null,null,null,null,null,null,null,null,null,null,null,null,null,null,null,null,null,null,null,null,null,null,"Nel (Mcal/gün)",{"$error":"#DIV/0!"},null,null,null,null,null,null,null,null,null,null,null,null,null,null,null,null,null,null,null,null,null,null,null,null,null,null,null,null,null,null,null,null,null,null,null,null,null,null,null,null,null,null,"Çayır Silajı, Soğuk Mevsim, Orta Olgun..%55-60 NDF",1,0.42,0.80640000000000001,0.48719999999999997,70.56,null,16.36992,2.52,1.512,35.200000000000003,58.2,0,"Çayır Silajı, Soğuk Mevsim, Orta Olgun..%55-60 NDF",1.92,1.1599999999999999,42,16.8,58.2,35.200000000000003,23.2,0.6,0.36]
[null,null,null,null,null,null,null,null,null,null,null,null,null,null,null,null,null,null,null,null,null,null,null,null,null,null,null,"HP (g/gün)",{"$error":"#DIV/0!"},null,null,null,null,null,null,null,null,null,null,null,null,null,null,null,null,null,null,null,null,null,null,null,null,null,null,null,null,null,null,null,null,null,null,null,null,null,null,null,null,null,null,"Çayır-Baklagil Silajı, Körpe< %44 NDF",1,0.432,0.8640000000000001,0.52703999999999995,86.4,null,14.601600000000001,5.0112000000000005,1.5551999999999999,31.1,42.2,0,"Çayır-Baklagil Silajı, Körpe< %44 NDF",2,1.22,43.2,20,42.2,31.1,16.899999999999999,1.1599999999999999,0.36]
[null,null,null,null,null,null,null,null,null,null,null,null,null,null,null,null,null,null,null,null,null,null,null,null,null,null,null,"Metabolik Protein",{"$error":"#DIV/0!"},null,null,null,null,null,null,null,null,null,null,null,null,null,null,null,null,null,null,null,null,null,null,null,null,null,null,null,null,null,null,null,null,null,null,null,null,null,null,null,null,null,null,"Çayır-Baklagil Silajı, Körpe< %47 NDF",1,0.45900000000000002,0.96389999999999998,0.59211000000000003,93.176999999999992,null,16.305975,4.9572000000000003,1.6064999999999998,30.8,45.3,0,"Çayır-Baklagil Silajı, Körpe< %47 NDF",2.1,1.29,45.9,20.3,45.3,30.8,17.5,1.08,0.35]
[null,null,null,null,null,null,null,null,null,null,null,null,null,null,null,null,null,null,null,null,null,null,null,null,null,null,null,"Rumende Yıkılabilir protein (g/gün)",{"$error":"#DIV/0!"},null,null,null,null,null,null,null,null,null,null,null,null,null,null,null,null,null,null,null,null,null,null,null,null,null,null,null,null,null,null,null,null,null,null,null,null,null,null,null,null,null,null,"Çayır-Baklagil Silajı, Körpe< %51 NDF",1,0.47099999999999997,1.0032299999999998,0.61701000000000006,84.78,null,15.429959999999999,4.8041999999999998,1.6014000000000004,31.8,49.9,0,"Çayır-Baklagil Silajı, Körpe< %51 NDF",2.13,1.31,47.1,18,49.9,31.8,18.2,1.02,0.34]
[null,null,null,null,null,null,null,null,null,null,null,null,null,null,null,null,null,null,null,null,null,null,null,null,null,null,null,"Rumende Yıkıma Dirençli Protein (g/gün)",{"$error":"#DIV/0!"},null,null,null,null,null,null,null,null,null,null,null,null,null,null,null,null,null,null,null,null,null,null,null,null,null,null,null,null,null,null,null,null,null,null,null,null,null,null,null,null,null,null,"Çayır-Baklagil Silajı, Olgun> %47 NDF",1,0.42799999999999999,0.78323999999999994,0.46651999999999999,74.471999999999994,null,21.075576000000002,4.5368000000000004,1.4124000000000001,42.1,57.4,0,"Çayır-Baklagil Silajı, Olgun> %47 NDF",1.83,1.0900000000000001,42.8,17.399999999999999,57.4,42.1,28.3,1.06,0.33]
[null,null,null,null,null,null,null,null,null,null,null,null,null,null,null,null,null,null,null,null,null,null,null,null,null,null,null,"Ca (g/gün)",{"$error":"#DIV/0!"},{"$f":"F33/E33","v":{"$error":"#VALUE!"}},null,null,null,null,null,null,null,null,null,null,null,null,null,null,null,null,null,null,null,null,null,null,null,null,null,null,null,null,null,null,null,null,null,null,null,null,null,null,null,null,null,"Çayır-Baklagil Silajı, Olgun> %50 NDF",1,0.42899999999999999,0.75932999999999995,0.45045000000000002,78.507000000000005,null,20.725847999999999,5.0192999999999994,1.4157,41.6,53.7,0,"Çayır-Baklagil Silajı, Olgun> %50 NDF",1.77,1.05,42.9,18.3,53.7,41.6,26.4,1.17,0.33]
[null,null,null,null,null,null,null,null,null,null,null,null,null,null,null,null,null,null,null,null,null,null,null,null,null,null,null,"P (g/gün)",{"$error":"#DIV/0!"},{"$f":"F34/E34","v":1.3616180191138267},null,null,null,null,null,null,null,null,null,null,null,null,null,null,null,null,null,null,null,null,null,null,null,null,null,null,null,null,null,null,null,null,null,null,null,null,null,null,null,null,null,"Çayır-Baklagil Silajı, Olgun >%57 NDF",1,0.38500000000000001,0.69299999999999995,0.41580000000000006,59.29,null,18.083449999999999,3.2725,1.2705,42.2,61.7,0,"Çayır-Baklagil Silajı, Olgun >%57 NDF",1.8,1.08,38.5,15.4,61.7,42.2,30.5,0.85,0.33]
[null,null,null,null,null,null,null,null,null,null,null,null,null,null,null,null,null,null,null,null,null,null,null,null,null,null,null,"Ca/P",{"$f":"C33/C34","v":{"$error":"#DIV/0!"}},null,null,null,null,null,null,null,null,null,null,null,null,null,null,null,null,null,null,null,null,null,null,null,null,null,null,null,null,null,null,null,null,null,null,null,null,null,null,null,null,null,null,"Çayır-Baklagil Silajı, Orta Olgun, %44-50 NDF",1,0.433,0.83135999999999999,0.50227999999999995,82.27,null,14.561789999999998,4.9361999999999995,1.4722,35.4,47,0,"Çayır-Baklagil Silajı, Orta Olgun, %44-50 NDF",1.92,1.1599999999999999,43.3,19,47,35.4,17.7,1.1399999999999999,0.34]
[null,null,null,null,null,null,null,null,null,null,null,null,null,null,null,null,null,null,null,null,null,null,null,null,null,null,null,"ADF (% KM en az)",{"$f":"C36/B36","v":4.2396172248803827},null,null,null,null,null,null,null,null,null,null,null,null,null,null,null,null,null,null,null,null,null,null,null,null,null,null,null,null,null,null,null,null,null,null,null,null,null,null,null,null,null,null,"Çayır-Baklagil Silajı, Orta Olgun, %47-53 NDF",1,0.441,0.88640999999999992,0.54242999999999997,84.231000000000009,null,16.088121000000005,4.8069000000000006,1.5434999999999999,35.4,50.4,0,"Çayır-Baklagil Silajı, Orta Olgun, %47-53 NDF",2.0099999999999998,1.23,44.1,19.100000000000001,50.4,35.4,19.100000000000001,1.0900000000000001,0.35]
[null,null,null,null,null,null,null,null,null,null,null,null,null,null,null,null,null,null,null,null,null,null,null,null,null,null,null,"NDF (% KM en az)",{"$f":"C37/B37","v":{"$error":"#DIV/0!"}},null,null,null,null,null,null,null,null,null,null,null,null,null,null,null,null,null,null,null,null,null,null,null,null,null,null,null,null,null,null,null,null,null,null,null,null,null,null,null,null,null,null,"Çayır-Baklagil Silajı,Orta Olgun,  %51-57 NDF",1,0.44500000000000001,0.87219999999999998,0.52954999999999997,78.320000000000007,null,16.368880000000001,3.9605000000000006,1.6019999999999999,35.700000000000003,54.5,0,"Çayır-Baklagil Silajı,Orta Olgun,  %51-57 NDF",1.96,1.19,44.5,17.600000000000001,54.5,35.700000000000003,20.9,0.89,0.36]
[null,null,null,null,null,null,null,null,null,null,null,null,null,null,null,null,null,null,null,null,null,null,null,null,null,null,null,null,null,null,null,null,null,null,null,null,null,null,null,null,null,null,null,null,null,null,null,null,null,null,null,null,null,null,null,null,null,null,null,null,null,null,null,null,null,null,null,null,null,null,null,"Mısır Silajı, % 23-26KM",1,0.25,0.50249999999999995,0.30499999999999999,18.25,null,5.6210000000000004,0.72499999999999987,0.6,32.5,55.8,0,"Mısır Silajı, % 23-26KM",2.0099999999999998,1.22,25,7.3,55.8,32.5,30.8,0.28999999999999998,0.24]
[null,null,null,null,null,null,null,null,null,null,null,null,null,null,null,null,null,null,null,null,null,null,null,null,null,null,"YEM FİYATI X GÜNLÜK TÜKETİM",null,null,null,null,null,"YEM FİTARI X GÜNLÜK KM TÜKETİM",null,null,null,null,null,null,null,null,null,null,null,null,null,null,null,null,null,null,null,null,null,null,null,null,null,null,null,null,null,null,null,null,null,null,null,null,null,null,"Mısır Silajı, % 26-29KM",1,0.27800000000000002,0.57824000000000009,0.35584000000000005,20.015999999999998,null,6.0047999999999995,0.77840000000000009,0.72280000000000011,31.5,53,0,"Mısır Silajı, % 26-29KM",2.08,1.28,27.8,7.2,53,31.5,30,0.28000000000000003,0.26]
[null,null,null,null,null,null,null,null,null,null,null,null,null,null,null,null,null,null,null,null,null,null,null,null,null,null,null,"90 gün > Dişi Buzağı","90 gün < Buzağı-Düve ","1-180 Gün Gebe Düve","180-288 Gün Gebe Düve",null,null,"90 gün > Dişi Buzağı","90 gün < Buzağı-Düve ","1-180 Gün Gebe Düve","180-288 Gün Gebe Düve",null,null,null,"90 gün > Dişi Buzağı","90 gün < Buzağı-Düve ","1-180 Gün Gebe Düve","180-288 Gün Gebe Düve",null,null,null,null,null,null,null,null,null,null,null,null,null,null,null,null,null,null,null,null,null,null,null,null,null,null,null,"Mısır Silajı, %29-33 KM",1,0.313,0.63852000000000009,0.38811999999999997,22.536000000000001,null,6.7157280000000004,0.87640000000000007,0.81379999999999997,31.1,52.9,0,"Mısır Silajı, %29-33 KM",2.04,1.24,31.3,7.2,52.9,31.1,29.8,0.28000000000000003,0.26]
[null,null,null,null,null,null,null,null,null,null,null,null,null,null,null,null,null,null,null,null,null,null,null,null,null,null,null,{"$f":"$B3*C3","v":0},0,0,0,null,null,{"$f":"$B3*C3*$BI3","v":0},{"$f":"$B3*D3*$BI3","v":0},{"$f":"$B3*E3*$BI3","v":0},{"$f":"$B3*F3*$BI3","v":0},null,null,null,{"$f":"C3*$BI3","v":0},{"$f":"D3*$BI3","v":0},{"$f":"E3*$BI3","v":0},{"$f":"F3*$BI3","v":0},null,null,null,null,null,null,null,null,null,null,null,null,null,null,null,null,null,null,null,null,null,null,null,null,null,null,null,"Mısır Silajı, %33-40 KM",1,0.35499999999999998,0.72065000000000001,0.44020000000000004,25.914999999999999,null,8.759269999999999,{"$f":"CJ67*CO67/10","v":0.92300000000000004},0.88749999999999996,29.8,51.6,0,"Mısır Silajı, %33-40 KM",2.0299999999999998,1.24,35.5,7.3,51.6,29.8,33.799999999999997,0.26,0.25]
[null,null,null,null,null,null,null,null,null,null,null,null,null,null,null,null,null,null,null,null,null,null,null,null,null,null,null,0,2.0900212812265195,8.3565562868459313,12.474842355362016,null,null,{"$f":"$B4*C4*$BI4","v":0},{"$f":"$B4*D4*$BI4","v":1.9019193659161329},{"$f":"$B4*E4*$BI4","v":7.6044662210297975},{"$f":"$B4*F4*$BI4","v":11.352106543379435},null,null,null,{"$f":"C4*$BI4","v":0},{"$f":"D4*$BI4","v":1.2679462439440885},{"$f":"E4*$BI4","v":5.0696441473531983},{"$f":"F4*$BI4","v":7.5680710289196229},null,null,null,null,null,null,null,null,null,null,null,null,null,null,null,null,null,null,null,null,null,null,null,null,null,null,null,{"$f":"CG68","v":"Sorgum Silajı"},1,{"$f":"CJ68*10/1000","v":0.28799999999999998},{"$f":"CH68*CJ68/100","v":0.53280000000000005},{"$f":"CI68*CJ68/100","v":0.31968000000000002},{"$f":"CK68*CJ68/10","v":26.207999999999998},null,{"$f":"BY68*CN68/100","v":10.325951999999999},0,{"$f":"CP68*CJ68/10","v":0},{"$f":"CM68","v":38.700000000000003},{"$f":"CL68","v":60.7},{"$f":"CQ68","v":0},"Sorgum Silajı",1.85,1.1100000000000001,28.8,9.1,60.7,38.700000000000003,39.4,0,0]
[null,null,null,null,null,null,null,null,null,null,null,null,null,null,null,null,null,null,null,null,null,null,null,null,null,null,null,0,1.4941150189329973,0,0,null,null,0,1.3143729821553578,0,0,null,null,null,0,1.3143729821553578,0,0,null,null,null,null,null,null,null,null,null,null,null,null,null,null,null,null,null,null,null,null,null,null,null,null,null,null,null,"Sorgum, Sudan Otu Silajı",{"$f":"BU68","v":1},0.28799999999999998,0.51551999999999998,0.30816000000000004,31.104000000000003,null,15.116544000000001,1.44,0.6048,40.700000000000003,63.3,0,"Sorgum, Sudan Otu Silajı",1.79,1.07,28.8,10.8,63.3,40.700000000000003,48.6,0.5,0.21]
[null,null,null,null,null,null,null,null,null,null,null,null,null,null,null,null,null,null,null,null,null,null,null,null,null,null,null,0,0,0,0,null,null,0,0,0,0,null,null,null,0,0,0,0,null,null,null,null,null,null,null,null,null,null,null,null,null,null,null,null,null,null,null,null,null,null,null,null,null,null,null,"Soya Silajı, Körpe",1,0.40400000000000003,0.84435999999999989,0.52115999999999996,70.295999999999992,null,11.669135999999998,2.5855999999999999,0.96960000000000002,36.9,46.6,0,"Soya Silajı, Körpe",2.09,1.29,40.4,17.399999999999999,46.6,36.9,16.600000000000001,0.64,0.24]
[null,null,null,null,null,null,null,null,null,null,null,null,null,null,null,null,null,null,null,null,null,null,null,null,null,null,null,0,0,0,0,null,null,0,0,0,0,null,null,null,0,0,0,0,null,null,null,null,null,null,null,null,null,null,null,null,null,null,null,null,null,null,null,null,null,null,null,null,null,null,null,"Şalgam Yaprakları",1,0.18,0.45,0.27,28.8,null,4.8959999999999999,1.9260000000000002,0.66600000000000004,13,25,0,"Şalgam Yaprakları",2.5,1.5,18,16,25,13,17,1.07,0.37]
[null,null,null,null,null,null,null,null,null,null,null,null,null,null,null,null,null,null,null,null,null,null,null,null,null,null,null,0.10668401477160976,0,0,0,null,null,9.5055457161504292E-2,0,0,0,null,null,null,4.7527728580752146E-2,0,0,0,null,null,null,null,null,null,null,null,null,null,null,null,null,null,null,null,null,null,null,null,null,null,null,null,null,null,null,"Şalgam, Yaprak-Kök",1,0.13950000000000001,0.38641500000000001,0.24063749999999998,19.808999999999997,null,6.8440094999999985,4.4640000000000004,0.43244999999999995,22.45,33.549999999999997,0,"Şalgam, Yaprak-Kök",2.77,1.7250000000000001,13.95,14.2,33.549999999999997,22.45,34.549999999999997,3.2,0.31]
[null,null,null,null,null,null,null,null,null,null,null,null,null,null,null,null,null,null,null,null,null,null,null,null,null,null,null,0,0,0,0,null,null,0,0,0,0,null,null,null,0,0,0,0,null,null,null,null,null,null,null,null,null,null,null,null,null,null,null,null,null,null,null,null,null,null,null,null,null,null,null,"Tritikale Silajı, Başaklı",1,0.32,0.62080000000000002,0.37759999999999999,44.160000000000004,null,10.730880000000003,6.6400000000000006,1.024,39.6,59.7,0,"Tritikale Silajı, Başaklı",1.94,1.18,32,13.8,59.7,39.6,24.3,2.0750000000000002,0.32]
[null,null,null,null,null,null,null,null,null,null,null,null,null,null,null,null,null,null,null,null,null,null,null,null,null,null,null,0,0,0,0,null,null,0,0,0,0,null,null,null,0,0,0,0,null,null,null,null,null,null,null,null,null,null,null,null,null,null,null,null,null,null,null,null,null,null,null,null,null,null,null,"Tritikale-Bezelye Silajı(9-1)",1,0.34340000000000004,0.65692420000000018,0.39594020000000008,44.607660000000003,null,16.018610706,1.7856800000000004,1.06454,38.97,60.51,0,"Tritikale-Bezelye Silajı(9-1)",1.913,1.153,34.340000000000003,12.99,60.51,38.97,35.909999999999997,0.52,0.31]
[null,null,null,null,null,null,null,null,null,null,null,null,null,null,null,null,null,null,null,null,null,null,null,null,null,null,null,0,0,0,0,null,null,0,0,0,0,null,null,null,0,0,0,0,null,null,null,null,null,null,null,null,null,null,null,null,null,null,null,null,null,null,null,null,null,null,null,null,null,null,null,"Tritikale-Bezelye Silajı (APAK)",1,0.3639,0.87699899999999997,0.54585000000000006,36.062490000000004,null,10.479759593999999,1.01892,0.94614000000000009,28.03,43.97,0,"Tritikale-Bezelye Silajı (APAK)",2.41,1.5,36.39,9.91,43.97,28.03,29.06,0.28000000000000003,0.26]
[null,null,null,null,null,null,null,null,null,null,null,null,null,null,null,null,null,null,null,null,null,null,null,null,null,null,null,0,2.7329285854110839,0,0,null,null,0,2.407710083747165,0,0,null,null,null,0,2.407710083747165,0,0,null,null,null,null,null,null,null,null,null,null,null,null,null,null,null,null,null,null,null,null,null,null,null,null,null,null,null,"Yulaf Silajı, Başaklı",1,0.34599999999999997,0.66086,0.39789999999999998,119.71600000000001,null,44.534352000000005,1.9721999999999997,1.1418000000000001,38.9,60.6,0,"Yulaf Silajı, Başaklı",1.91,1.1499999999999999,34.6,34.6,60.6,38.9,37.200000000000003,0.56999999999999995,0.33]
[null,null,null,null,null,null,null,null,null,null,null,null,null,null,null,null,null,null,null,null,null,null,null,null,null,null,null,4.6217736624379659,0,2.6102577371444275,3.1458545830012445,null,null,4.6217736624379659,0,2.6102577371444275,3.1458545830012445,null,null,null,0.30811824416253109,0,0.17401718247629516,0.20972363886674963,null,null,null,null,null,null,null,null,null,null,null,null,null,null,null,null,null,null,null,null,null,null,null,null,null,null,null,"Aminoplus",1,0.88,0,1.9360000000000002,454.96000000000004,null,121.01936000000002,3.3439999999999999,6.3360000000000003,7.44,11.8,0,"Aminoplus",0,2.2000000000000002,88,51.7,11.8,7.44,26.6,0.38,0.72]
[null,null,null,null,null,null,null,null,null,null,null,null,null,null,null,null,null,null,null,null,null,null,null,null,null,null,null,0,0,0.39361696446676803,2.4814446103842918,null,null,0,0,0.12320210987809839,0.77669216305028332,null,null,null,0,0,0.24640421975619678,1.5533843261005666,null,null,null,null,null,null,null,null,null,null,null,null,null,null,null,null,null,null,null,null,null,null,null,null,null,null,null,"Aspir Küspesi, Solvent ",1,0.93500000000000005,1.8326,1.1126499999999999,271.14999999999998,null,31.995699999999996,4.4879999999999995,9.35,39.1,53.8,0,"Aspir Küspesi, Solvent ",1.96,1.19,93.5,29,53.8,39.1,11.8,0.48,1]
[null,null,null,null,null,null,null,null,null,null,null,null,null,null,null,null,null,null,null,null,null,null,null,null,null,null,null,0,0,2.2465475879671746,1.6301278012249696,null,null,0,0,2.082549614045571,1.5111284717355469,null,null,null,0,0,3.4709160234092855,2.518547452892578,null,null,null,null,null,null,null,null,null,null,null,null,null,null,null,null,null,null,null,null,null,null,null,null,null,null,null,"Ayçiçeği Küspesi, Solvent, %25 HP",1,0.92200000000000004,2.06528,1.2723599999999999,261.84800000000001,null,48.180032000000004,4.4256000000000002,9.2200000000000006,30,40.299999999999997,0,"Ayçiçeği Küspesi, Solvent, %25 HP",2.2400000000000002,1.38,92.2,28.4,40.299999999999997,30,18.399999999999999,0.48,1]
[null,null,null,null,null,null,null,null,null,null,null,null,null,null,null,null,null,null,null,null,null,null,null,null,null,null,null,2.074263024999667,2.4804505171124367,0,0,null,null,1.856465407374702,2.2200032128156311,0,0,null,null,null,0.37129308147494045,0.44400064256312616,0,0,null,null,null,null,null,null,null,null,null,null,null,null,null,null,null,null,null,null,null,null,null,null,null,null,null,null,null,"Ayçiçeği Küspesi, Solvent, %28 HP",1,0.92200000000000004,2.1021599999999996,1.383,285.82000000000005,null,52.590880000000006,4.4256000000000002,9.2200000000000006,28,38,0,"Ayçiçeği Küspesi, Solvent, %28 HP",2.2799999999999998,1.5,92.2,31,38,28,18.399999999999999,0.48,1]
[null,null,null,null,null,null,null,null,null,null,null,null,null,null,null,null,null,null,null,null,null,null,null,null,null,null,null,0,6.010833022422693E-2,1.1849203988315973E-2,2.6176997695280632E-2,null,null,0,6.010833022422693E-2,1.1849203988315973E-2,2.6176997695280632E-2,null,null,null,0,6.010833022422693E-2,1.1849203988315973E-2,2.6176997695280632E-2,null,null,null,null,null,null,null,null,null,null,null,null,null,null,null,null,null,null,null,null,null,null,null,null,null,null,null,"Ayçiçeği Küspesi, Solvent, %32 HP",1,0.92200000000000004,2.2128000000000001,1.4752000000000001,328.23200000000003,null,60.394687999999995,4.4256000000000002,9.2200000000000006,26,36,0,"Ayçiçeği Küspesi, Solvent, %32 HP",2.4,1.6,92.2,35.6,36,26,18.399999999999999,0.48,1]
[null,null,null,null,null,null,null,null,null,null,null,null,null,null,null,null,null,null,null,null,null,null,null,null,null,null,null,0,0,4.8030732357658978E-2,7.6151036761159488E-2,null,null,0,0,4.8030732357658978E-2,7.6151036761159488E-2,null,null,null,0,0,4.8030732357658978E-2,7.6151036761159488E-2,null,null,null,null,null,null,null,null,null,null,null,null,null,null,null,null,null,null,null,null,null,null,null,null,null,null,null,"Ayçiçeği Küspesi, Solvent, %34 HP",1,0.92200000000000004,2.2128000000000001,1.4752000000000001,346.67200000000003,null,63.787647999999997,4.4256000000000002,9.2200000000000006,24,34,0,"Ayçiçeği Küspesi, Solvent, %34 HP",2.4,1.6,92.2,37.6,34,24,18.399999999999999,0.48,1]
[null,null,null,null,null,null,null,null,null,null,null,null,null,null,null,null,null,null,null,null,null,null,null,null,null,null,null,{"$f":"$B19*C19","v":5.76},0,0,0,null,null,0.72,0,0,0,null,null,null,0.36,0,0,0,null,null,null,null,null,null,null,null,null,null,null,null,null,null,null,null,null,null,null,null,null,null,null,null,null,null,null,"Ayçiçeği Küspesi, Solvent, %36 HP",1,0.92200000000000004,2.3972000000000002,1.5674000000000001,368.8,null,67.859200000000001,4.4256000000000002,9.2200000000000006,22,32,0,"Ayçiçeği Küspesi, Solvent, %36 HP",2.6,1.7,92.2,40,32,22,18.399999999999999,0.48,1]
[null,null,null,null,null,null,null,null,null,null,null,null,null,null,null,null,null,null,null,null,null,null,null,null,null,null,null,0,0,0,0,"GENEL",null,0,0,0,0,"GENEL",null,null,0,0,0,0,null,null,null,null,null,null,null,null,null,null,null,null,null,null,null,null,null,null,null,null,null,null,null,null,null,null,null,"Ayçiçeği Tohumu",1,0.91800000000000004,4.3237800000000002,3.10284,176.256,null,32.431103999999998,6.5177999999999994,4.6818,16.7,24,0,"Ayçiçeği Tohumu",4.71,3.38,91.8,19.2,24,16.7,18.399999999999999,0.71,0.51]
[null,null,null,null,null,null,null,null,null,null,null,null,null,null,null,null,null,null,null,null,null,null,null,null,null,null,"TOPLAM GÜNLÜK YEM MASRAFI",{"$f":"SUM(AB67:AB84)","v":12.562720702209242},{"$f":"SUM(AC67:AC84)","v":8.8576237329072622},{"$f":"SUM(AD67:AD84)","v":13.666858512770277},{"$f":"SUM(AE67:AE84)","v":19.83459738442896},{"$f":"SUM(AB85:AE85)","v":54.92180033231574},"TOPLAM GÜNLÜK YEM MASRAFI",{"$f":"SUM(AH67:AH84)","v":7.2932945269741722},{"$f":"SUM(AI67:AI84)","v":7.9041139748585145},{"$f":"SUM(AJ67:AJ84)","v":12.48035561844387},{"$f":"SUM(AK67:AK84)","v":16.888109795622952},{"$f":"SUM(AH85:AK85)","v":44.565873915899509},null,null,null,null,null,null,null,null,null,null,null,null,null,null,null,null,null,null,null,null,null,null,null,null,null,null,null,null,null,null,null,null,null,"Balık Unu, Hamsi",1,0.92,3.1463999999999999,2.0424000000000002,655.04000000000008,null,335.38048000000003,37.351999999999997,24.747999999999998,0,0,0,"Balık Unu, Hamsi",3.42,2.2200000000000002,92,71.2,0,0,51.2,4.0599999999999996,2.69]
[null,null,null,null,null,null,null,null,null,null,null,null,null,null,null,null,null,null,null,null,null,null,null,null,null,null,"TOPLAM YEMTÜKETİM",{"$f":"SUM(C3:C20)","v":3.6563128565482694},{"$f":"SUM(D3:D20)","v":6.1765895588084749},{"$f":"SUM(E3:E20)","v":10.336414552265053},{"$f":"SUM(F3:F20)","v":16.308382133041402},{"$f":"SUM(AB86:AE86)","v":36.477699100663202},"TOPLAM YEMTÜKETİM",{"$f":"SUM(AO67:AO84)","v":1.0869390542182238},{"$f":"SUM(AP67:AP84)","v":5.4941382826339646},{"$f":"SUM(AQ67:AQ84)","v":9.0208615093409517},{"$f":"SUM(AR67:AR84)","v":11.952054481235958},{"$f":"SUM(AH86:AK86)","v":27.553993327429097},null,null,null,null,null,null,null,null,null,null,null,null,null,null,null,null,null,null,null,null,null,null,null,null,null,null,null,null,null,null,null,null,null,"Balık Unu, Ringa",1,0.91200000000000003,3.2102400000000002,2.1249600000000002,624.72,null,369.20952000000005,48.700800000000001,27.815999999999995,0,0,0,"Balık Unu, Ringa",3.52,2.33,91.2,68.5,0,0,59.1,5.34,3.05]
[null,null,null,null,null,null,null,null,null,null,null,null,null,null,null,null,null,null,null,null,null,null,null,null,null,null,"BİRİM YEM MALİYET",{"$f":"AB85/AB86","v":3.4358987305230326},{"$f":"AC85/AC86","v":1.4340638387207301},{"$f":"AD85/AD86","v":1.3222049525650472},{"$f":"AE85/AE86","v":1.2162210342277493},{"$f":"AF85/AF86","v":1.5056267715996705},"BİRİM YEM MALİYET",{"$f":"AH85/AH86","v":6.7099387943327171},{"$f":"AI85/AI86","v":1.4386448917461856},{"$f":"AJ85/AJ86","v":1.3834993038658967},{"$f":"AK85/AK86","v":1.4129880199371847},{"$f":"AL85/AL86","v":1.6174016370808815},null,null,null,null,null,null,null,null,null,null,null,null,null,null,null,null,null,null,null,null,null,null,null,null,null,null,null,null,null,null,null,null,null,"Ecomass",1,0.94,3.0644,1.8424,479.96400000000006,null,63.019273200000008,20.021999999999998,4.7,5.32,18.899999999999999,0,"Ecomass",3.26,1.96,94,51.06,18.899999999999999,5.32,13.13,2.13,0.5]
[null,null,null,null,null,null,null,null,null,null,null,null,null,null,null,null,null,null,null,null,null,null,null,null,null,null,"BİRİM SÜTÜN YEM MALİYETİ",{"$f":"AB85/L4*1000","v":17.946743860298916},{"$f":"AC85/M4*1000","v":12.653748189867517},{"$f":"AD85/N4*1000","v":19.524083589671825},{"$f":"AE85/O4*1000","v":19.83459738442896},{"$f":"(AB85*L5+AC85*M5+AD85*N5+AE85*O5)/(L4/1000*L5+M4/1000*M5+N4/1000*N5+O5*O4/1000)","v":15.9964840751657},"BİRİM SÜTÜN YEM MALİYETİ",null,{"$f":"AI85/S6","v":{"$error":"#DIV/0!"}},{"$f":"AJ85/T6","v":{"$error":"#DIV/0!"}},{"$f":"AK85/U6","v":{"$error":"#DIV/0!"}},{"$f":"(AH85*R5+AI85*S5+AJ85*T5+AK85*U5)/(S6*S5+T6*T5+U6*U5)","v":{"$error":"#VALUE!"}},null,null,null,null,null,null,null,null,null,null,null,null,null,null,null,null,null,null,null,null,null,null,null,null,null,null,null,null,null,null,null,null,null,"Et Unu",1,0.93899999999999995,3.1456500000000007,2.0751900000000001,540.86400000000003,null,224.45856000000001,83.195399999999992,39.438000000000002,0,0,0,"Et Unu",3.35,2.21,93.9,57.6,0,0,41.5,8.86,4.2]
[null,null,null,null,null,null,null,null,null,null,null,null,null,null,null,null,null,null,null,null,null,null,null,null,null,null,null,null,null,null,null,null,null,null,null,null,null,null,null,null,null,null,null,null,null,null,null,null,null,null,null,null,null,null,null,null,null,null,null,null,null,null,null,null,null,null,null,null,null,null,null,"Et-Kemik Unu",1,0.94,2.3875999999999999,1.5322,509.48,null,261.87272000000002,99.64,44.462000000000003,0,0,0,"Et-Kemik Unu",2.54,1.63,94,54.2,0,0,51.4,10.6,4.7300000000000004]
[null,null,null,null,null,null,null,null,null,null,null,null,null,null,null,null,null,null,null,null,null,null,null,null,null,null,null,null,null,null,null,null,null,null,null,null,null,null,null,null,null,null,null,null,null,null,null,null,null,null,null,null,null,null,null,null,null,null,null,null,null,null,null,null,null,null,null,null,null,null,null,"Kan Unu, Püskürtmeli Kurutulmuş",1,0.90200000000000002,3.2291599999999998,2.1016600000000003,861.41000000000008,null,610.73969000000011,2.706,2.706,0,0,0,"Kan Unu, Püskürtmeli Kurutulmuş",3.58,2.33,90.2,95.5,0,0,70.900000000000006,0.3,0.3]
[null,null,null,null,null,null,null,null,null,null,null,null,null,null,null,null,null,null,null,null,null,null,null,null,null,null,null,null,null,null,null,null,null,null,null,null,null,null,null,null,null,null,null,null,null,null,null,null,null,null,null,null,null,null,null,null,null,null,null,null,null,null,null,null,null,null,null,null,null,null,null,"Kan Unu, Teknede Kurutulmuş",1,0.90200000000000002,2.7420800000000001,1.7589000000000001,861.41000000000008,null,610.73969000000011,2.706,2.706,0,0,0,"Kan Unu, Teknede Kurutulmuş",3.04,1.95,90.2,95.5,0,0,70.900000000000006,0.3,0.3]
[null,null,null,null,null,null,null,null,null,null,null,null,null,null,null,null,null,null,null,null,null,null,null,null,null,null,null,null,null,null,null,null,null,null,null,null,null,null,null,null,null,null,null,null,null,null,null,null,null,null,null,null,null,null,null,null,null,null,null,null,null,null,null,null,null,null,null,null,null,null,null,"Kanola Küspesi, Pres",1,0.90300000000000002,2.48325,1.58928,341.33399999999995,null,90.794843999999998,6.7724999999999991,9.9329999999999998,20.5,29.9,0,"Kanola Küspesi, Pres",2.75,1.76,90.3,37.799999999999997,29.9,20.5,26.6,0.75,1.1000000000000001]
[null,null,null,null,null,null,null,null,null,null,null,null,null,null,null,null,null,null,null,null,null,null,null,null,null,null,null,null,null,null,null,null,null,null,null,null,null,null,null,null,null,null,null,null,null,null,null,null,null,null,null,null,null,null,null,null,null,null,null,null,null,null,null,null,null,null,null,null,null,null,null,"Kanola Tohumu",1,0.89900000000000002,4.4230800000000006,3.1644800000000002,184.29500000000002,null,28.565725,3.9556000000000004,6.1132000000000009,11.6,17.8,0,"Kanola Tohumu",4.92,3.52,89.9,20.5,17.8,11.6,15.5,0.44,0.68]
[null,null,null,null,null,null,null,null,null,null,null,null,null,null,null,null,null,null,null,null,null,null,null,null,null,null,null,null,null,null,null,null,null,null,null,null,null,null,null,null,null,null,null,null,null,null,null,null,null,null,null,null,null,null,null,null,null,null,null,null,null,null,null,null,null,null,null,null,null,null,null,"Keten Tohumu Küspesi, Solvent",1,0.90300000000000002,2.2665299999999995,1.4177100000000002,294.37800000000004,null,126.58254000000002,3.6119999999999997,7.4948999999999995,22.1,36.1,0,"Keten Tohumu Küspesi, Solvent",2.5099999999999998,1.57,90.3,32.6,36.1,22.1,43,0.4,0.83]
[null,null,null,null,null,null,null,null,null,null,null,null,null,null,null,null,null,null,null,null,null,null,null,null,null,null,null,null,null,null,null,null,null,null,null,null,null,null,null,null,null,null,null,null,null,null,null,null,null,null,null,null,null,null,null,null,null,null,null,null,null,null,null,null,null,null,null,null,null,null,null,"Mısır Gluteni,44",1,0.86399999999999999,2.62656,1.6848000000000001,404.35199999999998,null,250.37475839999999,0.51839999999999997,5.1840000000000002,8.1999999999999993,11.1,0,"Mısır Gluteni,44",3.04,1.95,86.4,46.8,11.1,8.1999999999999993,61.92,0.06,0.6]
[null,null,null,null,null,null,null,null,null,null,null,null,null,null,null,null,null,null,null,null,null,null,null,null,null,null,null,null,null,null,null,null,null,null,null,null,null,null,null,null,null,null,null,null,null,null,null,null,null,null,null,null,null,null,null,null,null,null,null,null,null,null,null,null,null,null,null,null,null,null,null,"MIsır Gluteni,63",1,0.86399999999999999,3.1622400000000006,2.0563199999999999,561.6,null,358.30080000000004,0.51839999999999997,5.1840000000000002,8.1999999999999993,11.1,0,"MIsır Gluteni,63",3.66,2.38,86.4,65,11.1,8.1999999999999993,63.8,0.06,0.6]
[null,null,null,null,null,null,null,null,null,null,null,null,null,null,null,null,null,null,null,null,null,null,null,null,null,null,null,null,null,null,null,null,null,null,null,null,null,null,null,null,null,null,null,null,null,null,null,null,null,null,null,null,null,null,null,null,null,null,null,null,null,null,null,null,null,null,null,null,null,null,null,"Pamuk Tohumu Küspesi, Pres, % 25 HP ",1,0.90500000000000003,2.0814999999999997,1.2669999999999999,249.78000000000003,null,104.90760000000002,1.81,9.0500000000000007,30,40,0,"Pamuk Tohumu Küspesi, Pres, % 25 HP ",2.2999999999999998,1.4,90.5,27.6,40,30,42,0.2,1]
[null,null,null,null,null,null,null,null,null,null,null,null,null,null,null,null,null,null,null,null,null,null,null,null,null,null,null,null,null,null,null,null,null,null,null,null,null,null,null,null,null,null,null,null,null,null,null,null,null,null,null,null,null,null,null,null,null,null,null,null,null,null,null,null,null,null,null,null,null,null,null,"Pamuk Tohumu Küspesi, Pres, % 28 HP ",1,0.90500000000000003,2.1719999999999997,1.3574999999999999,279.64499999999998,null,117.4509,1.81,9.0500000000000007,28,38,0,"Pamuk Tohumu Küspesi, Pres, % 28 HP ",2.4,1.5,90.5,30.9,38,28,42,0.2,1]
[null,null,null,null,null,null,null,null,null,null,null,null,null,null,null,null,null,null,null,null,null,null,null,null,null,null,null,null,null,null,null,null,null,null,null,null,null,null,null,null,null,null,null,null,null,null,null,null,null,null,null,null,null,null,null,null,null,null,null,null,null,null,null,null,null,null,null,null,null,null,null,"Pamuk Tohumu Küspesi, Pres, % 41 HP ",1,0.90500000000000003,2.6244999999999998,1.629,406.34499999999997,null,203.17250000000001,1.5385000000000002,5.43,18,31,0,"Pamuk Tohumu Küspesi, Pres, % 41 HP ",2.9,1.8,90.5,44.9,31,18,50,0.17,0.6]
[null,null,null,null,null,null,null,null,null,null,null,null,null,null,null,null,null,null,null,null,null,null,null,null,null,null,null,null,null,null,null,null,null,null,null,null,null,null,null,null,null,null,null,null,null,null,null,null,null,null,null,null,null,null,null,null,null,null,null,null,null,null,null,null,null,null,null,null,null,null,null,"Pamuk Tohumu Küspesi, Solvent, % 32 HP ",1,0.90500000000000003,2.2625000000000002,1.4480000000000002,320.37,null,128.148,1.81,9.0500000000000007,26,36,0,"Pamuk Tohumu Küspesi, Solvent, % 32 HP ",2.5,1.6,90.5,35.4,36,26,40,0.2,1]
[null,null,null,null,null,null,null,null,null,null,null,null,null,null,null,null,null,null,null,null,null,null,null,null,null,null,null,null,null,null,null,null,null,null,null,null,null,null,null,null,null,null,null,null,null,null,null,null,null,null,null,null,null,null,null,null,null,null,null,null,null,null,null,null,null,null,null,null,null,null,null,"Pamuk Tohumu Küspesi, Solvent, % 36 HP ",1,0.90500000000000003,2.3530000000000002,1.49325,360.18999999999994,null,144.07599999999999,1.81,9.0500000000000007,22,32,0,"Pamuk Tohumu Küspesi, Solvent, % 36 HP ",2.6,1.65,90.5,39.799999999999997,32,22,40,0.2,1]
[null,null,null,null,null,null,null,null,null,null,null,null,null,null,null,null,null,null,null,null,null,null,null,null,null,null,null,null,null,null,null,null,null,null,null,null,null,null,null,null,null,null,null,null,null,null,null,null,null,null,null,null,null,null,null,null,null,null,null,null,null,null,null,null,null,null,null,null,null,null,null,"Pamuk Tohumu Küspesi, Solvent, % 41 HP ",1,0.90500000000000003,2.4435000000000002,1.54755,406.34499999999997,null,162.53799999999998,1.81,10.407499999999999,19.899999999999999,30.8,0,"Pamuk Tohumu Küspesi, Solvent, % 41 HP ",2.7,1.71,90.5,44.9,30.8,19.899999999999999,40,0.2,1.1499999999999999]
[null,null,null,null,null,null,null,null,null,null,null,null,null,null,null,null,null,null,null,null,null,null,null,null,null,null,null,null,null,null,null,null,null,null,null,null,null,null,null,null,null,null,null,null,null,null,null,null,null,null,null,null,null,null,null,null,null,null,null,null,null,null,null,null,null,null,null,null,null,null,null,"Pamuk Tohumu, Lintli",1,0.90100000000000002,2.6219099999999997,1.7479399999999998,211.73499999999999,null,37.477094999999991,1.5317000000000001,5.4059999999999997,40.1,50.3,0,"Pamuk Tohumu, Lintli",2.91,1.94,90.1,23.5,50.3,40.1,17.7,0.17,0.6]
[null,null,null,null,null,null,null,null,null,null,null,null,null,null,null,null,null,null,null,null,null,null,null,null,null,null,null,null,null,null,null,null,null,null,null,null,null,null,null,null,null,null,null,null,null,null,null,null,null,null,null,null,null,null,null,null,null,null,null,null,null,null,null,null,null,null,null,null,null,null,null,"Peynir Altı Suyu, Sığır",1,0.20799999999999999,0.60736000000000001,0.38688,30.368000000000002,null,1.3969279999999999,2.8496000000000001,2.1632000000000002,0,0,0,"Peynir Altı Suyu, Sığır",2.92,1.86,20.8,14.6,0,0,4.5999999999999996,1.37,1.04]
[null,null,null,null,null,null,null,null,null,null,null,null,null,null,null,null,null,null,null,null,null,null,null,null,null,null,null,null,null,null,null,null,null,null,null,null,null,null,null,null,null,null,null,null,null,null,null,null,null,null,null,null,null,null,null,null,null,null,null,null,null,null,null,null,null,null,null,null,null,null,null,"Soya Fasülyesi",1,0.9,3.645,2.4750000000000001,352.80000000000007,null,75.852000000000018,2.88,5.4,13.1,19.5,0,"Soya Fasülyesi",4.05,2.75,90,39.200000000000003,19.5,13.1,21.5,0.32,0.6]
[null,null,null,null,null,null,null,null,null,null,null,null,null,null,null,null,null,null,null,null,null,null,null,null,null,null,null,null,null,null,null,null,null,null,null,null,null,null,null,null,null,null,null,null,null,null,null,null,null,null,null,null,null,null,null,null,null,null,null,null,null,null,null,null,null,null,null,null,null,null,null,"Soya Küspesi , Solvent, %44",1,0.89100000000000001,2.6729999999999996,1.6928999999999998,436.59,null,106.09136999999998,3.5640000000000001,6.3260999999999994,15,20,0,"Soya Küspesi , Solvent, %44",3,1.9,89.1,49,20,15,24.3,0.4,0.71]
[null,null,null,null,null,null,null,null,null,null,null,null,null,null,null,null,null,null,null,null,null,null,null,null,null,null,null,null,null,null,null,null,null,null,null,null,null,null,null,null,null,null,null,null,null,null,null,null,null,null,null,null,null,null,null,null,null,null,null,null,null,null,null,null,null,null,null,null,null,null,null,"Soya Küspesi , Solvent, %46",1,0.89100000000000001,2.6729999999999996,1.6928999999999998,436.59,null,106.09136999999998,3.5640000000000001,6.3260999999999994,15,20,0,"Soya Küspesi , Solvent, %46",3,1.9,89.1,49,20,15,24.3,0.4,0.71]
[null,null,null,null,null,null,null,null,null,null,null,null,null,null,null,null,null,null,null,null,null,null,null,null,null,null,null,null,null,null,null,null,null,null,null,null,null,null,null,null,null,null,null,null,null,null,null,null,null,null,null,null,null,null,null,null,null,null,null,null,null,null,null,null,null,null,null,null,null,null,null,"Soya Küspesi , Solvent, %48",1,0.89100000000000001,2.9492099999999999,1.8978299999999999,479.35799999999989,null,147.64226399999998,3.1184999999999996,6.2369999999999992,10,14.9,0,"Soya Küspesi , Solvent, %48",3.31,2.13,89.1,53.8,14.9,10,30.8,0.35,0.7]
[null,null,null,null,null,null,null,null,null,null,null,null,null,null,null,null,null,null,null,null,null,null,null,null,null,null,null,null,null,null,null,null,null,null,null,null,null,null,null,null,null,null,null,null,null,null,null,null,null,null,null,null,null,null,null,null,null,null,null,null,null,null,null,null,null,null,null,null,null,null,null,"Soya Küspesi , Solvent, %51",1,0.89500000000000002,3.0519499999999997,1.9779499999999999,510.15,null,157.12619999999998,3.1324999999999998,6.2649999999999997,6.2,9.8000000000000007,0,"Soya Küspesi , Solvent, %51",3.41,2.21,89.5,57,9.8000000000000007,6.2,30.8,0.35,0.7]
[null,null,null,null,null,null,null,null,null,null,null,null,null,null,null,null,null,null,null,null,null,null,null,null,null,null,null,null,null,null,null,null,null,null,null,null,null,null,null,null,null,null,null,null,null,null,null,null,null,null,null,null,null,null,null,null,null,null,null,null,null,null,null,null,null,null,null,null,null,null,null,"Soya Küspesi, Ekspeller, %45 HP",1,0.89600000000000002,3.2345599999999997,2.1324799999999997,448,null,259.83999999999997,3.2256,5.9135999999999997,10.4,21.7,0,"Soya Küspesi, Ekspeller, %45 HP",3.61,2.38,89.6,50,21.7,10.4,58,0.36,0.66]
[null,null,null,null,null,null,null,null,null,null,null,null,null,null,null,null,null,null,null,null,null,null,null,null,null,null,null,null,null,null,null,null,null,null,null,null,null,null,null,null,null,null,null,null,null,null,null,null,null,null,null,null,null,null,null,null,null,null,null,null,null,null,null,null,null,null,null,null,null,null,null,"Tam Yağlı Soya",1,0.91,3.64,2.4752000000000001,391.3,null,113.86830000000002,2.3660000000000001,5.8239999999999998,14.7,22.1,0,"Tam Yağlı Soya",4,2.72,91,43,22.1,14.7,29.1,0.26,0.64]
[null,null,null,null,null,null,null,null,null,null,null,null,null,null,null,null,null,null,null,null,null,null,null,null,null,null,null,null,null,null,null,null,null,null,null,null,null,null,null,null,null,null,null,null,null,null,null,null,null,null,null,null,null,null,null,null,null,null,null,null,null,null,null,null,null,null,null,null,null,null,null,"Tüy Unu Hidrolize",1,0.93300000000000005,3.0975599999999996,2.0059499999999999,858.36,null,533.04156,3.0789,4.665,0,0,0,"Tüy Unu Hidrolize",3.32,2.15,93.3,92,0,0,62.1,0.33,0.5]
[null,null,null,null,null,null,null,null,null,null,null,null,null,null,null,null,null,null,null,null,null,null,null,null,null,null,null,null,null,null,null,null,null,null,null,null,null,null,null,null,null,null,null,null,null,null,null,null,null,null,null,null,null,null,null,null,null,null,null,null,null,null,null,null,null,null,null,null,null,null,null,"Tüy Unu Hidrolize (+Biraz İç Organ )",1,0.91500000000000004,3.2757000000000001,2.1593999999999998,777.75,null,482.98275000000001,12.444000000000001,7.0454999999999997,0,0,0,"Tüy Unu Hidrolize (+Biraz İç Organ )",3.58,2.36,91.5,85,0,0,62.1,1.36,0.77]
[null,null,null,null,null,null,null,null,null,null,null,null,null,null,null,null,null,null,null,null,null,null,null,null,null,null,null,null,null,null,null,null,null,null,null,null,null,null,null,null,null,null,null,null,null,null,null,null,null,null,null,null,null,null,null,null,null,null,null,null,null,null,null,null,null,null,null,null,null,null,null,"Yer Fıstığı Küspesi, Solvent",1,0.92300000000000004,2.8797600000000001,1.8459999999999999,478.11399999999992,null,43.986487999999987,1.8460000000000001,5.9072000000000005,13.5,21.4,0,"Yer Fıstığı Küspesi, Solvent",3.12,2,92.3,51.8,21.4,13.5,9.1999999999999993,0.2,0.64]
[null,null,null,null,null,null,null,null,null,null,null,null,null,null,null,null,null,null,null,null,null,null,null,null,null,null,null,null,null,null,null,null,null,null,null,null,null,null,null,null,null,null,null,null,null,null,null,null,null,null,null,null,null,null,null,null,null,null,null,null,null,null,null,null,null,null,null,null,null,null,null,"Yonca Unu,% 17 HP",1,0.90300000000000002,1.7698799999999999,1.07457,173.376,null,54.786816000000009,13.274099999999999,2.5284000000000004,32.799999999999997,41.6,0,"Yonca Unu,% 17 HP",1.96,1.19,90.3,19.2,41.6,32.799999999999997,31.6,1.47,0.28000000000000003]
[null,null,null,null,null,null,null,null,null,null,null,null,null,null,null,null,null,null,null,null,null,null,null,null,null,null,null,null,null,null,null,null,null,null,null,null,null,null,null,null,null,null,null,null,null,null,null,null,null,null,null,null,null,null,null,null,null,null,null,null,null,null,null,null,null,null,null,null,null,null,null,"Arpa , Ezme",1,0.91,2.6571999999999996,1.6926000000000001,112.84,null,20.424040000000002,0.54600000000000004,3.5490000000000004,7.2,20.8,0,"Arpa , Ezme",2.92,1.86,91,12.4,20.8,7.2,18.100000000000001,0.06,0.39]
[null,null,null,null,null,null,null,null,null,null,null,null,null,null,null,null,null,null,null,null,null,null,null,null,null,null,null,null,null,null,null,null,null,null,null,null,null,null,null,null,null,null,null,null,null,null,null,null,null,null,null,null,null,null,null,null,null,null,null,null,null,null,null,null,null,null,null,null,null,null,null,"Buğday, Ezme",1,0.89400000000000002,2.7714000000000003,1.7790600000000001,126.94800000000001,null,24.881808000000007,0.44700000000000006,3.8441999999999998,4.4000000000000004,13.4,0,"Buğday, Ezme",3.1,1.99,89.4,14.2,13.4,4.4000000000000004,19.600000000000001,0.05,0.43]
[null,null,null,null,null,null,null,null,null,null,null,null,null,null,null,null,null,null,null,null,null,null,null,null,null,null,null,null,null,null,null,null,null,null,null,null,null,null,null,null,null,null,null,null,null,null,null,null,null,null,null,null,null,null,null,null,null,null,null,null,null,null,null,null,null,null,null,null,null,null,null,"Havuç",1,0.11,0.36299999999999999,0.2079,11,null,7.282,0.44000000000000006,0.38499999999999995,8,9,0,"Havuç",3.3,1.89,11,10,9,8,66.2,0.4,0.35]
[null,null,null,null,null,null,null,null,null,null,null,null,null,null,null,null,null,null,null,null,null,null,null,null,null,null,null,null,null,null,null,null,null,null,null,null,null,null,null,null,null,null,null,null,null,null,null,null,null,null,null,null,null,null,null,null,null,null,null,null,null,null,null,null,null,null,null,null,null,null,null,"Melas, Şeker Kamışı",1,0.74299999999999999,2.0655399999999999,1.30768,43.094000000000001,null,6.3348180000000003,7.43,0.74299999999999999,0.2,0.4,0,"Melas, Şeker Kamışı",2.78,1.76,74.3,5.8,0.4,0.2,14.7,1,0.1]
[null,null,null,null,null,null,null,null,null,null,null,null,null,null,null,null,null,null,null,null,null,null,null,null,null,null,null,null,null,null,null,null,null,null,null,null,null,null,null,null,null,null,null,null,null,null,null,null,null,null,null,null,null,null,null,null,null,null,null,null,null,null,null,null,null,null,null,null,null,null,null,"Melas, Şeker Pancarı",1,0.77900000000000003,2.2435200000000002,1.4333600000000002,66.215000000000003,null,9.7336050000000007,1.1685000000000001,0.23370000000000002,0.1,0.1,0,"Melas, Şeker Pancarı",2.88,1.84,77.900000000000006,8.5,0.1,0.1,14.7,0.15,0.03]
[null,null,null,null,null,null,null,null,null,null,null,null,null,null,null,null,null,null,null,null,null,null,null,null,null,null,null,null,null,null,null,null,null,null,null,null,null,null,null,null,null,null,null,null,null,null,null,null,null,null,null,null,null,null,null,null,null,null,null,null,null,null,null,null,null,null,null,null,null,null,null,"Mısır Grizi",1,0.88500000000000001,2.6019000000000001,1.6637999999999999,105.31500000000001,null,25.591545000000007,0.26549999999999996,5.7524999999999995,6.2,21.1,0,"Mısır Grizi",2.94,1.88,88.5,11.9,21.1,6.2,24.3,0.03,0.65]
[null,null,null,null,null,null,null,null,null,null,null,null,null,null,null,null,null,null,null,null,null,null,null,null,null,null,null,null,null,null,null,null,null,null,null,null,null,null,null,null,null,null,null,null,null,null,null,null,null,null,null,null,null,null,null,null,null,null,null,null,null,null,null,null,null,null,null,null,null,null,null,"Mısır Koçanı(Taneli),Öğütülmüş",1,0.89200000000000002,2.59572,1.6591200000000002,76.712000000000003,null,25.161536000000002,0.53520000000000001,2.5867999999999998,8,21.5,0,"Mısır Koçanı(Taneli),Öğütülmüş",2.91,1.86,89.2,8.6,21.5,8,32.799999999999997,0.06,0.28999999999999998]
[null,null,null,null,null,null,null,null,null,null,null,null,null,null,null,null,null,null,null,null,null,null,null,null,null,null,null,null,null,null,null,null,null,null,null,null,null,null,null,null,null,null,null,null,null,null,null,null,null,null,null,null,null,null,null,null,null,null,null,null,null,null,null,null,null,null,null,null,null,null,null,"Mısır Koçanı(Taneli),Öğütülmüş, Nemi Yüksek",1,0.67100000000000004,2.0331299999999994,1.3017399999999997,56.363999999999997,null,16.683744000000001,0.33550000000000002,1.8788,9.4,21,0,"Mısır Koçanı(Taneli),Öğütülmüş, Nemi Yüksek",3.03,1.94,67.099999999999994,8.4,21,9.4,29.6,0.05,0.28000000000000003]
[null,null,null,null,null,null,null,null,null,null,null,null,null,null,null,null,null,null,null,null,null,null,null,null,null,null,null,null,null,null,null,null,null,null,null,null,null,null,null,null,null,null,null,null,null,null,null,null,null,null,null,null,null,null,null,null,null,null,null,null,null,null,null,null,null,null,null,null,null,null,null,"Mısır, Ezilmiş, Nemi Yüksek",1,0.71799999999999997,2.2329799999999995,1.4431799999999999,66.055999999999997,null,21.732423999999995,0.21539999999999998,2.1539999999999999,3.6,10.3,0,"Mısır, Ezilmiş, Nemi Yüksek",3.11,2.0099999999999998,71.8,9.1999999999999993,10.3,3.6,32.9,0.03,0.3]
[null,null,null,null,null,null,null,null,null,null,null,null,null,null,null,null,null,null,null,null,null,null,null,null,null,null,null,null,null,null,null,null,null,null,null,null,null,null,null,null,null,null,null,null,null,null,null,null,null,null,null,null,null,null,null,null,null,null,null,null,null,null,null,null,null,null,null,null,null,null,null,"Mısır, Kırılmış, Kuru",1,0.88100000000000001,2.6253799999999994,1.6827099999999999,82.813999999999993,null,30.641179999999999,0.35239999999999999,2.6429999999999998,3.4,9.5,0,"Mısır, Kırılmış, Kuru",2.98,1.91,88.1,9.4,9.5,3.4,37,0.04,0.3]
[null,null,null,null,null,null,null,null,null,null,null,null,null,null,null,null,null,null,null,null,null,null,null,null,null,null,null,null,null,null,null,null,null,null,null,null,null,null,null,null,null,null,null,null,null,null,null,null,null,null,null,null,null,null,null,null,null,null,null,null,null,null,null,null,null,null,null,null,null,null,null,"Mısır, Öğütülmüş , Kuru",1,0.88100000000000001,2.7487200000000001,1.7708099999999996,82.813999999999993,null,30.641179999999999,0.35239999999999999,2.6429999999999998,3.4,9.5,0,"Mısır, Öğütülmüş , Kuru",3.12,2.0099999999999998,88.1,9.4,9.5,3.4,37,0.04,0.3]
[null,null,null,null,null,null,null,null,null,null,null,null,null,null,null,null,null,null,null,null,null,null,null,null,null,null,null,null,null,null,null,null,null,null,null,null,null,null,null,null,null,null,null,null,null,null,null,null,null,null,null,null,null,null,null,null,null,null,null,null,null,null,null,null,null,null,null,null,null,null,null,"Mısır, Öğütülmüş , Nemi Yüksek",1,0.71799999999999997,2.31914,1.5006199999999998,66.055999999999997,null,21.732423999999995,0.21539999999999998,2.1539999999999999,3.6,10.3,0,"Mısır, Öğütülmüş , Nemi Yüksek",3.23,2.09,71.8,9.1999999999999993,10.3,3.6,32.9,0.03,0.3]
[null,null,null,null,null,null,null,null,null,null,null,null,null,null,null,null,null,null,null,null,null,null,null,null,null,null,null,null,null,null,null,null,null,null,null,null,null,null,null,null,null,null,null,null,null,null,null,null,null,null,null,null,null,null,null,null,null,null,null,null,null,null,null,null,null,null,null,null,null,null,null,"Mısır, Pul Haline Gelmiş",1,0.88100000000000001,2.8544400000000003,1.8412899999999996,82.813999999999993,null,52.752518000000002,0.35239999999999999,2.6429999999999998,3.4,9.5,0,"Mısır, Pul Haline Gelmiş",3.24,2.09,88.1,9.4,9.5,3.4,63.7,0.04,0.3]
[null,null,null,null,null,null,null,null,null,null,null,null,null,null,null,null,null,null,null,null,null,null,null,null,null,null,null,null,null,null,null,null,null,null,null,null,null,null,null,null,null,null,null,null,null,null,null,null,null,null,null,null,null,null,null,null,null,null,null,null,null,null,null,null,null,null,null,null,null,null,null,"Patates",1,0.24,0.75840000000000007,0.43680000000000002,22.32,null,14.775840000000001,9.6000000000000002E-2,0.57599999999999996,1.4,9,0,"Patates",3.16,1.82,24,9.3000000000000007,9,1.4,66.2,0.04,0.24]
[null,null,null,null,null,null,null,null,null,null,null,null,null,null,null,null,null,null,null,null,null,null,null,null,null,null,null,null,null,null,null,null,null,null,null,null,null,null,null,null,null,null,null,null,null,null,null,null,null,null,null,null,null,null,null,null,null,null,null,null,null,null,null,null,null,null,null,null,null,null,null,"Sorgum, Kuru Ezme",1,0.88600000000000001,2.5073799999999999,1.5948,102.776,null,36.999359999999996,0.62019999999999997,3.1009999999999995,5.9,10.9,0,"Sorgum, Kuru Ezme",2.83,1.8,88.6,11.6,10.9,5.9,36,7.0000000000000007E-2,0.35]
[null,null,null,null,null,null,null,null,null,null,null,null,null,null,null,null,null,null,null,null,null,null,null,null,null,null,null,null,null,null,null,null,null,null,null,null,null,null,null,null,null,null,null,null,null,null,null,null,null,null,null,null,null,null,null,null,null,null,null,null,null,null,null,null,null,null,null,null,null,null,null,"Sorgum, Pul Haline Getirilmiş",1,0.88600000000000001,2.8086199999999995,1.8074399999999999,102.776,null,60.226736000000002,{"$f":"CJ131*CO131/10","v":0.62019999999999997},3.1009999999999995,5.9,10.9,0,"Sorgum, Pul Haline Getirilmiş",3.17,2.04,88.6,11.6,10.9,5.9,58.6,7.0000000000000007E-2,0.35]
[null,null,null,null,null,null,null,null,null,null,null,null,null,null,null,null,null,null,null,null,null,null,null,null,null,null,null,null,null,null,null,null,null,null,null,null,null,null,null,null,null,null,null,null,null,null,null,null,null,null,null,null,null,null,null,null,null,null,null,null,null,null,null,null,null,null,null,null,null,null,null,{"$f":"CG132","v":"Şeker Pancarı "},1,{"$f":"CJ132*10/1000","v":0.185},{"$f":"CH132*CJ132/100","v":0.55500000000000005},{"$f":"CI132*CJ132/100","v":0.32374999999999998},{"$f":"CK132*CJ132/10","v":13.875},null,{"$f":"BY132*CN132/100","v":9.1852500000000017},1.073,{"$f":"CP132*CJ132/10","v":0.29599999999999999},{"$f":"CM132","v":1.4},{"$f":"CL132","v":9},{"$f":"CQ132","v":0},"Şeker Pancarı ",3,1.75,18.5,7.5,9,1.4,66.2,0.57999999999999996,0.16]
[null,null,null,null,null,null,null,null,null,null,null,null,null,null,null,null,null,null,null,null,null,null,null,null,null,null,null,null,null,null,null,null,null,null,null,null,null,null,null,null,null,null,null,null,null,null,null,null,null,null,null,null,null,null,null,null,null,null,null,null,null,null,null,null,null,null,null,null,null,null,null,"Tritikale",{"$f":"BU132","v":1},0.89,2.8034999999999997,1.5752999999999999,118.37,null,23.200520000000001,0.35599999999999998,3.0260000000000002,5.12,17.3,0,"Tritikale",3.15,1.77,89,13.3,17.3,5.12,19.600000000000001,0.04,0.34]
[null,null,null,null,null,null,null,null,null,null,null,null,null,null,null,null,null,null,null,null,null,null,null,null,null,null,null,null,null,null,null,null,null,null,null,null,null,null,null,null,null,null,null,null,null,null,null,null,null,null,null,null,null,null,null,null,null,null,null,null,null,null,null,null,null,null,null,null,null,null,null,"Yağ, Bitkisel",1,1,7.07,5.65,0,null,0,0,0,0,0,0,"Yağ, Bitkisel",7.07,5.65,100,0,0,0,0,0,0]
[null,null,null,null,null,null,null,null,null,null,null,null,null,null,null,null,null,null,null,null,null,null,null,null,null,null,null,null,null,null,null,null,null,null,null,null,null,null,null,null,null,null,null,null,null,null,null,null,null,null,null,null,null,null,null,null,null,null,null,null,null,null,null,null,null,null,null,null,null,null,null,"Yağ, Ca Sabunları",1,0.95299999999999996,5.9753099999999995,4.7840599999999993,0,null,0,0,0,0,0,0,"Yağ, Ca Sabunları",6.27,5.0199999999999996,95.3,0,0,0,0,0,0]
[null,null,null,null,null,null,null,null,null,null,null,null,null,null,null,null,null,null,null,null,null,null,null,null,null,null,null,null,null,null,null,null,null,null,null,null,null,null,null,null,null,null,null,null,null,null,null,null,null,null,null,null,null,null,null,null,null,null,null,null,null,null,null,null,null,null,null,null,null,null,null,"Yağ, Hidrolize(Kuyruk Yağı Yağ Asitleri)",1,0.998,6.7464799999999991,5.3991800000000003,0,null,0,0,0,0,0,0,"Yağ, Hidrolize(Kuyruk Yağı Yağ Asitleri)",6.76,5.41,99.8,0,0,0,0,0,0]
[null,null,null,null,null,null,null,null,null,null,null,null,null,null,null,null,null,null,null,null,null,null,null,null,null,null,null,null,null,null,null,null,null,null,null,null,null,null,null,null,null,null,null,null,null,null,null,null,null,null,null,null,null,null,null,null,null,null,null,null,null,null,null,null,null,null,null,null,null,null,null,"YAĞ,Kısmi Hidrojenize Kuyruk Yağı",1,1,3.72,2.97,0,null,0,0,0,0,0,0,"YAĞ,Kısmi Hidrojenize Kuyruk Yağı",3.72,2.97,100,0,0,0,0,0,0]
[null,null,null,null,null,null,null,null,null,null,null,null,null,null,null,null,null,null,null,null,null,null,null,null,null,null,null,null,null,null,null,null,null,null,null,null,null,null,null,null,null,null,null,null,null,null,null,null,null,null,null,null,null,null,null,null,null,null,null,null,null,null,null,null,null,null,null,null,null,null,null,"Yağ, Kuyruk",1,0.998,5.6486800000000006,4.5209399999999995,0,null,0,0,0,0,0,0,"Yağ, Kuyruk",5.66,4.53,99.8,0,0,0,0,0,0]
[null,null,null,null,null,null,null,null,null,null,null,null,null,null,null,null,null,null,null,null,null,null,null,null,null,null,null,null,null,null,null,null,null,null,null,null,null,null,null,null,null,null,null,null,null,null,null,null,null,null,null,null,null,null,null,null,null,null,null,null,null,null,null,null,null,null,null,null,null,null,null,"Yem Şalgamı",1,0.09,0.27900000000000003,0.18,10.8,null,6.0480000000000009,0.63,0.30599999999999999,34,44,0,"Yem Şalgamı",3.1,2,9,12,44,34,56,0.7,0.34]
[null,null,null,null,null,null,null,null,null,null,null,null,null,null,null,null,null,null,null,null,null,null,null,null,null,null,null,null,null,null,null,null,null,null,null,null,null,null,null,null,null,null,null,null,null,null,null,null,null,null,null,null,null,null,null,null,null,null,null,null,null,null,null,null,null,null,null,null,null,null,null,"Yulaf, Ezme",1,0.9,2.5019999999999998,1.5930000000000002,118.8,null,13.780799999999999,0.99,3.6,14.6,30,0,"Yulaf, Ezme",2.78,1.77,90,13.2,30,14.6,11.6,0.11,0.4]
[null,null,null,null,null,null,null,null,null,null,null,null,null,null,null,null,null,null,null,null,null,null,null,null,null,null,null,null,null,null,null,null,null,null,null,null,null,null,null,null,null,null,null,null,null,null,null,null,null,null,null,null,null,null,null,null,null,null,null,null,null,null,null,null,null,null,null,null,null,null,null,"Arpa, Malt Cili",1,0.90500000000000003,2.1538999999999997,1.3484499999999999,181.90500000000003,null,38.563860000000005,2.1719999999999997,4.6154999999999999,21.8,47,0,"Arpa, Malt Cili",2.38,1.49,90.5,20.100000000000001,47,21.8,21.2,0.24,0.51]
[null,null,null,null,null,null,null,null,null,null,null,null,null,null,null,null,null,null,null,null,null,null,null,null,null,null,null,null,null,null,null,null,null,null,null,null,null,null,null,null,null,null,null,null,null,null,null,null,null,null,null,null,null,null,null,null,null,null,null,null,null,null,null,null,null,null,null,null,null,null,null,"Badem Kabukları",1,0.86899999999999999,1.6424100000000001,0.99065999999999999,56.484999999999999,null,28.581410000000002,2.4332000000000003,1.1297000000000001,28.7,36.799999999999997,0,"Badem Kabukları",1.89,1.1399999999999999,86.9,6.5,36.799999999999997,28.7,50.6,0.28000000000000003,0.13]
[null,null,null,null,null,null,null,null,null,null,null,null,null,null,null,null,null,null,null,null,null,null,null,null,null,null,null,null,null,null,null,null,null,null,null,null,null,null,null,null,null,null,null,null,null,null,null,null,null,null,null,null,null,null,null,null,null,null,null,null,null,null,null,null,null,null,null,null,null,null,null,"Bira Posası, Kuru",1,0.90700000000000003,2.4398300000000002,1.5509700000000002,264.84399999999999,null,125.8009,2.7210000000000001,6.0769000000000002,22.2,47.4,0,"Bira Posası, Kuru",2.69,1.71,90.7,29.2,47.4,22.2,47.5,0.3,0.67]
[null,null,null,null,null,null,null,null,null,null,null,null,null,null,null,null,null,null,null,null,null,null,null,null,null,null,null,null,null,null,null,null,null,null,null,null,null,null,null,null,null,null,null,null,null,null,null,null,null,null,null,null,null,null,null,null,null,null,null,null,null,null,null,null,null,null,null,null,null,null,null,"Bira Posası, Yaş",1,0.218,0.58642000000000005,0.37278,61.911999999999999,null,18.202127999999998,0.76300000000000001,1.2862,23.1,47.1,0,"Bira Posası, Yaş",2.69,1.71,21.8,28.4,47.1,23.1,29.4,0.35,0.59]
[null,null,null,null,null,null,null,null,null,null,null,null,null,null,null,null,null,null,null,null,null,null,null,null,null,null,null,null,null,null,null,null,null,null,null,null,null,null,null,null,null,null,null,null,null,null,null,null,null,null,null,null,null,null,null,null,null,null,null,null,null,null,null,null,null,null,null,null,null,null,null,"Bon Kalite",1,0.88,3.0536000000000003,1.6895999999999998,154.88000000000002,null,27.413760000000003,1.4079999999999999,8.9760000000000009,6,20,0,"Bon Kalite",3.47,1.92,88,17.600000000000001,20,6,17.7,0.16,1.02]
[null,null,null,null,null,null,null,null,null,null,null,null,null,null,null,null,null,null,null,null,null,null,null,null,null,null,null,null,null,null,null,null,null,null,null,null,null,null,null,null,null,null,null,null,null,null,null,null,null,null,null,null,null,null,null,null,null,null,null,null,null,null,null,null,null,null,null,null,null,null,null,"Buğday, DDGS, APAK",1,0.31980000000000003,0.88904399999999995,0.57564000000000004,78.031199999999998,null,30.042012,0.70356000000000007,2.6543399999999999,24.72,47.78,0,"Buğday, DDGS, APAK",2.78,1.8,31.98,24.4,47.78,24.72,38.5,0.22,0.83]
[null,null,null,null,null,null,null,null,null,null,null,null,null,null,null,null,null,null,null,null,null,null,null,null,null,null,null,null,null,null,null,null,null,null,null,null,null,null,null,null,null,null,null,null,null,null,null,null,null,null,null,null,null,null,null,null,null,null,null,null,null,null,null,null,null,null,null,null,null,null,null,"Buğday, DDGS, Yas",1,0.31539999999999996,0.9556619999999999,0.61818399999999996,90.109780000000001,null,38.936435938000002,0.69387999999999994,2.6178199999999996,19.43,54.04,0,"Buğday, DDGS, Yas",3.03,1.96,31.54,28.57,54.04,19.43,43.21,0.22,0.83]
[null,null,null,null,null,null,null,null,null,null,null,null,null,null,null,null,null,null,null,null,null,null,null,null,null,null,null,null,null,null,null,null,null,null,null,null,null,null,null,null,null,null,null,null,null,null,null,null,null,null,null,null,null,null,null,null,null,null,null,null,null,null,null,null,null,null,null,null,null,null,null,"Buğday DDGS + % 20 SPP, Ambalajlı",1,0.28832000000000002,0.85804032000000008,0.54146496,72.299123200000011,null,34.564764819456002,1.0091199999999998,1.9721088000000002,20.164000000000001,52.247999999999998,0,"Buğday DDGS + % 20 SPP, Ambalajlı",2.976,1.8779999999999999,28.832000000000001,25.076000000000001,52.247999999999998,20.164000000000001,47.808,0.35,0.68400000000000005]
[null,null,null,null,null,null,null,null,null,null,null,null,null,null,null,null,null,null,null,null,null,null,null,null,null,null,null,null,null,null,null,null,null,null,null,null,null,null,null,null,null,null,null,null,null,null,null,null,null,null,null,null,null,null,null,null,null,null,null,null,null,null,null,null,null,null,null,null,null,null,null,"Buğday Kepeği",1,0.89100000000000001,2.2720499999999997,1.43451,154.143,null,22.504877999999998,1.1583000000000001,10.5138,15.5,42.5,0,"Buğday Kepeği",2.5499999999999998,1.61,89.1,17.3,42.5,15.5,14.6,0.13,1.18]
[null,null,null,null,null,null,null,null,null,null,null,null,null,null,null,null,null,null,null,null,null,null,null,null,null,null,null,null,null,null,null,null,null,null,null,null,null,null,null,null,null,null,null,null,null,null,null,null,null,null,null,null,null,null,null,null,null,null,null,null,null,null,null,null,null,null,null,null,null,null,null,"Buğday Kepeği, Razmol",1,0.89500000000000002,2.3628,1.49465,165.57499999999999,null,29.306774999999998,1.4319999999999999,9.1290000000000013,12.1,36.700000000000003,0,"Buğday Kepeği, Razmol",2.64,1.67,89.5,18.5,36.700000000000003,12.1,17.7,0.16,1.02]
[null,null,null,null,null,null,null,null,null,null,null,null,null,null,null,null,null,null,null,null,null,null,null,null,null,null,null,null,null,null,null,null,null,null,null,null,null,null,null,null,null,null,null,null,null,null,null,null,null,null,null,null,null,null,null,null,null,null,null,null,null,null,null,null,null,null,null,null,null,null,null,"Çikolata Yan Ürünleri",1,0.95199999999999996,3.5890399999999998,2.4371200000000002,113.28800000000001,null,16.653336000000003,2.0943999999999998,2.8559999999999999,15.7,23.8,0,"Çikolata Yan Ürünleri",3.77,2.56,95.2,11.9,23.8,15.7,14.7,0.22,0.3]
[null,null,null,null,null,null,null,null,null,null,null,null,null,null,null,null,null,null,null,null,null,null,null,null,null,null,null,null,null,null,null,null,null,null,null,null,null,null,null,null,null,null,null,null,null,null,null,null,null,null,null,null,null,null,null,null,null,null,null,null,null,null,null,null,null,null,null,null,null,null,null,"Domates Kurusu",1,0.86180000000000012,1.98214,1.2927000000000002,119.53166000000002,null,28.926661720000002,1.8959600000000001,4.0504600000000002,35,40,0,"Domates Kurusu",2.2999999999999998,1.5,86.18,13.87,40,35,24.2,0.22,0.47]
[null,null,null,null,null,null,null,null,null,null,null,null,null,null,null,null,null,null,null,null,null,null,null,null,null,null,null,null,null,null,null,null,null,null,null,null,null,null,null,null,null,null,null,null,null,null,null,null,null,null,null,null,null,null,null,null,null,null,null,null,null,null,null,null,null,null,null,null,null,null,null,"Domates Posası, Yaş",1,0.247,0.58538999999999997,0.37544,47.670999999999999,null,11.536381999999998,0.54339999999999999,1.1608999999999998,47.6,60,0,"Domates Posası, Yaş",2.37,1.52,24.7,19.3,60,47.6,24.2,0.22,0.47]
[null,null,null,null,null,null,null,null,null,null,null,null,null,null,null,null,null,null,null,null,null,null,null,null,null,null,null,null,null,null,null,null,null,null,null,null,null,null,null,null,null,null,null,null,null,null,null,null,null,null,null,null,null,null,null,null,null,null,null,null,null,null,null,null,null,null,null,null,null,null,null,"Elma Posası, Yaş",1,0.22,0.54780000000000006,0.27500000000000002,11.88,null,2.8749600000000002,0.50600000000000001,0.24199999999999999,28,48,0,"Elma Posası, Yaş",2.4900000000000002,1.25,22,5.4,48,28,24.2,0.23,0.11]
[null,null,null,null,null,null,null,null,null,null,null,null,null,null,null,null,null,null,null,null,null,null,null,null,null,null,null,null,null,null,null,null,null,null,null,null,null,null,null,null,null,null,null,null,null,null,null,null,null,null,null,null,null,null,null,null,null,null,null,null,null,null,null,null,null,null,null,null,null,null,null,"Fırıncılık Yan Ürünleri, Bisküvi Artığı",1,0.90100000000000002,3.0633999999999997,2.01824,87.396999999999991,null,15.469268999999997,2.0722999999999998,2.6128999999999998,6.5,12.7,0,"Fırıncılık Yan Ürünleri, Bisküvi Artığı",3.4,2.2400000000000002,90.1,9.6999999999999993,12.7,6.5,17.7,0.23,0.28999999999999998]
[null,null,null,null,null,null,null,null,null,null,null,null,null,null,null,null,null,null,null,null,null,null,null,null,null,null,null,null,null,null,null,null,null,null,null,null,null,null,null,null,null,null,null,null,null,null,null,null,null,null,null,null,null,null,null,null,null,null,null,null,null,null,null,null,null,null,null,null,null,null,null,"Fırıncılık Yan Ürünleri, Ekmak Artığı",1,0.68300000000000005,2.2197499999999999,1.4274699999999998,102.45,null,18.133649999999999,0.95620000000000016,1.3660000000000001,3.1,8.9,0,"Fırıncılık Yan Ürünleri, Ekmak Artığı",3.25,2.09,68.3,15,8.9,3.1,17.7,0.14000000000000001,0.2]
[null,null,null,null,null,null,null,null,null,null,null,null,null,null,null,null,null,null,null,null,null,null,null,null,null,null,null,null,null,null,null,null,null,null,null,null,null,null,null,null,null,null,null,null,null,null,null,null,null,null,null,null,null,null,null,null,null,null,null,null,null,null,null,null,null,null,null,null,null,null,null,"Fırıncılık Yan Ürünleri, Tahıl Artığı",1,0.88500000000000001,2.7169499999999998,1.7434499999999999,80.534999999999997,null,11.758109999999999,1.5045000000000002,2.5665,3.9,10,0,"Fırıncılık Yan Ürünleri, Tahıl Artığı",3.07,1.97,88.5,9.1,10,3.9,14.6,0.17,0.28999999999999998]
[null,null,null,null,null,null,null,null,null,null,null,null,null,null,null,null,null,null,null,null,null,null,null,null,null,null,null,null,null,null,null,null,null,null,null,null,null,null,null,null,null,null,null,null,null,null,null,null,null,null,null,null,null,null,null,null,null,null,null,null,null,null,null,null,null,null,null,null,null,null,null,"Fırıncılık Yan Ürünleri,Un Artığı",1,0.84699999999999998,2.8543900000000004,1.8718700000000001,105.875,null,18.739874999999998,1.6940000000000002,3.0491999999999999,6.5,13.9,0,"Fırıncılık Yan Ürünleri,Un Artığı",3.37,2.21,84.7,12.5,13.9,6.5,17.7,0.2,0.36]
[null,null,null,null,null,null,null,null,null,null,null,null,null,null,null,null,null,null,null,null,null,null,null,null,null,null,null,null,null,null,null,null,null,null,null,null,null,null,null,null,null,null,null,null,null,null,null,null,null,null,null,null,null,null,null,null,null,null,null,null,null,null,null,null,null,null,null,null,null,null,null,"Havuç Posası , Yaş",1,0.14000000000000001,0.34860000000000002,0.1764,8.4,null,5.5608000000000004,0.56000000000000005,0.48999999999999994,23,40,0,"Havuç Posası , Yaş",2.4900000000000002,1.26,14,6,40,23,66.2,0.4,0.35]
[null,null,null,null,null,null,null,null,null,null,null,null,null,null,null,null,null,null,null,null,null,null,null,null,null,null,null,null,null,null,null,null,null,null,null,null,null,null,null,null,null,null,null,null,null,null,null,null,null,null,null,null,null,null,null,null,null,null,null,null,null,null,null,null,null,null,null,null,null,null,null,"İncir Kurusu",1,0.85180000000000011,1.925068,1.3628800000000001,38.07546,null,7.6150919999999998,0,0,8.02,8.9,0,"İncir Kurusu",2.2599999999999998,1.6,85.18,4.47,8.9,8.02,20,0,0]
[null,null,null,null,null,null,null,null,null,null,null,null,null,null,null,null,null,null,null,null,null,null,null,null,null,null,null,null,null,null,null,null,null,null,null,null,null,null,null,null,null,null,null,null,null,null,null,null,null,null,null,null,null,null,null,null,null,null,null,null,null,null,null,null,null,null,null,null,null,null,null,"Mısır DDGS, Kuru",1,0.90200000000000002,2.73306,1.7769400000000002,267.89400000000001,null,113.05126800000002,1.9844000000000002,7.4866000000000001,19.7,38.799999999999997,0,"Mısır DDGS, Kuru",3.03,1.97,90.2,29.7,38.799999999999997,19.7,42.2,0.22,0.83]
[null,null,null,null,null,null,null,null,null,null,null,null,null,null,null,null,null,null,null,null,null,null,null,null,null,null,null,null,null,null,null,null,null,null,null,null,null,null,null,null,null,null,null,null,null,null,null,null,null,null,null,null,null,null,null,null,null,null,null,null,null,null,null,null,null,null,null,null,null,null,null,"Mısır Gluten Yemi",1,0.89400000000000002,2.44062,1.5466200000000001,212.77200000000002,null,51.065280000000001,0.62580000000000013,8.9400000000000013,12.1,35.5,0,"Mısır Gluten Yemi",2.73,1.73,89.4,23.8,35.5,12.1,24,7.0000000000000007E-2,1]
[null,null,null,null,null,null,null,null,null,null,null,null,null,null,null,null,null,null,null,null,null,null,null,null,null,null,null,null,null,null,null,null,null,null,null,null,null,null,null,null,null,null,null,null,null,null,null,null,null,null,null,null,null,null,null,null,null,null,null,null,null,null,null,null,null,null,null,null,null,null,null,"Mısır Hasat Artıkları(fodder)",1,0.8,1.784,1.056,72,null,32.4,4,2,29,48,0,"Mısır Hasat Artıkları(fodder)",2.23,1.32,80,9,48,29,45,0.5,0.25]
[null,null,null,null,null,null,null,null,null,null,null,null,null,null,null,null,null,null,null,null,null,null,null,null,null,null,null,null,null,null,null,null,null,null,null,null,null,null,null,null,null,null,null,null,null,null,null,null,null,null,null,null,null,null,null,null,null,null,null,null,null,null,null,null,null,null,null,null,null,null,null,"Mısır Hasat Artıkları(saplar)(stover)",1,0.8,1.464,0.8640000000000001,40,null,12,3.6,1.2,43,70,0,"Mısır Hasat Artıkları(saplar)(stover)",1.83,1.08,80,5,70,43,30,0.45,0.15]
[null,null,null,null,null,null,null,null,null,null,null,null,null,null,null,null,null,null,null,null,null,null,null,null,null,null,null,null,null,null,null,null,null,null,null,null,null,null,null,null,null,null,null,null,null,null,null,null,null,null,null,null,null,null,null,null,null,null,null,null,null,null,null,null,null,null,null,null,null,null,null,"Mısır Özü Küspesi",1,0.93,2.7713999999999999,1.5716999999999999,198.834,null,126.657258,0.372,5.1150000000000002,14.18,47.91,0,"Mısır Özü Küspesi",2.98,1.69,93,21.38,47.91,14.18,63.7,0.04,0.55000000000000004]
[null,null,null,null,null,null,null,null,null,null,null,null,null,null,null,null,null,null,null,null,null,null,null,null,null,null,null,null,null,null,null,null,null,null,null,null,null,null,null,null,null,null,null,null,null,null,null,null,null,null,null,null,null,null,null,null,null,null,null,null,null,null,null,null,null,null,null,null,null,null,null,"Mısır Sömeği",1,0.90800000000000003,1.5254399999999999,0.89891999999999994,27.24,null,9.5884800000000006,0.90800000000000003,0.54479999999999995,42.2,86.2,0,"Mısır Sömeği",1.68,0.99,90.8,3,86.2,42.2,35.200000000000003,0.1,0.06]
[null,null,null,null,null,null,null,null,null,null,null,null,null,null,null,null,null,null,null,null,null,null,null,null,null,null,null,null,null,null,null,null,null,null,null,null,null,null,null,null,null,null,null,null,null,null,null,null,null,null,null,null,null,null,null,null,null,null,null,null,null,null,null,null,null,null,null,null,null,null,null,"Pamuk Tohumu Kapçığı",1,0.89,0.84549999999999992,0.42719999999999997,55.180000000000007,null,27.921080000000007,1.6019999999999999,1.0680000000000001,64.900000000000006,85,0,"Pamuk Tohumu Kapçığı",0.95,0.48,89,6.2,85,64.900000000000006,50.6,0.18,0.12]
[null,null,null,null,null,null,null,null,null,null,null,null,null,null,null,null,null,null,null,null,null,null,null,null,null,null,null,null,null,null,null,null,null,null,null,null,null,null,null,null,null,null,null,null,null,null,null,null,null,null,null,null,null,null,null,null,null,null,null,null,null,null,null,null,null,null,null,null,null,null,null,"Patates Yan Ürünleri",1,0.35399999999999998,1.0053599999999998,0.65489999999999993,37.17,null,24.606539999999999,1.7345999999999999,1.0265999999999997,16.5,22.1,0,"Patates Yan Ürünleri",2.84,1.85,35.4,10.5,22.1,16.5,66.2,0.49,0.28999999999999998]
[null,null,null,null,null,null,null,null,null,null,null,null,null,null,null,null,null,null,null,null,null,null,null,null,null,null,null,null,null,null,null,null,null,null,null,null,null,null,null,null,null,null,null,null,null,null,null,null,null,null,null,null,null,null,null,null,null,null,null,null,null,null,null,null,null,null,null,null,null,null,null,"Pirinç Kepeği",1,0.90600000000000003,2.7995399999999995,1.8572999999999995,140.43,null,57.155010000000011,0.6342000000000001,16.126799999999999,13.1,26.1,0,"Pirinç Kepeği",3.09,2.0499999999999998,90.6,15.5,26.1,13.1,40.700000000000003,7.0000000000000007E-2,1.78]
[null,null,null,null,null,null,null,null,null,null,null,null,null,null,null,null,null,null,null,null,null,null,null,null,null,null,null,null,null,null,null,null,null,null,null,null,null,null,null,null,null,null,null,null,null,null,null,null,null,null,null,null,null,null,null,null,null,null,null,null,null,null,null,null,null,null,null,null,null,null,null,"Soya Tohum Kabukları",1,0.90900000000000003,2.1270599999999997,1.32714,126.35100000000003,null,43.46474400000001,5.7267000000000001,1.5453000000000003,44.6,60.3,0,"Soya Tohum Kabukları",2.34,1.46,90.9,13.9,60.3,44.6,34.4,0.63,0.17]
[null,null,null,null,null,null,null,null,null,null,null,null,null,null,null,null,null,null,null,null,null,null,null,null,null,null,null,null,null,null,null,null,null,null,null,null,null,null,null,null,null,null,null,null,null,null,null,null,null,null,null,null,null,null,null,null,null,null,null,null,null,null,null,null,null,null,null,null,null,null,null,"Şeker Pancarı Posası, Kuru",1,0.88300000000000001,2.0838799999999997,1.2980099999999999,88.3,null,58.454599999999999,8.0352999999999994,0.79469999999999996,23.1,45.8,0,"Şeker Pancarı Posası, Kuru",2.36,1.47,88.3,10,45.8,23.1,66.2,0.91,0.09]
[null,null,null,null,null,null,null,null,null,null,null,null,null,null,null,null,null,null,null,null,null,null,null,null,null,null,null,null,null,null,null,null,null,null,null,null,null,null,null,null,null,null,null,null,null,null,null,null,null,null,null,null,null,null,null,null,null,null,null,null,null,null,null,null,null,null,null,null,null,null,null,"Şeker Pancarı Posası, Yaş",1,0.17,0.46919999999999995,0.26350000000000001,19.04,null,12.604480000000001,1.4789999999999999,0.17,23.1,45.8,0,"Şeker Pancarı Posası, Yaş",2.76,1.55,17,11.2,45.8,23.1,66.2,0.87,0.1]
[null,null,null,null,null,null,null,null,null,null,null,null,null,null,null,null,null,null,null,null,null,null,null,null,null,null,null,null,null,null,null,null,null,null,null,null,null,null,null,null,null,null,null,null,null,null,null,null,null,null,null,null,null,null,null,null,null,null,null,null,null,null,null,null,null,null,null,null,null,null,null,"Şeker Pancarı Posası, Yaş, Ambalajlı",1,0.19,0.52439999999999998,0.29449999999999998,21.09,null,13.961580000000001,1.653,0.19,23.1,45.8,0,"Şeker Pancarı Posası, Yaş, Ambalajlı",2.76,1.55,19,11.1,45.8,23.1,66.2,0.87,0.1]
[null,null,null,null,null,null,null,null,null,null,null,null,null,null,null,null,null,null,null,null,null,null,null,null,null,null,null,null,null,null,null,null,null,null,null,null,null,null,null,null,null,null,null,null,null,null,null,null,null,null,null,null,null,null,null,null,null,null,null,null,null,null,null,null,null,null,null,null,null,null,null,"Turunçgil Posası, Kuru",1,0.85799999999999998,2.3680799999999995,1.5100800000000001,59.201999999999998,null,14.326884,16.473599999999998,1.0295999999999998,22.2,24.2,0,"Turunçgil Posası, Kuru",2.76,1.76,85.8,6.9,24.2,22.2,24.2,1.92,0.12]
[null,null,null,null,null,null,null,null,null,null,null,null,null,null,null,null,null,null,null,null,null,null,null,null,null,null,null,null,null,null,null,null,null,null,null,null,null,null,null,null,null,null,null,null,null,null,null,null,null,null,null,null,null,null,null,null,null,null,null,null,null,null,null,null,null,null,null,null,null,null,null,"Üzüm Kurusu",1,0.86439999999999995,1.6423599999999998,1.1842280000000001,48.319959999999995,null,9.6639919999999986,5.0135199999999998,1.4694800000000001,19.2,22.84,0,"Üzüm Kurusu",1.9,1.37,86.44,5.59,22.84,19.2,20,0.57999999999999996,0.17]
[null,null,null,null,null,null,null,null,null,null,null,null,null,null,null,null,null,null,null,null,null,null,null,null,null,null,null,null,null,null,null,null,null,null,null,null,null,null,null,null,null,null,null,null,null,null,null,null,null,null,null,null,null,null,null,null,null,null,null,null,null,null,null,null,null,null,null,null,null,null,null,"Üzüm Posası,Kuru",1,0.9,0.65700000000000003,0.38700000000000001,120.6,null,29.185199999999998,5.22,1.53,54.4,53.2,0,"Üzüm Posası,Kuru",0.73,0.43,90,13.4,53.2,54.4,24.2,0.57999999999999996,0.17]
[null,null,null,null,null,null,null,null,null,null,null,null,null,null,null,null,null,null,null,null,null,null,null,null,null,null,null,null,null,null,null,null,null,null,null,null,null,null,null,null,null,null,null,null,null,null,null,null,null,null,null,null,null,null,null,null,null,null,null,null,null,null,null,null,null,null,null,null,null,null,null,"Zeytin Küspesi, Yağı Tam Alınmamış",1,0.65400000000000003,1.1445000000000001,0.69978000000000007,51.012,null,0,0,0,60.1,67.8,0,"Zeytin Küspesi, Yağı Tam Alınmamış",1.75,1.07,65.400000000000006,7.8,67.8,60.1,0,0,0]
[null,null,null,null,null,null,null,null,null,null,null,null,null,null,null,null,null,null,null,null,null,null,null,null,null,null,null,null,null,null,null,null,null,null,null,null,null,null,null,null,null,null,null,null,null,null,null,null,null,null,null,null,null,null,null,null,null,null,null,null,null,null,null,null,null,null,null,null,null,null,null,"Zeytin Küspesi, Yağı Tam Alınmış",1,0.68300000000000005,1.1815899999999999,0.71715000000000007,52.590999999999994,null,0,0,0,61.9,72.400000000000006,0,"Zeytin Küspesi, Yağı Tam Alınmış",1.73,1.05,68.3,7.7,72.400000000000006,61.9,0,0,0]
[null,null,null,null,null,null,null,null,null,null,null,null,null,null,null,null,null,null,null,null,null,null,null,null,null,null,null,null,null,null,null,null,null,null,null,null,null,null,null,null,null,null,null,null,null,null,null,null,null,null,null,null,null,null,null,null,null,null,null,null,null,null,null,null,null,null,null,null,null,null,null,"Buzağı Başlangıç Yemi",1,0.9,2.952,1.4678453038674033,162,null,40.5,6.2999999999999989,4.05,11.6,12.8,4000,"Buzağı Başlangıç Yemi",3.28,1.630939226519337,90,18,12.8,11.6,25,0.7,0.45,4000]
[null,null,null,null,null,null,null,null,null,null,null,null,null,null,null,null,null,null,null,null,null,null,null,null,null,null,null,null,null,null,null,null,null,null,null,null,null,null,null,null,null,null,null,null,null,null,null,null,null,null,null,null,null,null,null,null,null,null,null,null,null,null,null,null,null,null,null,null,null,null,null,"Buzağı Büyütme Yemi",1,0.9,2.9160000000000004,1.4499447513812154,144,null,30.24,5.4,3.6,8,18,4000,"Buzağı Büyütme Yemi",3.24,1.6110497237569061,90,16,18,8,21,0.6,0.4,4000]
[null,null,null,null,null,null,null,null,null,null,null,null,null,null,null,null,null,null,null,null,null,null,null,null,null,null,null,null,null,null,null,null,null,null,null,null,null,null,null,null,null,null,null,null,null,null,null,null,null,null,null,null,null,null,null,null,null,null,null,null,null,null,null,null,null,null,null,null,null,null,null,"Düve Yemi 1. Sınıf (TS11110)",1,0.89100000000000001,2.7799200000000002,1.7730900000000001,171.07199999999997,null,44.889292799999993,10.5138,5.6132999999999997,4.72,10.29,0,"Düve Yemi 1. Sınıf (TS11110)",3.12,1.99,89.1,19.2,10.29,4.72,26.24,1.18,0.63]
[null,null,null,null,null,null,null,null,null,null,null,null,null,null,null,null,null,null,null,null,null,null,null,null,null,null,null,null,null,null,null,null,null,null,null,null,null,null,null,null,null,null,null,null,null,null,null,null,null,null,null,null,null,null,null,null,null,null,null,null,null,null,null,null,null,null,null,null,null,null,null,"Düve Yemi 2. Sınıf (TS11110)",1,0.8990999999999999,2.7152819999999998,1.735263,161.83799999999999,null,36.041322600000001,10.519469999999998,5.84415,6.27,13.82,0,"Düve Yemi 2. Sınıf (TS11110)",3.02,1.93,89.91,18,13.82,6.27,22.27,1.17,0.65]
[null,null,null,null,null,null,null,null,null,null,null,null,null,null,null,null,null,null,null,null,null,null,null,null,null,null,null,null,null,null,null,null,null,null,null,null,null,null,null,null,null,null,null,null,null,null,null,null,null,null,null,null,null,null,null,null,null,null,null,null,null,null,null,null,null,null,null,null,null,null,null,"Kazein",1,0.91,4.6228000000000007,2.2986298342541436,843.57,null,0,3.6399999999999997,3.1849999999999996,0,0,0,"Kazein",5.08,2.5259668508287292,91,92.7,0,0,0,0.4,0.35]
[null,null,null,null,null,null,null,null,null,null,null,null,null,null,null,null,null,null,null,null,null,null,null,null,null,null,null,null,null,null,null,null,null,null,null,null,null,null,null,null,null,null,null,null,null,null,null,null,null,null,null,null,null,null,null,null,null,null,null,null,null,null,null,null,null,null,null,null,null,null,null,"Lor Altı Suyu-Fimar",1,0.05,0.18100000000000002,0.09,4.4249999999999998,null,0,0.36499999999999999,0.32500000000000001,0,0,0,"Lor Altı Suyu-Fimar",3.62,1.8,5,8.85,0,0,0,0.73,0.65]
[null,null,null,null,null,null,null,null,null,null,null,null,null,null,null,null,null,null,null,null,null,null,null,null,null,null,null,null,null,null,null,null,null,null,null,null,null,null,null,null,null,null,null,null,null,null,null,null,null,null,null,null,null,null,null,null,null,null,null,null,null,null,null,null,null,null,null,null,null,null,null,"Peynir Altı Suyu",1,7.0000000000000007E-2,0.25340000000000001,0.14000000000000001,9.94,null,0,0.5109999999999999,0.45499999999999996,0,0,0,"Peynir Altı Suyu",3.62,2,7,14.2,0,0,0,0.73,0.65]
[null,null,null,null,null,null,null,null,null,null,null,null,null,null,null,null,null,null,null,null,null,null,null,null,null,null,null,null,null,null,null,null,null,null,null,null,null,null,null,null,null,null,null,null,null,null,null,null,null,null,null,null,null,null,null,null,null,null,null,null,null,null,null,null,null,null,null,null,null,null,null,"Peynir Altı Suyu Protein Konsantresi",1,0.93,3.8780999999999999,2.1425966850828733,345.03000000000003,null,0,5.0220000000000002,5.58,0,0,0,"Peynir Altı Suyu Protein Konsantresi",4.17,2.3038674033149174,93,37.1,0,0,0,0.54,0.6]
[null,null,null,null,null,null,null,null,null,null,null,null,null,null,null,null,null,null,null,null,null,null,null,null,null,null,null,null,null,null,null,null,null,null,null,null,null,null,null,null,null,null,null,null,null,null,null,null,null,null,null,null,null,null,null,null,null,null,null,null,null,null,null,null,null,null,null,null,null,null,null,"Peynir Altı Suyu Tozu",1,0.98,3.3418000000000001,1.8462983425414368,134.26,null,0,17.346,9.5060000000000002,0,0,0,"Peynir Altı Suyu Tozu",3.41,1.8839779005524864,98,13.7,0,0,0,1.77,0.97]
[null,null,null,null,null,null,null,null,null,null,null,null,null,null,null,null,null,null,null,null,null,null,null,null,null,null,null,null,null,null,null,null,null,null,null,null,null,null,null,null,null,null,null,null,null,null,null,null,null,null,null,null,null,null,null,null,null,null,null,null,null,null,null,null,null,null,null,null,null,null,null,"Peynir Altı Suyu Tozu, Düşük Laktozlu",1,0.93,3.1619999999999999,1.7469613259668508,166.46999999999997,null,0,15.903,10.416,0,0,0,"Peynir Altı Suyu Tozu, Düşük Laktozlu",3.4,1.8784530386740332,93,17.899999999999999,0,0,0,1.71,1.1200000000000001]
[null,null,null,null,null,null,null,null,null,null,null,null,null,null,null,null,null,null,null,null,null,null,null,null,null,null,null,null,null,null,null,null,null,null,null,null,null,null,null,null,null,null,null,null,null,null,null,null,null,null,null,null,null,null,null,null,null,null,null,null,null,null,null,null,null,null,null,null,null,null,null,"Peynir Altı Suyu- Fimar",1,0.05,0.18100000000000002,0.1,5.1749999999999998,null,0,0.36499999999999999,0.32500000000000001,0,0,0,"Peynir Altı Suyu- Fimar",3.62,2,5,10.35,0,0,0,0.73,0.65]
[null,null,null,null,null,null,null,null,null,null,null,null,null,null,null,null,null,null,null,null,null,null,null,null,null,null,null,null,null,null,null,null,null,null,null,null,null,null,null,null,null,null,null,null,null,null,null,null,null,null,null,null,null,null,null,null,null,null,null,null,null,null,null,null,null,null,null,null,null,null,null,"Sığır Besi Yemi",1,0.89,2.5009000000000001,1.5842000000000001,130.47399999999999,null,31.6660398,10.590999999999999,4.984,9.1,21.29,0,"Sığır Besi Yemi",2.81,1.78,89,14.66,21.29,9.1,24.27,1.19,0.56000000000000005]
[null,null,null,null,null,null,null,null,null,null,null,null,null,null,null,null,null,null,null,null,null,null,null,null,null,null,null,null,null,null,null,null,null,null,null,null,null,null,null,null,null,null,null,null,null,null,null,null,null,null,null,null,null,null,null,null,null,null,null,null,null,null,null,null,null,null,null,null,null,null,null,"Sığır Süt Yemi,16 HP, 2400 ME",1,0.89,2.4119000000000002,1.5307999999999999,162.87,null,36.271149000000001,10.590999999999999,4.984,11.9,26.07,0,"Sığır Süt Yemi,16 HP, 2400 ME",2.71,1.72,89,18.3,26.07,11.9,22.27,1.19,0.56000000000000005]
[null,null,null,null,null,null,null,null,null,null,null,null,null,null,null,null,null,null,null,null,null,null,null,null,null,null,null,null,null,null,null,null,null,null,null,null,null,null,null,null,null,null,null,null,null,null,null,null,null,null,null,null,null,null,null,null,null,null,null,null,null,null,null,null,null,null,null,null,null,null,null,"Sığır Süt Yemi,16 HP, 2500 ME",1,0.89,2.4563999999999999,1.5842000000000001,162.87,null,36.271149000000001,10.590999999999999,4.984,9.1,21,0,"Sığır Süt Yemi,16 HP, 2500 ME",2.76,1.78,89,18.3,21,9.1,22.27,1.19,0.56000000000000005]
[null,null,null,null,null,null,null,null,null,null,null,null,null,null,null,null,null,null,null,null,null,null,null,null,null,null,null,null,null,null,null,null,null,null,null,null,null,null,null,null,null,null,null,null,null,null,null,null,null,null,null,null,null,null,null,null,null,null,null,null,null,null,null,null,null,null,null,null,null,null,null,"Sığır Süt Yemi,16 HP, 2600 ME",1,0.89,2.5809999999999995,1.6732,162.87,null,36.271149000000001,10.590999999999999,4.984,8.6999999999999993,19.3,0,"Sığır Süt Yemi,16 HP, 2600 ME",2.9,1.88,89,18.3,19.3,8.6999999999999993,22.27,1.19,0.56000000000000005]
[null,null,null,null,null,null,null,null,null,null,null,null,null,null,null,null,null,null,null,null,null,null,null,null,null,null,null,null,null,null,null,null,null,null,null,null,null,null,null,null,null,null,null,null,null,null,null,null,null,null,null,null,null,null,null,null,null,null,null,null,null,null,null,null,null,null,null,null,null,null,null,"Sığır Süt Yemi,18 HP, 2400 ME",1,0.89,2.4119000000000002,1.5307999999999999,181.56,null,40.433411999999997,10.590999999999999,4.984,11.9,26.07,0,"Sığır Süt Yemi,18 HP, 2400 ME",2.71,1.72,89,20.399999999999999,26.07,11.9,22.27,1.19,0.56000000000000005]
[null,null,null,null,null,null,null,null,null,null,null,null,null,null,null,null,null,null,null,null,null,null,null,null,null,null,null,null,null,null,null,null,null,null,null,null,null,null,null,null,null,null,null,null,null,null,null,null,null,null,null,null,null,null,null,null,null,null,null,null,null,null,null,null,null,null,null,null,null,null,null,"Sığır Süt Yemi,18 HP, 2500 ME",1,0.89,2.4563999999999999,1.5842000000000001,181.738,null,40.473052600000003,{"$f":"CJ195*CO195/10","v":10.590999999999999},5.2509999999999994,10.5,23.7,0,"Sığır Süt Yemi,18 HP, 2500 ME",2.76,1.78,89,20.420000000000002,23.7,10.5,22.27,1.19,0.59]
[null,null,null,null,null,null,null,null,null,null,null,null,null,null,null,null,null,null,null,null,null,null,null,null,null,null,null,null,null,null,null,null,null,null,null,null,null,null,null,null,null,null,null,null,null,null,null,null,null,null,null,null,null,null,null,null,null,null,null,null,null,null,null,null,null,null,null,null,null,null,null,{"$f":"CG196","v":"Sığır Süt Yemi,18 HP, 2600 ME"},1,{"$f":"CJ196*10/1000","v":0.89},{"$f":"CH196*CJ196/100","v":2.5899000000000001},{"$f":"CI196*CJ196/100","v":1.6643000000000001},{"$f":"CK196*CJ196/10","v":181.738},null,{"$f":"BY196*CN196/100","v":40.473052600000003},10.590999999999999,{"$f":"CP196*CJ196/10","v":5.2509999999999994},{"$f":"CM196","v":8.17},{"$f":"CL196","v":18.75},{"$f":"CQ196","v":0},"Sığır Süt Yemi,18 HP, 2600 ME",2.91,1.87,89,20.420000000000002,18.75,8.17,22.27,1.19,0.59]
[null,null,null,null,null,null,null,null,null,null,null,null,null,null,null,null,null,null,null,null,null,null,null,null,null,null,null,null,null,null,null,null,null,null,null,null,null,null,null,null,null,null,null,null,null,null,null,null,null,null,null,null,null,null,null,null,null,null,null,null,null,null,null,null,null,null,null,null,null,null,null,"Sığır Süt Yemi, 18 HP, 2650 ME",{"$f":"BU196","v":1},0.89,2.5899000000000001,1.6643000000000001,181.738,null,40.473052600000003,10.590999999999999,5.2509999999999994,8.17,18.75,0,"Sığır Süt Yemi, 18 HP, 2650 ME",2.91,1.87,89,20.420000000000002,18.75,8.17,22.27,1.19,0.59]
[null,null,null,null,null,null,null,null,null,null,null,null,null,null,null,null,null,null,null,null,null,null,null,null,null,null,null,null,null,null,null,null,null,null,null,null,null,null,null,null,null,null,null,null,null,null,null,null,null,null,null,null,null,null,null,null,null,null,null,null,null,null,null,null,null,null,null,null,null,null,null,"Sığır Süt Yemi, 19 HP, 2600 ME",1,0.89,2.5899000000000001,1.6643000000000001,194.02,null,43.208253999999997,10.590999999999999,5.2509999999999994,8.6999999999999993,20.2,0,"Sığır Süt Yemi, 19 HP, 2600 ME",2.91,1.87,89,21.8,20.2,8.6999999999999993,22.27,1.19,0.59]
[null,null,null,null,null,null,null,null,null,null,null,null,null,null,null,null,null,null,null,null,null,null,null,null,null,null,null,null,null,null,null,null,null,null,null,null,null,null,null,null,null,null,null,null,null,null,null,null,null,null,null,null,null,null,null,null,null,null,null,null,null,null,null,null,null,null,null,null,null,null,null,"Sığır Süt Yemi, 19 HP, 2700 ME",1,0.89,2.7322999999999995,1.7354999999999998,194.02,null,43.208253999999997,10.590999999999999,5.2509999999999994,8.6999999999999993,20.2,0,"Sığır Süt Yemi, 19 HP, 2700 ME",3.07,1.95,89,21.8,20.2,8.6999999999999993,22.27,1.19,0.59]
[null,null,null,null,null,null,null,null,null,null,null,null,null,null,null,null,null,null,null,null,null,null,null,null,null,null,null,null,null,null,null,null,null,null,null,null,null,null,null,null,null,null,null,null,null,null,null,null,null,null,null,null,null,null,null,null,null,null,null,null,null,null,null,null,null,null,null,null,null,null,null,"Sığır Süt Yemi, 19 HP, 2800 ME",1,0.89,2.8034999999999997,1.8244999999999998,189.57,null,42.217238999999999,10.501999999999999,4.6280000000000001,8.3000000000000007,19.600000000000001,0,"Sığır Süt Yemi, 19 HP, 2800 ME",3.15,2.0499999999999998,89,21.3,19.600000000000001,8.3000000000000007,22.27,1.18,0.52]
[null,null,null,null,null,null,null,null,null,null,null,null,null,null,null,null,null,null,null,null,null,null,null,null,null,null,null,null,null,null,null,null,null,null,null,null,null,null,null,null,null,null,null,null,null,null,null,null,null,null,null,null,null,null,null,null,null,null,null,null,null,null,null,null,null,null,null,null,null,null,null,"Sığır Süt Yemi, 20 HP, 2650 ME",1,0.89,2.5899000000000001,1.6643000000000001,194.02,null,43.208253999999997,10.590999999999999,5.2509999999999994,8.17,18.75,0,"Sığır Süt Yemi, 20 HP, 2650 ME",2.91,1.87,89,21.8,18.75,8.17,22.27,1.19,0.59]
[null,null,null,null,null,null,null,null,null,null,null,null,null,null,null,null,null,null,null,null,null,null,null,null,null,null,null,null,null,null,null,null,null,null,null,null,null,null,null,null,null,null,null,null,null,null,null,null,null,null,null,null,null,null,null,null,null,null,null,null,null,null,null,null,null,null,null,null,null,null,null,"Sığır Süt Yemi, 21 HP, 2600 ME",1,0.89,2.5899000000000001,1.6643000000000001,200.25,null,44.595675,10.590999999999999,5.2509999999999994,8.17,18.75,0,"Sığır Süt Yemi, 21 HP, 2600 ME",2.91,1.87,89,22.5,18.75,8.17,22.27,1.19,0.59]
[null,null,null,null,null,null,null,null,null,null,null,null,null,null,null,null,null,null,null,null,null,null,null,null,null,null,null,null,null,null,null,null,null,null,null,null,null,null,null,null,null,null,null,null,null,null,null,null,null,null,null,null,null,null,null,null,null,null,null,null,null,null,null,null,null,null,null,null,null,null,null,"Sığır Süt Yemi, 21 HP, 2600 ME",1,0.89,2.5899000000000001,1.6643000000000001,210.57400000000001,null,46.894829799999997,10.590999999999999,5.2509999999999994,8.17,18.75,0,"Sığır Süt Yemi, 21 HP, 2600 ME",2.91,1.87,89,23.66,18.75,8.17,22.27,1.19,0.59]
[null,null,null,null,null,null,null,null,null,null,null,null,null,null,null,null,null,null,null,null,null,null,null,null,null,null,null,null,null,null,null,null,null,null,null,null,null,null,null,null,null,null,null,null,null,null,null,null,null,null,null,null,null,null,null,null,null,null,null,null,null,null,null,null,null,null,null,null,null,null,null,"Sığır Süt Yemi, 21 HP, 2650 ME",1,0.89,2.6789000000000001,1.6998999999999997,210.57400000000001,null,46.894829799999997,10.501999999999999,4.6280000000000001,10,21.7,0,"Sığır Süt Yemi, 21 HP, 2650 ME",3.01,1.91,89,23.66,21.7,10,22.27,1.18,0.52]
[null,null,null,null,null,null,null,null,null,null,null,null,null,null,null,null,null,null,null,null,null,null,null,null,null,null,null,null,null,null,null,null,null,null,null,null,null,null,null,null,null,null,null,null,null,null,null,null,null,null,null,null,null,null,null,null,null,null,null,null,null,null,null,null,null,null,null,null,null,null,null,"Sığır Süt Yemi, 21 HP, 2700 ME",1,0.89,2.7322999999999995,1.7354999999999998,210.57400000000001,null,46.894829799999997,10.501999999999999,4.6280000000000001,9,20.2,0,"Sığır Süt Yemi, 21 HP, 2700 ME",3.07,1.95,89,23.66,20.2,9,22.27,1.18,0.52]
[null,null,null,null,null,null,null,null,null,null,null,null,null,null,null,null,null,null,null,null,null,null,null,null,null,null,null,null,null,null,null,null,null,null,null,null,null,null,null,null,null,null,null,null,null,null,null,null,null,null,null,null,null,null,null,null,null,null,null,null,null,null,null,null,null,null,null,null,null,null,null,"Sığır Süt Yemi, 21 HP, 2750 ME",1,0.89,2.7500999999999998,1.7710999999999999,210.57400000000001,null,46.894829799999997,10.501999999999999,4.6280000000000001,9,20.2,0,"Sığır Süt Yemi, 21 HP, 2750 ME",3.09,1.99,89,23.66,20.2,9,22.27,1.18,0.52]
[null,null,null,null,null,null,null,null,null,null,null,null,null,null,null,null,null,null,null,null,null,null,null,null,null,null,null,null,null,null,null,null,null,null,null,null,null,null,null,null,null,null,null,null,null,null,null,null,null,null,null,null,null,null,null,null,null,null,null,null,null,null,null,null,null,null,null,null,null,null,null,"Sığır Süt Yemi, 21 HP, 2800 ME",1,0.89,2.7946000000000004,1.8067,210.57400000000001,null,46.894829799999997,10.501999999999999,4.6280000000000001,9,20.2,0,"Sığır Süt Yemi, 21 HP, 2800 ME",3.14,2.0299999999999998,89,23.66,20.2,9,22.27,1.18,0.52]
[null,null,null,null,null,null,null,null,null,null,null,null,null,null,null,null,null,null,null,null,null,null,null,null,null,null,null,null,null,null,null,null,null,null,null,null,null,null,null,null,null,null,null,null,null,null,null,null,null,null,null,null,null,null,null,null,null,null,null,null,null,null,null,null,null,null,null,null,null,null,null,"Sığır Süt Yemi, 22 HP, 2750 ME",1,0.89,2.7500999999999998,1.7710999999999999,222.5,null,49.550750000000001,10.501999999999999,4.6280000000000001,8.6,19.600000000000001,0,"Sığır Süt Yemi, 22 HP, 2750 ME",3.09,1.99,89,25,19.600000000000001,8.6,22.27,1.18,0.52]
[null,null,null,null,null,null,null,null,null,null,null,null,null,null,null,null,null,null,null,null,null,null,null,null,null,null,null,null,null,null,null,null,null,null,null,null,null,null,null,null,null,null,null,null,null,null,null,null,null,null,null,null,null,null,null,null,null,null,null,null,null,null,null,null,null,null,null,null,null,null,null,"Sığır Süt Yemi, 24 HP, 2900 ME",1,0.89,2.8925000000000001,1.8600999999999999,239.94400000000002,null,53.4355288,10.590999999999999,5.2509999999999994,10.5,23.7,0,"Sığır Süt Yemi, 24 HP, 2900 ME",3.25,2.09,89,26.96,23.7,10.5,22.27,1.19,0.59]
[null,null,null,null,null,null,null,null,null,null,null,null,null,null,null,null,null,null,null,null,null,null,null,null,null,null,null,null,null,null,null,null,null,null,null,null,null,null,null,null,null,null,null,null,null,null,null,null,null,null,null,null,null,null,null,null,null,null,null,null,null,null,null,null,null,null,null,null,null,null,null,"Sığır Süt Yemi, 24 HP, 3100 ME",1,0.89,3.0971999999999995,2.2071999999999998,239.94400000000002,null,53.4355288,10.590999999999999,5.2509999999999994,10.5,23.7,0,"Sığır Süt Yemi, 24 HP, 3100 ME",3.48,2.48,89,26.96,23.7,10.5,22.27,1.19,0.59]
[null,null,null,null,null,null,null,null,null,null,null,null,null,null,null,null,null,null,null,null,null,null,null,null,null,null,null,null,null,null,null,null,null,null,null,null,null,null,null,null,null,null,null,null,null,null,null,null,null,null,null,null,null,null,null,null,null,null,null,null,null,null,null,null,null,null,null,null,null,null,null,"Sığır Süt Yemi, 25 HP, 2550 ME",1,0.89,2.5186999999999999,1.6287,249.2,null,55.496839999999992,10.590999999999999,5.2509999999999994,10.5,23.7,0,"Sığır Süt Yemi, 25 HP, 2550 ME",2.83,1.83,89,28,23.7,10.5,22.27,1.19,0.59]
[null,null,null,null,null,null,null,null,null,null,null,null,null,null,null,null,null,null,null,null,null,null,null,null,null,null,null,null,null,null,null,null,null,null,null,null,null,null,null,null,null,null,null,null,null,null,null,null,null,null,null,null,null,null,null,null,null,null,null,null,null,null,null,null,null,null,null,null,null,null,null,"Süt",1,0.125,0.67125000000000001,0.60412500000000002,31.75,null,0,1.25,0.9375,0,0,9230,"Süt",5.37,{"$f":"CH212*0.9","v":4.8330000000000002},12.5,25.4,0,0,0,1,0.75,9230]
[null,null,null,null,null,null,null,null,null,null,null,null,null,null,null,null,null,null,null,null,null,null,null,null,null,null,null,null,null,null,null,null,null,null,null,null,null,null,null,null,null,null,null,null,null,null,null,null,null,null,null,null,null,null,null,null,null,null,null,null,null,null,null,null,null,null,null,null,null,null,null,"Süt İkamesi, 18 HP, 20 YAĞ",1,0.125,0.59,0.53100000000000003,22.5,null,0,1.25,0.875,0,0,9000,"Süt İkamesi, 18 HP, 20 YAĞ",4.72,{"$f":"CH213*0.9","v":4.2480000000000002},12.5,18,0,0,0,1,0.7,9000]
[null,null,null,null,null,null,null,null,null,null,null,null,null,null,null,null,null,null,null,null,null,null,null,null,null,null,null,null,null,null,null,null,null,null,null,null,null,null,null,null,null,null,null,null,null,null,null,null,null,null,null,null,null,null,null,null,null,null,null,null,null,null,null,null,null,null,null,null,null,null,null,"Süt İkamesi, 20 HP, 20 YAĞ",1,0.125,0.59375,0.53437500000000004,25,null,0,1.25,0.875,0,0,9000,"Süt İkamesi, 20 HP, 20 YAĞ",4.75,4.2750000000000004,12.5,20,0,0,0,1,0.7,9000]
[null,null,null,null,null,null,null,null,null,null,null,null,null,null,null,null,null,null,null,null,null,null,null,null,null,null,null,null,null,null,null,null,null,null,null,null,null,null,null,null,null,null,null,null,null,null,null,null,null,null,null,null,null,null,null,null,null,null,null,null,null,null,null,null,null,null,null,null,null,null,null,"Süt İkamesi , 22 HP, 10 Yağ",1,0.125,0.53625,0.48262500000000003,27.5,null,0,1.25,0.875,0,0,9000,"Süt İkamesi , 22 HP, 10 Yağ",4.29,3.8610000000000002,12.5,22,0,0,0,1,0.7,9000]
[null,null,null,null,null,null,null,null,null,null,null,null,null,null,null,null,null,null,null,null,null,null,null,null,null,null,null,null,null,null,null,null,null,null,null,null,null,null,null,null,null,null,null,null,null,null,null,null,null,null,null,null,null,null,null,null,null,null,null,null,null,null,null,null,null,null,null,null,null,null,null,"Süt Tozu",1,0.95,5.1015000000000006,4.5913500000000003,241.3,null,0,9.5,7.125,0,0,0,"Süt Tozu",5.37,4.8330000000000002,95,25.4,0,0,0,1,0.75]
[null,null,null,null,null,null,null,null,null,null,null,null,null,null,null,null,null,null,null,null,null,null,null,null,null,null,null,null,null,null,null,null,null,null,null,null,null,null,null,null,null,null,null,null,null,null,null,null,null,null,null,null,null,null,null,null,null,null,null,null,null,null,null,null,null,null,null,null,null,null,null,"Yağsız Süt",1,0.1,0.40199999999999997,0.36180000000000001,35.5,null,0,1.35,1.02,0,0,0,"Yağsız Süt",4.0199999999999996,3.6179999999999999,10,35.5,0,0,0,1.35,1.02]
[null,null,null,null,null,null,null,null,null,null,null,null,null,null,null,null,null,null,null,null,null,null,null,null,null,null,null,null,null,null,null,null,null,null,null,null,null,null,null,null,null,null,null,null,null,null,null,null,null,null,null,null,null,null,null,null,null,null,null,null,null,null,null,null,null,null,null,null,null,null,null,"Yağsız Süt Tozu",1,0.94,3.8351999999999999,3.4516800000000001,351.56,null,0,12.126000000000001,10.152000000000001,0,0,0,"Yağsız Süt Tozu",4.08,3.6720000000000002,94,37.4,0,0,0,1.29,1.08]
[null,null,null,null,null,null,null,null,null,null,null,null,null,null,null,null,null,null,null,null,null,null,null,null,null,null,null,null,null,null,null,null,null,null,null,null,null,null,null,null,null,null,null,null,null,null,null,null,null,null,null,null,null,null,null,null,null,null,null,null,null,null,null,null,null,null,null,null,null,null,null,"Yumurta Çiğ",1,0.24,1.44,1.2960000000000003,120,null,0,0.48000000000000009,1.7280000000000002,0,0,0,"Yumurta Çiğ",6,5.4,24,50,0,0,0,0.2,0.72]
[null,null,null,null,null,null,null,null,null,null,null,null,null,null,null,null,null,null,null,null,null,null,null,null,null,null,null,null,null,null,null,null,null,null,null,null,null,null,null,null,null,null,null,null,null,null,null,null,null,null,null,null,null,null,null,null,null,null,null,null,null,null,null,null,null,null,null,null,null,null,null,"Amonyum Fosfat (Dibazik), (NH4) 2HPO4",1,1,0,0,1159,null,0,5.2,206,0,0,0,"Amonyum Fosfat (Dibazik), (NH4) 2HPO4",0,0,100,115.9,0,0,0,0.52,20.6]
[null,null,null,null,null,null,null,null,null,null,null,null,null,null,null,null,null,null,null,null,null,null,null,null,null,null,null,null,null,null,null,null,null,null,null,null,null,null,null,null,null,null,null,null,null,null,null,null,null,null,null,null,null,null,null,null,null,null,null,null,null,null,null,null,null,null,null,null,null,null,null,"Amonyum Fosfat (Monobazik), (NH4) 2HPO4",1,1,0,0,709.00000000000011,null,0,2.8000000000000003,247.4,0,0,0,"Amonyum Fosfat (Monobazik), (NH4) 2HPO4",0,0,100,70.900000000000006,0,0,0,0.28000000000000003,24.74]
[null,null,null,null,null,null,null,null,null,null,null,null,null,null,null,null,null,null,null,null,null,null,null,null,null,null,null,null,null,null,null,null,null,null,null,null,null,null,null,null,null,null,null,null,null,null,null,null,null,null,null,null,null,null,null,null,null,null,null,null,null,null,null,null,null,null,null,null,null,null,null,"Amonyum Klorid",1,1,0,0,1636.3,null,0,0,0,0,0,0,"Amonyum Klorid",0,0,100,163.63,0,0,0,0,0]
[null,null,null,null,null,null,null,null,null,null,null,null,null,null,null,null,null,null,null,null,null,null,null,null,null,null,null,null,null,null,null,null,null,null,null,null,null,null,null,null,null,null,null,null,null,null,null,null,null,null,null,null,null,null,null,null,null,null,null,null,null,null,null,null,null,null,null,null,null,null,null,"Amonyum Sülfat, (NH4) 2SO4",1,1,0,0,1341,null,0,0,0,0,0,0,"Amonyum Sülfat, (NH4) 2SO4",0,0,100,134.1,0,0,0,0,0]
[null,null,null,null,null,null,null,null,null,null,null,null,null,null,null,null,null,null,null,null,null,null,null,null,null,null,null,null,null,null,null,null,null,null,null,null,null,null,null,null,null,null,null,null,null,null,null,null,null,null,null,null,null,null,null,null,null,null,null,null,null,null,null,null,null,null,null,null,null,null,null,"Bakır Klorid, CuCl2",1,1,0,0,0,null,0,0,0,0,0,0,"Bakır Klorid, CuCl2",0,0,100,0,0,0,0,0,0]
[null,null,null,null,null,null,null,null,null,null,null,null,null,null,null,null,null,null,null,null,null,null,null,null,null,null,null,null,null,null,null,null,null,null,null,null,null,null,null,null,null,null,null,null,null,null,null,null,null,null,null,null,null,null,null,null,null,null,null,null,null,null,null,null,null,null,null,null,null,null,null,"Bakır Sülfat, 5 Sulu, CuSO4, 5H2O",1,1,0,0,0,null,0,0,0,0,0,0,"Bakır Sülfat, 5 Sulu, CuSO4, 5H2O",0,0,100,0,0,0,0,0,0]
[null,null,null,null,null,null,null,null,null,null,null,null,null,null,null,null,null,null,null,null,null,null,null,null,null,null,null,null,null,null,null,null,null,null,null,null,null,null,null,null,null,null,null,null,null,null,null,null,null,null,null,null,null,null,null,null,null,null,null,null,null,null,null,null,null,null,null,null,null,null,null,"Çinko Karbonat, ZnCO3",1,1,0,0,0,null,0,0,0,0,0,0,"Çinko Karbonat, ZnCO3",0,0,100,0,0,0,0,0,0]
[null,null,null,null,null,null,null,null,null,null,null,null,null,null,null,null,null,null,null,null,null,null,null,null,null,null,null,null,null,null,null,null,null,null,null,null,null,null,null,null,null,null,null,null,null,null,null,null,null,null,null,null,null,null,null,null,null,null,null,null,null,null,null,null,null,null,null,null,null,null,null,"Çinko Klorid, ZnCl2",1,1,0,0,0,null,0,0,0,0,0,0,"Çinko Klorid, ZnCl2",0,0,100,0,0,0,0,0,0]
[null,null,null,null,null,null,null,null,null,null,null,null,null,null,null,null,null,null,null,null,null,null,null,null,null,null,null,null,null,null,null,null,null,null,null,null,null,null,null,null,null,null,null,null,null,null,null,null,null,null,null,null,null,null,null,null,null,null,null,null,null,null,null,null,null,null,null,null,null,null,null,"Çinko Oksit, ZnO",1,1,0,0,0,null,0,0,0,0,0,0,"Çinko Oksit, ZnO",0,0,100,0,0,0,0,0,0]
[null,null,null,null,null,null,null,null,null,null,null,null,null,null,null,null,null,null,null,null,null,null,null,null,null,null,null,null,null,null,null,null,null,null,null,null,null,null,null,null,null,null,null,null,null,null,null,null,null,null,null,null,null,null,null,null,null,null,null,null,null,null,null,null,null,null,null,null,null,null,null,"Kalsiyum Fosfat, Ca(H2PO4)2",1,1,0,0,0,null,0,163.99999999999997,216,0,0,0,"Kalsiyum Fosfat, Ca(H2PO4)2",0,0,100,0,0,0,0,16.399999999999999,21.6]
[null,null,null,null,null,null,null,null,null,null,null,null,null,null,null,null,null,null,null,null,null,null,null,null,null,null,null,null,null,null,null,null,null,null,null,null,null,null,null,null,null,null,null,null,null,null,null,null,null,null,null,null,null,null,null,null,null,null,null,null,null,null,null,null,null,null,null,null,null,null,null,"Klasiyum Hidroksit, Ca(OH)2",1,1,0,0,0,null,0,540,0,0,0,0,"Klasiyum Hidroksit, Ca(OH)2",0,0,100,0,0,0,0,54,0]
[null,null,null,null,null,null,null,null,null,null,null,null,null,null,null,null,null,null,null,null,null,null,null,null,null,null,null,null,null,null,null,null,null,null,null,null,null,null,null,null,null,null,null,null,null,null,null,null,null,null,null,null,null,null,null,null,null,null,null,null,null,null,null,null,null,null,null,null,null,null,null,"Kalsiyum İyodat",1,1,0,0,0,null,0,100,0,0,0,0,"Kalsiyum İyodat",0,0,100,0,0,0,0,10,0]
[null,null,null,null,null,null,null,null,null,null,null,null,null,null,null,null,null,null,null,null,null,null,null,null,null,null,null,null,null,null,null,null,null,null,null,null,null,null,null,null,null,null,null,null,null,null,null,null,null,null,null,null,null,null,null,null,null,null,null,null,null,null,null,null,null,null,null,null,null,null,null,"Kalsiyum Karbonat, CaCO3",1,1,0,0,0,null,0,390,0.4,0,0,0,"Kalsiyum Karbonat, CaCO3",0,0,100,0,0,0,0,39,0.04]
[null,null,null,null,null,null,null,null,null,null,null,null,null,null,null,null,null,null,null,null,null,null,null,null,null,null,null,null,null,null,null,null,null,null,null,null,null,null,null,null,null,null,null,null,null,null,null,null,null,null,null,null,null,null,null,null,null,null,null,null,null,null,null,null,null,null,null,null,null,null,null,"Kalsiyum Klorid (susuz), CaCl2",1,1,0,0,0,null,0,342.99999999999994,0,0,0,0,"Kalsiyum Klorid (susuz), CaCl2",0,0,100,0,0,0,0,34.299999999999997,0]
[null,null,null,null,null,null,null,null,null,null,null,null,null,null,null,null,null,null,null,null,null,null,null,null,null,null,null,null,null,null,null,null,null,null,null,null,null,null,null,null,null,null,null,null,null,null,null,null,null,null,null,null,null,null,null,null,null,null,null,null,null,null,null,null,null,null,null,null,null,null,null,"Kalsiyum Klorid, 2 Sulu, CaCl2, 2H2O",1,1,0,0,0,null,0,280,0,0,0,0,"Kalsiyum Klorid, 2 Sulu, CaCl2, 2H2O",0,0,100,0,0,0,0,28,0]
[null,null,null,null,null,null,null,null,null,null,null,null,null,null,null,null,null,null,null,null,null,null,null,null,null,null,null,null,null,null,null,null,null,null,null,null,null,null,null,null,null,null,null,null,null,null,null,null,null,null,null,null,null,null,null,null,null,null,null,null,null,null,null,null,null,null,null,null,null,null,null,"Kalsiyum Oksit, Cao",1,1,0,0,0,null,0,714.7,0,0,0,0,"Kalsiyum Oksit, Cao",0,0,100,0,0,0,0,71.47,0]
[null,null,null,null,null,null,null,null,null,null,null,null,null,null,null,null,null,null,null,null,null,null,null,null,null,null,null,null,null,null,null,null,null,null,null,null,null,null,null,null,null,null,null,null,null,null,null,null,null,null,null,null,null,null,null,null,null,null,null,null,null,null,null,null,null,null,null,null,null,null,null,"Kalsiyum Sülfat, 2 Sulu, CaSO4, 2H2O",1,1,0,0,0,null,0,220,0,0,0,0,"Kalsiyum Sülfat, 2 Sulu, CaSO4, 2H2O",0,0,100,0,0,0,0,22,0]
[null,null,null,null,null,null,null,null,null,null,null,null,null,null,null,null,null,null,null,null,null,null,null,null,null,null,null,null,null,null,null,null,null,null,null,null,null,null,null,null,null,null,null,null,null,null,null,null,null,null,null,null,null,null,null,null,null,null,null,null,null,null,null,null,null,null,null,null,null,null,null,"Kaya Fosfatı",1,1,0,0,0,null,0,350,130,0,0,0,"Kaya Fosfatı",0,0,100,0,0,0,0,35,13]
[null,null,null,null,null,null,null,null,null,null,null,null,null,null,null,null,null,null,null,null,null,null,null,null,null,null,null,null,null,null,null,null,null,null,null,null,null,null,null,null,null,null,null,null,null,null,null,null,null,null,null,null,null,null,null,null,null,null,null,null,null,null,null,null,null,null,null,null,null,null,null,"Magnezyum Klorid, 6 Sulu, MgCl2, 6H2O",1,1,0,0,0,null,0,0,0,0,0,0,"Magnezyum Klorid, 6 Sulu, MgCl2, 6H2O",0,0,100,0,0,0,0,0,0]
[null,null,null,null,null,null,null,null,null,null,null,null,null,null,null,null,null,null,null,null,null,null,null,null,null,null,null,null,null,null,null,null,null,null,null,null,null,null,null,null,null,null,null,null,null,null,null,null,null,null,null,null,null,null,null,null,null,null,null,null,null,null,null,null,null,null,null,null,null,null,null,"Magnezyum Oksit, Mgo",1,1,0,0,0,null,0,30.7,0,0,0,0,"Magnezyum Oksit, Mgo",0,0,100,0,0,0,0,3.07,0]
[null,null,null,null,null,null,null,null,null,null,null,null,null,null,null,null,null,null,null,null,null,null,null,null,null,null,null,null,null,null,null,null,null,null,null,null,null,null,null,null,null,null,null,null,null,null,null,null,null,null,null,null,null,null,null,null,null,null,null,null,null,null,null,null,null,null,null,null,null,null,null,"Magnezyum Sülfat, 1 Sulu",1,0.98,0,0,0,null,0,0,0,0,0,0,"Magnezyum Sülfat, 1 Sulu",0,0,98,0,0,0,0,0,0]
[null,null,null,null,null,null,null,null,null,null,null,null,null,null,null,null,null,null,null,null,null,null,null,null,null,null,null,null,null,null,null,null,null,null,null,null,null,null,null,null,null,null,null,null,null,null,null,null,null,null,null,null,null,null,null,null,null,null,null,null,null,null,null,null,null,null,null,null,null,null,null,"Magnezyum Sülfat, 7 Sulu, MuSO4, 7H2O",1,0.98,0,0,0,null,0,0,0,0,0,0,"Magnezyum Sülfat, 7 Sulu, MuSO4, 7H2O",0,0,98,0,0,0,0,0,0]
[null,null,null,null,null,null,null,null,null,null,null,null,null,null,null,null,null,null,null,null,null,null,null,null,null,null,null,null,null,null,null,null,null,null,null,null,null,null,null,null,null,null,null,null,null,null,null,null,null,null,null,null,null,null,null,null,null,null,null,null,null,null,null,null,null,null,null,null,null,null,null,"Manganez Karbonat, MnCO3",1,1,0,0,0,null,0,0,0,0,0,0,"Manganez Karbonat, MnCO3",0,0,100,0,0,0,0,0,0]
[null,null,null,null,null,null,null,null,null,null,null,null,null,null,null,null,null,null,null,null,null,null,null,null,null,null,null,null,null,null,null,null,null,null,null,null,null,null,null,null,null,null,null,null,null,null,null,null,null,null,null,null,null,null,null,null,null,null,null,null,null,null,null,null,null,null,null,null,null,null,null,"Manganez Klorid , 4 Sulu , MnCl2, 4H2O",1,1,0,0,0,null,0,0,0,0,0,0,"Manganez Klorid , 4 Sulu , MnCl2, 4H2O",0,0,100,0,0,0,0,0,0]
[null,null,null,null,null,null,null,null,null,null,null,null,null,null,null,null,null,null,null,null,null,null,null,null,null,null,null,null,null,null,null,null,null,null,null,null,null,null,null,null,null,null,null,null,null,null,null,null,null,null,null,null,null,null,null,null,null,null,null,null,null,null,null,null,null,null,null,null,null,null,null,"Manganez Klorid , MnCl2",1,1,0,0,0,null,0,0,0,0,0,0,"Manganez Klorid , MnCl2",0,0,100,0,0,0,0,0,0]
[null,null,null,null,null,null,null,null,null,null,null,null,null,null,null,null,null,null,null,null,null,null,null,null,null,null,null,null,null,null,null,null,null,null,null,null,null,null,null,null,null,null,null,null,null,null,null,null,null,null,null,null,null,null,null,null,null,null,null,null,null,null,null,null,null,null,null,null,null,null,null,"Manganez Sülfat, 1 Sulu, MnSO4, H2O",1,1,0,0,0,null,0,0,0,0,0,0,"Manganez Sülfat, 1 Sulu, MnSO4, H2O",0,0,100,0,0,0,0,0,0]
[null,null,null,null,null,null,null,null,null,null,null,null,null,null,null,null,null,null,null,null,null,null,null,null,null,null,null,null,null,null,null,null,null,null,null,null,null,null,null,null,null,null,null,null,null,null,null,null,null,null,null,null,null,null,null,null,null,null,null,null,null,null,null,null,null,null,null,null,null,null,null,"Manganez Sülfat, MnSO4",1,1,0,0,0,null,0,0,0,0,0,0,"Manganez Sülfat, MnSO4",0,0,100,0,0,0,0,0,0]
[null,null,null,null,null,null,null,null,null,null,null,null,null,null,null,null,null,null,null,null,null,null,null,null,null,null,null,null,null,null,null,null,null,null,null,null,null,null,null,null,null,null,null,null,null,null,null,null,null,null,null,null,null,null,null,null,null,null,null,null,null,null,null,null,null,null,null,null,null,null,null,"Sodyum Selenit, Na2SeO3",1,1,0,0,0,null,0,0,0,0,0,0,"Sodyum Selenit, Na2SeO3",0,0,100,0,0,0,0,0,0]
[null,null,null,null,null,null,null,null,null,null,null,null,null,null,null,null,null,null,null,null,null,null,null,null,null,null,null,null,null,null,null,null,null,null,null,null,null,null,null,null,null,null,null,null,null,null,null,null,null,null,null,null,null,null,null,null,null,null,null,null,null,null,null,null,null,null,null,null,null,null,null,"Sodyum Sülfat ,10 Sulu, Na2SO4, 10H2O",1,1,0,0,0,null,0,0,250,0,0,0,"Sodyum Sülfat ,10 Sulu, Na2SO4, 10H2O",0,0,100,0,0,0,0,0,25]
[null,null,null,null,null,null,null,null,null,null,null,null,null,null,null,null,null,null,null,null,null,null,null,null,null,null,null,null,null,null,null,null,null,null,null,null,null,null,null,null,null,null,null,null,null,null,null,null,null,null,null,null,null,null,null,null,null,null,null,null,null,null,null,null,null,null,null,null,null,null,null,"Sodyum Tripolifosfat, Na5P3O10",1,1,0,0,0,null,0,0,0,0,0,0,"Sodyum Tripolifosfat, Na5P3O10",0,0,100,0,0,0,0,0,0]
[null,null,null,null,null,null,null,null,null,null,null,null,null,null,null,null,null,null,null,null,null,null,null,null,null,null,null,null,null,null,null,null,null,null,null,null,null,null,null,null,null,null,null,null,null,null,null,null,null,null,null,null,null,null,null,null,null,null,null,null,null,null,null,null,null,null,null,null,null,null,null,"Tuz ",1,1,0,0,0,null,0,0,0,0,0,0,"Tuz ",0,0,100,0,0,0,0,0,0]
[null,null,null,null,null,null,null,null,null,null,null,null,null,null,null,null,null,null,null,null,null,null,null,null,null,null,null,null,null,null,null,null,null,null,null,null,null,null,null,null,null,null,null,null,null,null,null,null,null,null,null,null,null,null,null,null,null,null,null,null,null,null,null,null,null,null,null,null,null,null,null,"Üre",1,1,0,0,2810,null,0,0,0,0,0,0,"Üre",0,0,100,281,0,0,0,0,0]
[null,null,null,null,null,null,null,null,null,null,null,null,null,null,null,null,null,null,null,null,null,null,null,null,null,null,null,null,null,null,null,null,null,null,null,null,null,null,null,null,null,null,null,null,null,null,null,null,null,null,null,null,null,null,null,null,null,null,null,null,null,null,null,null,null,null,null,null,null,null,null,"Vitamin Kar. (Kavimix 802-ekonomik)",1,1,0,0,0,null,0,0,0,0,0,0,"Vitamin Kar. (Kavimix 802-ekonomik)",0,0,100,0,0,0,0,0,0]
[null,null,null,null,null,null,null,null,null,null,null,null,null,null,null,null,null,null,null,null,null,null,null,null,null,null,null,null,null,null,null,null,null,null,null,null,null,null,null,null,null,null,null,null,null,null,null,null,null,null,null,null,null,null,null,null,null,null,null,null,null,null,null,null,null,null,null,null,null,null,null,"Vitamin Kar. (Kavimix 803-zengin)",1,1,0,0,0,null,0,0,0,0,0,0,"Vitamin Kar. (Kavimix 803-zengin)",0,0,100,0,0,0,0,0,0]
[null,null,null,null,null,null,null,null,null,null,null,null,null,null,null,null,null,null,null,null,null,null,null,null,null,null,null,null,null,null,null,null,null,null,null,null,null,null,null,null,null,null,null,null,null,null,null,null,null,null,null,null,null,null,null,null,null,null,null,null,null,null,null,null,null,null,null,null,null,null,null,"Vitamin Kar. ( Rovimix 302-F/30)",1,1,0,0,0,null,0,0,0,0,0,0,"Vitamin Kar. ( Rovimix 302-F/30)",0,0,100,0,0,0,0,0,0]
[null,null,null,null,null,null,null,null,null,null,null,null,null,null,null,null,null,null,null,null,null,null,null,null,null,null,null,null,null,null,null,null,null,null,null,null,null,null,null,null,null,null,null,null,null,null,null,null,null,null,null,null,null,null,null,null,null,null,null,null,null,null,null,null,null,null,null,null,null,null,null,"Vitamin Kar. (Farmix-Standart)",1,1,0,0,0,null,0,0,0,0,0,0,"Vitamin Kar. (Farmix-Standart)",0,0,100,0,0,0,0,0,0]
[null,null,null,null,null,null,null,null,null,null,null,null,null,null,null,null,null,null,null,null,null,null,null,null,null,null,null,null,null,null,null,null,null,null,null,null,null,null,null,null,null,null,null,null,null,null,null,null,null,null,null,null,null,null,null,null,null,null,null,null,null,null,null,null,null,null,null,null,null,null,null,"Vit-Min. Kar. (Rovimix 302-SM) 8Süt), 1kg/ton",1,1,0,0,0,null,0,0,0,0,0,0,"Vit-Min. Kar. (Rovimix 302-SM) 8Süt), 1kg/ton",0,0,100,0,0,0,0,0,0]
[null,null,null,null,null,null,null,null,null,null,null,null,null,null,null,null,null,null,null,null,null,null,null,null,null,null,null,null,null,null,null,null,null,null,null,null,null,null,null,null,null,null,null,null,null,null,null,null,null,null,null,null,null,null,null,null,null,null,null,null,null,null,null,null,null,null,null,null,null,null,null,"BOŞ",1,0,0,0,0,null,0,0,0,"0","0","0","BOŞ","0","0","0","0","0","0","0","0","0","0"]
[null,null,null,null,null,null,null,null,null,null,null,null,null,null,null,null,null,null,null,null,null,null,null,null,null,null,null,null,null,null,null,null,null,null,null,null,null,null,null,null,null,null,null,null,null,null,null,null,null,null,null,null,null,null,null,null,null,null,null,null,null,null,null,null,null,null,null,null,null,null,null,"","","","","","","",null,"",""]

{"sheet":"E.BUZAĞI-TOSUN","index":5,"n_rows":258,"n_cols":79,"rows_kept":258,"cut":false,"hidden":false,"merged":[[24,15,25,16],[26,15,27,16],[64,26,64,30],[64,32,64,36],[18,3,19,5],[32,32,32,36],[37,29,37,30],[37,31,37,32],[37,33,37,36],[12,7,12,9],[13,7,13,9],[14,7,14,9],[15,7,15,9],[30,13,31,14],[17,7,17,9],[16,7,16,9],[26,13,27,13],[26,14,27,14],[20,13,21,13],[20,14,21,14],[22,13,23,13],[22,14,23,14],[24,13,25,13],[24,14,25,14],[20,10,20,12],[12,15,12,16],[18,15,18,16],[20,0,22,0],[28,13,29,14],[21,1,22,1],[20,1,20,3],[21,4,22,4],[21,7,22,7],[21,10,22,10],[21,2,22,2],[21,5,22,5],[21,8,22,8],[21,11,22,11],[20,4,20,6],[20,7,20,9],[19,6,19,10],[0,0,1,0],[0,1,1,1],[0,2,0,5],[1,8,1,9],[18,6,18,10],[6,7,6,9],[0,6,1,6],[2,7,2,9],[3,7,3,9],[4,7,4,9],[5,7,5,9],[7,7,7,9],[8,7,8,9],[9,7,9,9],[10,7,10,9],[11,7,11,9],[12,29,12,31],[12,32,12,34],[23,30,24,30],[0,24,0,27],[0,29,0,31],[16,25,16,26],[0,15,1,16],[0,53,1,53],[6,29,6,31],[6,32,6,34],[0,32,0,34],[2,15,2,16],[3,15,4,16],[5,15,5,16],[6,15,6,16]]}
["Yem Adı","Yem Birim Fiyatı (tl/kg)","Yem Tüketimi (kg/gün/baş)",null,null,null,"Günlük Max Yem (kg/baş)","Kondisyon Skoru",null,"Doğum Ağıtlığı",44,"Erkek Buzağı","90 gün < Buzağı-Tosun ","Besleme Ortası Canlı Ağırlık","Bitiş Canlı Ağırlık","1 KG HAYVANSAL PROTEİN İÇİN TÜKETİLEN YEM METABOLİK  ENERJİSİ (MJ)",null,null,null,null,null,null,null,null,"Kondisyon Skoru",null,null,null,9.9999999999999994E-12,null,null,null,null,null,null,null,null,null,null,null,null,null,null,null,"KM (kg/gün)","ME (Mcal/gün)","Nel (Mcal/gün)","HP (g/gün)","MBP (g/gün)","Rumende Yıkıma Dirençli Protein (g/gün)","Ca (g/gün)","P (g/gün)","ADF (kg/gün)","NDF (kg/gün)",null,"Rasyon özeti","Yem","KM","ME","NEl","HP","MBP","Rumende Yıkıma Dirençli Protein","Ca","P","ADF","NDF","Vit A"]
[null,null,"Erkek Buzağı","Tosun Başlangıç","Tosun Besleme Ortası","Tosun Bitiş",null,4,"Hayvan Sayısı ",null,"Baş",40,40,40,40,null,null,null,null,null,null,null,null,null,"SATIR",{"$f":"MATCH(H2,AB2:AB6,0)","v":4},1,1,null,null,null,null,null,null,null,null,null,null,null,null,null,null,null,null,null,null,null,null,null,null,null,null,null,null,"Vit A IU","Yem maddeleri","kg/gün","kg/gün","Mcal/gün","Mcal/gün","g/gün"," (g/gün)"," (g/gün)","g/gün","g/gün","kg/gün","kg/gün","IU","YEM MADDESİ","ME","NEI","KM","HP","NDF","ADF","RUP","CA","P","Vit A"]
["Çayır-Baklagil Kuru Otu, Olgun> %53 NDF",1,0,0,0,0,10,"Başlangıç Canlı Ağırlık",null,null,"kg",{"$f":"K1+L5*L4/2/1000","v":66.5},{"$f":"O21+M5*M4/2/1000","v":140},{"$f":"(O23+N4*N5/2/1000)","v":281},{"$f":"O25+O5*O4/2/1000","v":431},{"$f":"HESAP!FY9","v":407.42325172630717},null,null,null,null,null,null,null,null,"İNDİS",{"$f":"INDEX($AA$2:$AA$6,H2)","v":4},2,2,null,null,null,null,null,null,null,null,null,null,null,null,null,null,null,{"$f":"MATCH(A3,BD3:BD412,0)","v":14},{"$f":"(INDEX($BF$3:$BF$412,AR3))","v":0.89700000000000002},{"$f":"(INDEX($BG$3:$BG$412,AR3))","v":1.6684200000000002},{"$f":"(INDEX($BH$3:$BH$412,AR3))","v":1.0046400000000002},{"$f":"INDEX($BI$3:$BI$412,AR3)","v":163.25399999999999},{"$f":"INDEX($BJ$3:$BJ$412,AR3)","v":0},{"$f":"INDEX($BK$3:$BK$394,AR3)","v":27.589925999999995},{"$f":"INDEX($BL$3:$BL$412,AR3)","v":10.405199999999999},{"$f":"INDEX($BM$3:$BM$412,AR3)","v":3.2292000000000001},{"$f":"INDEX($BN$3:$BN$412,AR3)","v":31.1},{"$f":"INDEX($BO$3:$BO$412,AR3)","v":56},{"$f":"INDEX($BP$3:$BP$412,AR3)","v":0},{"$f":"BQ3","v":"Baklagil Kuru Otu"},1,{"$f":"BT3*10/1000","v":0.878},{"$f":"BR3*BT3/100","v":1.8262399999999999},{"$f":"BS3*BT3/100","v":1.1150599999999999},{"$f":"BU3*BT3/10","v":177.35599999999999},null,{"$f":"BI3*BX3/100","v":33.342928000000001},{"$f":"BT3*BY3/10","v":13.345599999999999},{"$f":"BZ3*BT3/10","v":2.2827999999999999},{"$f":"BW3","v":31.2},{"$f":"BV3","v":39.6},{"$f":"CA3","v":0},"Baklagil Kuru Otu",2.08,1.27,87.8,20.2,39.6,31.2,18.8,1.52,0.26]
["Yağ, Ca Sabunları",15,0.31601671214772759,0.77281061635428572,0,0.92245948060402227,10,"Başlangıç Günlük Canlı Ağırlık Artışı",null,null,"(g/gün)",750,850,1000,1200,"1 KG HAYVANSAL PROTEİN İÇİN METAN SALINIMI (MJ)",null,null,null,null,null,null,null,null,null,null,3,3,null,null,null,null,null,null,null,null,null,null,null,null,null,null,null,{"$f":"MATCH(A4,BD3:BD412,0)","v":133},{"$f":"(INDEX($BF$3:$BF$412,AR4))","v":0.95299999999999996},{"$f":"(INDEX($BG$3:$BG$412,AR4))","v":5.9753099999999995},{"$f":"(INDEX($BH$3:$BH$412,AR4))","v":4.7840599999999993},{"$f":"INDEX($BI$3:$BI$412,AR4)","v":0},{"$f":"INDEX($BJ$3:$BJ$412,AR4)","v":0},{"$f":"INDEX($BK$3:$BK$394,AR4)","v":0},{"$f":"INDEX($BL$3:$BL$412,AR4)","v":0},{"$f":"INDEX($BM$3:$BM$412,AR4)","v":0},{"$f":"INDEX($BN$3:$BN$412,AR4)","v":0},{"$f":"INDEX($BO$3:$BO$412,AR4)","v":0},{"$f":"INDEX($BP$3:$BP$412,AR4)","v":0},{"$f":"BQ4","v":"Baklagil Kuru Otu, Körpe < %40 NDF"},{"$f":"BE3","v":1},{"$f":"BT4*10/1000","v":0.84199999999999997},{"$f":"BR4*BT4/100","v":1.8776599999999999},{"$f":"BS4*BT4/100","v":1.1619599999999999},{"$f":"BU4*BT4/10","v":191.97600000000003},null,{"$f":"BI4*BX4/100","v":31.292088000000007},13.135200000000001,{"$f":"BZ4*BT4/10","v":2.6101999999999999},{"$f":"BW4","v":28.6},{"$f":"BV4","v":36.299999999999997},{"$f":"CA4","v":0},"Baklagil Kuru Otu, Körpe < %40 NDF",2.23,1.38,84.2,22.8,36.299999999999997,28.6,16.3,1.56,0.31]
["Buğday, Ezme",1.5,0,1.6027105856240389,0,2,2,"Başlangıç Bakım Süresi",null,null," (gün)",60,120,180,100,null,null,null,null,null,null,null,null,null,null,null,4,4,null,null,null,null,null,null,null,null,null,null,null,null,null,null,null,{"$f":"MATCH(A5,BD3:BD412,0)","v":115},{"$f":"(INDEX($BF$3:$BF$412,AR5))","v":0.89400000000000002},2.7714000000000003,1.7790600000000001,126.94800000000001,0,24.881808000000007,0.44700000000000006,3.8441999999999998,4.4000000000000004,13.4,0,"Baklagil Kuru Otu, Olgun >%46 NDF",{"$f":"BE4","v":1},0.83799999999999997,1.5754399999999997,0.94693999999999989,188.55,null,33.561900000000009,10.223599999999999,2.3464,39.5,50.9,0,"Baklagil Kuru Otu, Olgun >%46 NDF",1.88,1.1299999999999999,83.8,22.5,50.9,39.5,17.8,1.22,0.28000000000000003]
["Buzağı Başlangıç Yemi",2.5,0,0,0,0,10,"Satılan Hayvan",null,null,"Baş",0,0,0,40,{"$f":"HESAP!GH9","v":31.164142654532},null,null,null,null,null,null,null,null,null,null,5,5,null,null,null,null,null,null,null,null,null,null,null,null,null,null,null,{"$f":"MATCH(A6,BD3:BD415,0)","v":177},0.9,2.952,1.4678453038674033,162,0,40.5,6.2999999999999989,4.05,11.6,12.8,4000,"Baklagil Kuru Otu, Orta Olgun, %40-46 NDF",1,0.83899999999999997,1.7535099999999999,1.0739200000000002,174.512,null,30.714112000000004,11.494300000000001,2.5170000000000003,33.4,42.9,0,"Baklagil Kuru Otu, Orta Olgun, %40-46 NDF",2.09,1.28,83.9,20.8,42.9,33.4,17.600000000000001,1.37,0.3]
["Buzağı Büyütme Yemi",3,0,0,0,0,10,"Karkas Ranıman",null,null,"%",50,55,60,62,"1 KG CAA YEM MALİYETİ (TL/KG)",null,null,null,null,null,null,null,null,null,null,null,null,null,null,null,null,null,null,null,null,null,null,null,null,null,null,null,{"$f":"MATCH(A7,BD3:BD416,0)","v":178},0.9,2.9160000000000004,1.4499447513812154,144,0,30.24,5.4,3.6,8,18,4000,"Buğday Kuru Otu, Başaklı",1,0.86799999999999999,1.48428,0.8766799999999999,81.591999999999999,null,30.107447999999998,2.6907999999999999,1.736,38.1,61.1,0,"Buğday Kuru Otu, Başaklı",1.71,1.01,86.8,9.4,61.1,38.1,36.9,0.31,0.2]
["Sığır Besi Yemi",2,0,0,0,0,10,"Karkas Et Oranı",null,null,"%",80,80,80,80,"Erkek Buzağı",{"$f":"AB88","v":21.002397407856503},null,null,null,null,null,null,null,null,null,1,"TAMAM",null,null,null,null,null,null,null,null,null,null,null,null,null,null,null,{"$f":"MATCH(A8,BD3:BD417,0)","v":188},0.89,2.5009000000000001,1.5842000000000001,{"$f":"INDEX($BI$3:$BI$412,AR8)","v":130.47399999999999},0,31.6660398,10.590999999999999,4.984,9.1,21.29,0,"Buğday Samanı",1,0.92700000000000005,1.3348800000000001,0.76013999999999993,44.495999999999995,null,7.386336,3.3372000000000002,3.2444999999999999,35.200000000000003,73,0,"Buğday Samanı",1.44,0.82,92.7,4.8,73,35.200000000000003,16.600000000000001,0.36,0.35]
["Mısır Silajı, %33-40 KM",0.6,0,4.3072338976905327,0,8.6242642450684421,10,"Et Protein Oranı",null,null,"%",20,20,20,20,"90 gün < Buzağı-Tosun ",{"$f":"AC88","v":23.822120073951183},null,null,null,null,null,null,null,"COAT",null,1,"FAZLA",null,null,null,null,null,null,null,null,null,null,null,null,null,null,null,{"$f":"MATCH(A9,BD3:BD418,0)","v":65},0.35499999999999998,0.72065000000000001,0.44020000000000004,25.914999999999999,0,8.759269999999999,0.92300000000000004,0.88749999999999996,29.8,51.6,0,"Çayır Kuru Otu, Soğuk Mevsim",1,0.88100000000000001,1.6386599999999998,0.98671999999999993,93.385999999999996,null,21.385393999999998,3.3478000000000003,2.5548999999999995,37.6,64.400000000000006,0,"Çayır Kuru Otu, Soğuk Mevsim",1.86,1.1200000000000001,88.1,10.6,64.400000000000006,37.6,22.9,0.38,0.28999999999999998]
["Çayır Merası, Soğuk Mevsim, Bakımlı",0.01,0,0,25,0,0,"Birim İşçiye düşen hayvan say",null,null,"Baş",70,70,70,70,"Besleme Ortası Canlı Ağırlık",{"$f":"AD88","v":4.0657638904822253},null,"Başlangıç","İNDİS",{"$f":"INDEX($Y$10:$Y$13,W10)","v":1},"SATIR",{"$f":"MATCH(M12,X10:X13,0)","v":1},"Kuru-temiz",1,null,2,"EKSİK",null,null,null,null,null,null,null,null,null,null,null,null,null,null,null,{"$f":"MATCH(A10,BD3:BD419,0)","v":48},0.20100000000000001,0.49446000000000007,0.30954000000000004,53.265000000000008,0,11.824830000000002,1.1256000000000002,0.88440000000000007,25,45.8,0,"Çayır Kuru Otu, Soğuk Mevsim, Körpe <%55 NDF",1,0.84,1.8648000000000002,1.1508,151.19999999999999,null,36.741599999999998,3.6119999999999997,3.528,34.9,49.6,0,"Çayır Kuru Otu, Soğuk Mevsim, Körpe <%55 NDF",2.2200000000000002,1.37,84,18,49.6,34.9,24.3,0.43,0.42]
["Soya Küspesi, Ekspeller, %45 HP",5,0.44230943557287594,0.70904342455895142,0,0.40306627847975379,2,"Vücut Kondisyon Skoru",null,null,"puan",3,4,4,3,"Bitiş Canlı Ağırlık",{"$f":"AE88","v":24.480971209628304},null,"Orta","İNDİS",{"$f":"INDEX($Y$10:$Y$13,W11)","v":1},"SATIR",{"$f":"MATCH(N12,X10:X13,0)","v":1},"Bacaklar çamur",0.8,null,null,null,null,null,null,null,null,null,null,null,null,null,null,null,null,null,null,{"$f":"MATCH(A11,BD3:BD420,0)","v":108},0.89600000000000002,3.2345599999999997,2.1324799999999997,448,0,259.83999999999997,3.2256,5.9135999999999997,10.4,21.7,0,"Çayır Kuru Otu , Soğuk Mevsim,Olgun >%60 NDF",1,0.84399999999999997,1.5614000000000001,0.93684000000000012,91.152000000000015,null,20.235744,{"$f":"BT11*BY11/10","v":3.9668000000000001},3.7136000000000005,25,69.099999999999994,0,"Çayır Kuru Otu , Soğuk Mevsim,Olgun >%60 NDF",1.85,1.1100000000000001,84.4,10.8,69.099999999999994,25,22.2,0.47,0.44]
["Çayır Kuru Otu, Soğuk Mevsim",1,0,0,0,0,10,"Dış İzolasyon",null,null,null,"Kuru-temiz","Kuru-temiz","Kuru-temiz","Kuru-temiz","GENEL",{"$f":"AF88","v":15.759548492927877},null,"Bitiş","İNDİS",{"$f":"INDEX($Y$10:$Y$13,W12)","v":1},"SATIR",{"$f":"MATCH(O12,X10:X13,0)","v":1},"Islak-paspaslı",0.5,null,null,null,null,null,null,null,null,null,null,null,null,null,null,null,null,null,null,{"$f":"MATCH(A12,BD3:BD412,0)","v":7},0.88100000000000001,1.6386599999999998,0.98671999999999993,93.385999999999996,0,21.385393999999998,3.3478000000000003,2.5548999999999995,37.6,64.400000000000006,0,"Çayır Kuru Otu , Soğuk Mevsim,Orta Olgun.,%55-60 NDF",1,0.83799999999999997,1.6927599999999998,1.03074,111.45399999999999,null,27.640591999999998,4.609,2.4301999999999997,40.299999999999997,57.7,0,"Çayır Kuru Otu , Soğuk Mevsim,Orta Olgun.,%55-60 NDF",2.02,1.23,83.8,13.3,57.7,40.299999999999997,24.8,0.55000000000000004,0.28999999999999998]
["Buğday Samanı",0.6,0,0,0,0,10,"Rüzgar",null,null,"km/saat",1,1,1,1,"BİRİM YEM MALİYETİ(TL)",null,null,"Buzağı","İNDİS",{"$f":"INDEX($Y$10:$Y$13,W13)","v":1},"SATIR",{"$f":"MATCH(L12,X10:X13,0)","v":1},"Kar-çamur kaplı",0.2,null,19,null,null,null,null,null,null,null,null,null,null,null,null,null,null,null,null,{"$f":"MATCH(A13,BD3:BD422,0)","v":6},0.92700000000000005,1.3348800000000001,0.76013999999999993,44.495999999999995,0,7.386336,3.3372000000000002,3.2444999999999999,35.200000000000003,73,0,"Çayır-Baklagil Kuru Otu (Baklagil Yoğun), Körpe <%44 NDF",1,0.83799999999999997,1.8016999999999999,1.10616,171.79,null,32.811890000000005,4.7765999999999993,3.0167999999999999,32.9,41.7,0,"Çayır-Baklagil Kuru Otu (Baklagil Yoğun), Körpe <%44 NDF",2.15,1.32,83.8,20.5,41.7,32.9,19.100000000000001,0.56999999999999995,0.36]
["Çayır Merası, Soğuk Mevsim, Bakımlı",0.01,0,0,0,0,0,"Kıl Kalınlığı",null,null,"cm",0.6,0.67,1,0.67,"Erkek Buzağı",{"$f":"AB87","v":3.0536645041160266},null,null,null,null,null,null,null,null,null,27,null,null,null,null,null,null,null,null,null,null,null,null,null,null,null,null,{"$f":"MATCH(A14,BD3:BD423,0)","v":48},0.20100000000000001,0.49446000000000007,0.30954000000000004,53.265000000000008,0,11.824830000000002,1.1256000000000002,0.88440000000000007,25,45.8,0,"Çayır-Baklagil kUru Otu (Çayır OtuYoğun), Körpe <%51NDF",1,0.84299999999999997,1.8377399999999999,1.1296200000000001,155.11199999999999,null,51.031847999999997,4.7208000000000006,2.6132999999999997,41.1,49.6,0,"Çayır-Baklagil kUru Otu (Çayır OtuYoğun), Körpe <%51NDF",2.1800000000000002,1.34,84.3,18.399999999999999,49.6,41.1,32.9,0.56000000000000005,0.31]
["Melas, Şeker Pancarı",3,0,0,0,0,2,"Mevcut Çevre Isısı",null,null,"0C",5,-20,18,5,"90 gün < Buzağı-Tosun ",{"$f":"AC87","v":2.6945166280362933},null,null,null,null,null,null,null,null,null,null,null,null,null,null,null,null,null,null,null,null,null,null,null,null,null,null,{"$f":"MATCH(A15,BD3:BD424,0)","v":118},0.77900000000000003,2.2435200000000002,1.4333600000000002,66.215000000000003,0,9.7336050000000007,1.1685000000000001,0.23370000000000002,0.1,0.1,0,"Çayır-Baklagil Kuru Otu , Olgun> %50 NDF",1,0.84299999999999997,1.5511200000000001,0.92730000000000001,144.99599999999998,null,33.639071999999999,5.0579999999999998,3.0347999999999997,35.200000000000003,53.6,0,"Çayır-Baklagil Kuru Otu , Olgun> %50 NDF",1.84,1.1000000000000001,84.3,17.2,53.6,35.200000000000003,23.2,0.6,0.36]
["Arpa , Ezme",1.5,0,0,2.5,3.5154688067393027,10,"Önceden Maruz Kaldığı Çevre Isısı",null,null,"0C",5,5,5,18,"Besleme Ortası Canlı Ağırlık",{"$f":"AD87","v":0.14749324222014515},null,null,null,null,null,null,null,null,null,null,null,null,null,null,null,null,null,null,null,null,null,null,null,null,null,null,{"$f":"MATCH(A16,BD3:BD425,0)","v":114},0.91,2.6571999999999996,1.6926000000000001,112.84,0,20.424040000000002,0.54600000000000004,3.5490000000000004,7.2,20.8,0,"Çayır-Baklagil Kuru Otu, Olgun> %53 NDF",1,0.89700000000000002,1.6684200000000002,1.0046400000000002,163.25399999999999,null,27.589925999999995,10.405199999999999,3.2292000000000001,31.1,56,0,"Çayır-Baklagil Kuru Otu, Olgun> %53 NDF",1.86,1.1200000000000001,89.7,18.2,56,31.1,16.899999999999999,1.1599999999999999,0.36]
["Amonyum Fosfat (Dibazik), (NH4) 2HPO4",1,1.9581208119317853E-7,6.8988244002715415E-2,2.2645082662199542E-2,2.0224814716820052E-2,0.5,"Meradan Ahıra Olan Mesafe",null,null,"m",null,null,1000,null,"Bitiş Canlı Ağırlık",{"$f":"AE87","v":1.8901258440400077},null,null,null,null,null,null,null,null,"KM Tahmin",null,null,null,null,"Dişi Buzağı","Düve Başlangıç","Düve Besleme Ortası","Düve Bitiş",null,null,null,null,null,null,null,null,null,{"$f":"MATCH(A17,BD3:BD426,0)","v":218},1,0,0,1159,0,0,5.2,206,0,0,0,"Çayır-Baklagil Kuru Otu, Olgun> %57 NDF",1,0.84699999999999998,1.6262399999999999,0.98251999999999995,112.651,null,19.713925,9.1476000000000006,2.9645000000000001,30.8,62.5,0,"Çayır-Baklagil Kuru Otu, Olgun> %57 NDF",1.92,1.1599999999999999,84.7,13.3,62.5,30.8,17.5,1.08,0.35]
["Kalsiyum Karbonat, CaCO3",1,0,5.4031233696375039E-2,4.3118807820025737E-2,5.6955278228026519E-2,0.5,"Meradan Ahıra Günlük Seyahat Sayısı",null,null,"adet",null,null,2,null,"GENEL",{"$f":"AF87","v":1.2449238503827076},null,null,"YPMP","BüyümeMP","GebelikMP","GebelikMP2","YPME","toplamMP","Sabit",-0.29125003661431698,null,null,"yemmph",{"$f":"C25*36.5","v":228.94530932893647},{"$f":"F25*36.5","v":527.68001559822414},{"$f":"I25*36.5","v":693.66425000000004},{"$f":"L25*36.5","v":1018.8939654218965},null,null,null,null,null,null,null,null,null,{"$f":"MATCH(A18,BD3:BD427,0)","v":230},1,0,0,0,0,0,390,0.4,0,0,0,"Çayır-Baklagil Kuru Otu, Orta Olgun, %47-53 NDF",1,0.85299999999999998,1.7486499999999998,1.0662499999999999,156.95199999999997,null,28.565263999999992,8.7005999999999997,2.9002000000000003,31.8,50.8,0,"Çayır-Baklagil Kuru Otu, Orta Olgun, %47-53 NDF",2.0499999999999998,1.25,85.3,18.399999999999999,50.8,31.8,18.2,1.02,0.34]
["Süt",2,4.4000000000000004,null,null,null,"Merada otluyormu?",null,null,null,null,"hayır","hayır","evet","hayır","BİRİM YEM KM MALİYETİ (TL)",null,null,"Başlangıç",{"$f":"3.8*POWER(M3,0.75)","v":154.66057603354628},{"$f":"(M4+0.001)/1000*(268-(29.4*0.0635*POWER((0.96*0.891*(478/(0.96*M3))*(0.96*M3-20)),3/4)*POWER((0.956*((M4+0.001)/1000)),1.097)/((M4+0.001)/1000)))/0.28908","v":373.59767924621332},null,null,{"$f":"0.14*(POWER((M3),3/4))","v":5.6980212222885482},{"$f":"T19+U19+W19","v":528.25825527975962},"ma",9.7714507231305536E-2,null,null,"yemmphp",{"$f":"(C27-C30)","v":337.85485408285058},{"$f":"(F27-F30)","v":450.84729371252149},{"$f":"(I27-I30)","v":1293.2898008054894},{"$f":"L27-L30","v":776.25486867746008},null,null,null,null,null,null,null,null,null,{"$f":"MATCH(A19,BD212,0)","v":1},{"$f":"(INDEX($BF$212,AR19))","v":0.125},{"$f":"(INDEX($BG$212,AR19))","v":0.67125000000000001},{"$f":"(INDEX($BH$212,AR19))","v":0.60412500000000002},{"$f":"INDEX($BI$212,AR19)","v":31.75},{"$f":"INDEX($BJ$212,AR19)","v":0},{"$f":"INDEX($BK$212,AR19)","v":0},{"$f":"INDEX($BL$212,AR19)","v":1.25},{"$f":"INDEX($BM$212,AR19)","v":0.9375},{"$f":"INDEX($BN$212,AR19)","v":0},{"$f":"INDEX($BO$212,AR19)","v":0},{"$f":"INDEX($BP$212,AR19)","v":9230},"Çayır-Baklagil Silajı, Orta Olgun> %51-57 NDF",1,0.873,1.8071099999999998,1.09998,151.90199999999999,null,42.988265999999996,9.2538,2.8809,42.1,55.1,0,"Çayır-Baklagil Silajı, Orta Olgun> %51-57 NDF",2.0699999999999998,1.26,87.3,17.399999999999999,55.1,42.1,28.3,1.06,0.33]
["Süt İkamesi, 18 HP, 20 YAĞ",1,0,null,null,null,"Mera eğimi  varmı?",null,null,null,null,"yok","yok","yok","yok","Erkek Buzağı",{"$f":"AH87","v":3.1823314847161703},null,"Orta",{"$f":"3.8*POWER(N3,0.75)","v":260.80345267063791},{"$f":"(N4+0.001)/1000*(268-(29.4*0.0635*POWER((0.96*0.891*(478/(0.96*N3))*(0.96*N3-20)),3/4)*POWER((0.956*((N4+0.001)/1000)),1.097)/((N4+0.001)/1000)))/0.28908","v":399.53747808529477},null,null,{"$f":"0.14*(POWER((N3),3/4))","v":9.608548256286662},{"$f":"T20+U20+W20","v":660.34093075593273},"gcaa",0.34523809523809562,null,null,null,null,null,null,null,null,null,null,null,null,null,null,null,null,{"$f":"MATCH(A20,BD212:BD219,0)","v":2},{"$f":"(INDEX($BF$212:$BF$219,AR20))","v":0.125},{"$f":"(INDEX($BG$212:$BG$219,AR20))","v":0.59},{"$f":"(INDEX($BH$212:$BH$219,AR20))","v":0.53100000000000003},{"$f":"INDEX($BI$212:$BI$219,AR20)","v":22.5},{"$f":"INDEX($BJ$212:$BJ$219,AR20)","v":0},{"$f":"INDEX($BK$212:$BK$219,AR20)","v":0},{"$f":"INDEX($BL$212:$BL$219,AR20)","v":1.25},{"$f":"INDEX($BM$212:$BM$219,AR20)","v":0.875},{"$f":"INDEX($BN$212:$BN$219,AR20)","v":0},{"$f":"INDEX($BO$212:$BO$219,AR20)","v":0},{"$f":"INDEX($BP$212:$BP$219,AR20)","v":9000},"Çayır-Baklagil Silajı, Orta Olgun> %44-50 NDF",1,0.84199999999999997,1.7008400000000001,1.03566,160.82200000000003,null,42.457008000000002,9.8513999999999999,2.7786,41.6,47.2,0,"Çayır-Baklagil Silajı, Orta Olgun> %44-50 NDF",2.02,1.23,84.2,19.100000000000001,47.2,41.6,26.4,1.17,0.33]
[null,"Erkek Buzağı",null,null,"90 gün < Buzağı-Tosun  Başlangıç",null,null,"90 gün < Buzağı-Tosun  Besleme Ortası",null,null,"90 gün < Buzağı-Tosun Bitiş",null,null,"90 gün buzağı CA (kg)",{"$f":"K1+L4*L5/1000","v":89},"90 gün < Buzağı-Tosun ",{"$f":"AI87","v":3.491007756514068},null,"Bitiş",{"$f":"3.8*POWER(O3,0.75)","v":359.45253372894314},{"$f":"(O4+0.001)/1000*(268-(29.4*0.0635*POWER((0.96*0.891*(478/(0.96*O3))*(0.96*O3-20)),3/4)*POWER((0.956*((O4+0.001)/1000)),1.097)/((O4+0.001)/1000)))/0.28908","v":454.72812435010081},null,null,{"$f":"0.14*(POWER((O3),3/4))","v":13.242988084750538},{"$f":"T21+U21+W21","v":814.18065807904395},null,null,null,null,null,null,null,null,null,null,null,null,null,null,null,null,null,null,null,null,null,null,null,null,null,null,null,null,null,null,"Fiğ Kuru Otu",1,0.91,1.9565000000000001,1.2285000000000001,159.25,null,28.028000000000002,12.467000000000002,2.73,31.4,42.9,0,"Fiğ Kuru Otu",2.15,1.35,91,17.5,42.9,31.4,17.600000000000001,1.37,0.3]
[null,"İHTİYAÇ","RASYON",null,"İHTİYAÇ","RASYON",null,"İHTİYAÇ","RASYON",null,"İHTİYAÇ","RASYON",null,null,null,"Besleme Ortası Canlı Ağırlık",{"$f":"AJ87","v":0.15707644233727669},null,null,null,null,null,null,null,null,null,null,null,null,null,null,null,null,null,null,null,null,null,null,null,null,null,null,null,null,null,null,null,null,null,null,null,null,null,null,"Fiğ Kuru Otu, Erken Biçim",1,0.91,2.1111999999999997,1.2557999999999998,184.73,null,32.512480000000004,12.467000000000002,2.73,31.4,42.9,0,"Fiğ Kuru Otu, Erken Biçim",2.3199999999999998,1.38,91,20.3,42.9,31.4,17.600000000000001,1.37,0.3]
[null,null,null,null,null,null,null,null,null,null,null,null,null,"Tosun başlangıç CA (kg)",{"$f":"O21+M4*M5/1000","v":191},"Bitiş Canlı Ağırlık",{"$f":"AK87","v":2.4028001175282152},null,null,null,null,null,null,null,null,null,null,null,null,null,null,null,null,null,null,null,null,null,null,null,null,"Dişi Buzağı","Düve Başlangıç","Düve Besleme Ortası","Düve Bitiş",null,null,null,null,null,null,null,null,null,null,"Fiğ Kuru Otu, Geç Biçim",1,0.91,1.8018000000000001,1.1830000000000001,146.51000000000002,null,22.855560000000001,12.467000000000002,2.73,31.4,42.9,0,"Fiğ Kuru Otu, Geç Biçim",1.98,1.3,91,16.100000000000001,42.9,31.4,15.6,1.37,0.3]
["KM (kg/gün)",{"$f":"(V29/4.75)*(1-IF(L15<-5,L15*0.006,0))","v":1.2347261480539471},{"$f":"C3*AS3+C4*AS4+C5*AS5+C6*AS6+C7*AS7+C8*AS8+C9*AS9+C10*AS10+C11*AS11+C12*AS12+C13*AS13+C14*AS14+C15*AS15+C16*AS16+C17*AS17+C18*AS18+C19*AS19+C20*AS20","v":1.2474733767621624},{"$f":"IF(AP24<$AQ$37,$AR$39,IF(AND(AP24>$AQ$38),$AR$38,IF(AND(AP24=$AQ$38),$AR$37,IF(AND(AP24=$AQ$37),$AR$37,IF(AND(AP24<$AQ$38,AP24>$AQ$37),$AR$37,0)))))","v":"TAMAM"},{"$f":"(AA18+AA19*POWER(M3,3/4)+AA20*M4/1000)*(1-IF(M15<-5,M15*0.006,0))","v":4.4567013130942055},{"$f":"D3*AS3+D4*AS4+D5*AS5+D6*AS6+D7*AS7+D8*AS8+D9*AS9+D10*AS10+D11*AS11+D12*AS12+D13*AS13+D14*AS14+D15*AS15+D16*AS16+D17*AS17+D18*AS18+D19*AS19+D20*AS20","v":4.4567022007175749},{"$f":"IF(AQ24<$AQ$37,$AR$39,IF(AND(AQ24>$AQ$38),$AR$38,IF(AND(AQ24=$AQ$38),$AR$37,IF(AND(AQ24=$AQ$37),$AR$37,IF(AND(AQ24<$AQ$38,AQ24>$AQ$37),$AR$37,0)))))","v":"TAMAM"},{"$f":"(AA18+AA19*POWER(N3,3/4)+AA20*N4/1000)*(1-IF(N15<-5,N15*0.006,0))","v":6.7603777591328589},{"$f":"E3*AS3+E4*AS4+E5*AS5+E6*AS6+E7*AS7+E8*AS8+E9*AS9+E10*AS10+E11*AS11+E12*AS12+E13*AS13+E14*AS14+E15*AS15+E16*AS16+E17*AS17+E18*AS18+E19*AS19+E20*AS20","v":7.365763890482226},{"$f":"IF(AR24<$AQ$37,$AR$39,IF(AND(AR24>$AQ$38),$AR$38,IF(AND(AR24=$AQ$38),$AR$37,IF(AND(AR24=$AQ$37),$AR$37,IF(AND(AR24<$AQ$38,AR24>$AQ$37),$AR$37,0)))))","v":"TAMAM"},{"$f":"(AA18+AA19*POWER(O3,3/4)+AA20*O4/1000)*(1-IF(O15<-5,O15*0.006,0))","v":9.3661217846103213},{"$f":"F3*AS3+F4*AS4+F5*AS5+F6*AS6+F7*AS7+F8*AS8+F9*AS9+F10*AS10+F11*AS11+F12*AS12+F13*AS13+F14*AS14+F15*AS15+F16*AS16+F17*AS17+F18*AS18+F19*AS19+F20*AS20","v":9.366121784610403},{"$f":"IF(AS24<$AQ$37,$AR$39,IF(AND(AS24>$AQ$38),$AR$38,IF(AND(AS24=$AQ$38),$AR$37,IF(AND(AS24=$AQ$37),$AR$37,IF(AND(AS24<$AQ$38,AS24>$AQ$37),$AR$37,0)))))","v":"TAMAM"},null,null,"GENEL",{"$f":"AL87","v":1.411854628459575},null,null,null,null,null,null,null,null,0.34523809523809562,"ME sıcaklık stres",null,null,null,"önceki sıcaklık NE",null,null,null,null,null,null,null,null,null,null,{"$f":"C24/$B24","v":1.010323931932847},{"$f":"F24/E24","v":1.000000199165999},{"$f":"I24/H24","v":1.0895491572984257},{"$f":"L24/K24","v":1.0000000000000087},null,null,null,null,null,null,null,null,null,null,"Karışık Çayır-Baklagil Kuru Otu,Körpe<%47NDF",1,0.83099999999999996,1.8281999999999998,1.12185,163.70699999999999,null,29.303552999999997,9.9719999999999978,2.5760999999999998,30.8,45.4,0,"Karışık Çayır-Baklagil Kuru Otu,Körpe<%47NDF",2.2000000000000002,1.35,83.1,19.7,45.4,30.8,17.899999999999999,1.2,0.31]
["ME (Mcal/gün)",{"$f":"W29","v":6.2724742281900436},{"$f":"C3*AT3+C4*AT4+C5*AT5+C6*AT6+C7*AT7+C8*AT8+C9*AT9+C10*AT10+C11*AT11+C12*AT12+C13*AT13+C14*AT14+C15*AT15+C16*AT16+C17*AT17+C18*AT18+C19*AT19+C20*AT20","v":6.2724742281900401},{"$f":"IF(AP25<$AQ$37,$AR$39,IF(AND(AP25>$AQ$38),$AR$38,IF(AND(AP25=$AQ$38),$AR$37,IF(AND(AP25=$AQ$37),$AR$37,IF(AND(AP25<$AQ$38,AP25>$AQ$37),$AR$37,0)))))","v":"TAMAM"},{"$f":"W26","v":16.86559590309022},{"$f":"D3*AT3+D4*AT4+D5*AT5+D6*AT6+D7*AT7+D8*AT8+D9*AT9+D10*AT10+D11*AT11+D12*AT12+D13*AT13+D14*AT14+D15*AT15+D16*AT16+D17*AT17+D18*AT18+D19*AT19+D20*AT20","v":14.456986728718471},"EKSİK",{"$f":"W27","v":19.779668549813653},{"$f":"E3*AT3+E4*AT4+E5*AT5+E6*AT6+E7*AT7+E8*AT8+E9*AT9+E10*AT10+E11*AT11+E12*AT12+E13*AT13+E14*AT14+E15*AT15+E16*AT16+E17*AT17+E18*AT18+E19*AT19+E20*AT20","v":19.0045},{"$f":"IF(AR25<$AQ$37,$AR$39,IF(AND(AR25>$AQ$38),$AR$38,IF(AND(AR25=$AQ$38),$AR$37,IF(AND(AR25=$AQ$37),$AR$37,IF(AND(AR25<$AQ$38,AR25>$AQ$37),$AR$37,0)))))","v":"TAMAM"},{"$f":"W28","v":31.593009985687985},{"$f":"F3*AT3+F4*AT4+F5*AT5+F6*AT6+F7*AT7+F8*AT8+F9*AT9+F10*AT10+F11*AT11+F12*AT12+F13*AT13+F14*AT14+F15*AT15+F16*AT16+F17*AT17+F18*AT18+F19*AT19+F20*AT20","v":27.914903162243739},{"$f":"IF(AS25<$AQ$37,$AR$39,IF(AND(AS25>$AQ$38),$AR$38,IF(AND(AS25=$AQ$38),$AR$37,IF(AND(AS25=$AQ$37),$AR$37,IF(AND(AS25<$AQ$38,AS25>$AQ$37),$AR$37,0)))))","v":"EKSİK"},"Tosun Orta CA(kg)",{"$f":"O23+N4*N5/1000","v":371},"TOSUN NET GELİR (TL)",null,null,null,null,null,"ME","Metoplam","Netoplam","NEcak","NEm",28,31,"Sıcaklık stres","SCSTME",null,null,null,null,null,null,null,null,null,null,null,{"$f":"C25/$B25","v":0.99999999999999944},{"$f":"F25/E25","v":0.85718801824663493},{"$f":"I25/H25","v":0.96080983117277985},{"$f":"L25/K25","v":0.88357846165621845},null,null,null,null,null,null,null,null,null,null,"Köpek Dişi (Bermudagrass) Kuru Otu, Başak, Başı",1,0.871,1.5068299999999999,0.88841999999999999,90.583999999999989,null,25.001183999999999,4.2678999999999991,2.3517000000000001,36.799999999999997,73.3,0,"Köpek Dişi (Bermudagrass) Kuru Otu, Başak, Başı",1.73,1.02,87.1,10.4,73.3,36.799999999999997,27.6,0.49,0.27]
["NE (Mcal/gün)",{"$f":"X29","v":4.0681827187953967},{"$f":"C3*AU3+C4*AU4+C5*AU5+C6*AU6+C7*AU7+C8*AU8+C9*AU9+C10*AU10+C11*AU11+C12*AU12+C13*AU13+C14*AU14+C15*AU15+C16*AU16+C17*AU17+C18*AU18+C19*AU19+C20*AU20","v":5.1132089370879044},{"$f":"IF(AP26<$AQ$37,$AR$39,IF(AND(AP26>$AQ$38),$AR$38,IF(AND(AP26=$AQ$38),$AR$37,IF(AND(AP26=$AQ$37),$AR$37,IF(AND(AP26<$AQ$38,AP26>$AQ$37),$AR$37,0)))))","v":"FAZLA"},{"$f":"X26","v":9.9565569355030306},{"$f":"D3*AU3+D4*AU4+D5*AU5+D6*AU6+D7*AU7+D8*AU8+D9*AU9+D10*AU10+D11*AU11+D12*AU12+D13*AU13+D14*AU14+D15*AU15+D16*AU16+D17*AU17+D18*AU18+D19*AU19+D20*AU20","v":9.9565559355030313},{"$f":"IF(AQ26<$AQ$37,$AR$39,IF(AND(AQ26>$AQ$38),$AR$38,IF(AND(AQ26=$AQ$38),$AR$37,IF(AND(AQ26=$AQ$37),$AR$37,IF(AND(AQ26<$AQ$38,AQ26>$AQ$37),$AR$37,0)))))","v":"TAMAM"},{"$f":"X27","v":11.649471179708572},{"$f":"E3*AU3+E4*AU4+E5*AU5+E6*AU6+E7*AU7+E8*AU8+E9*AU9+E10*AU10+E11*AU11+E12*AU12+E13*AU13+E14*AU14+E15*AU15+E16*AU16+E17*AU17+E18*AU18+E19*AU19+E20*AU20","v":11.970000000000002},"TAMAM",{"$f":"X28","v":18.577434903277059},{"$f":"F3*AU3+F4*AU4+F5*AU5+F6*AU6+F7*AU7+F8*AU8+F9*AU9+F10*AU10+F11*AU11+F12*AU12+F13*AU13+F14*AU14+F15*AU15+F16*AU16+F17*AU17+F18*AU18+F19*AU19+F20*AU20","v":18.577435903277056},"TAMAM",null,null,null,null,null,null,null,"Başlangıç",{"$f":"0.14*(POWER(M3,3/4))","v":5.6980212222885482},{"$f":"V26+AD26+AE26/AC34+IF(M17>0,AE34/AC34,0)+AG34/AC34+AD39+Y26/AC34","v":16.86559590309022},{"$f":"Z26+Y26+AE26+AD34+IF(M17>0,AE34,0)+AG34+AG39","v":9.9565569355030306},{"$f":"0.0557*POWER(M3,3/4)*POWER(M4/1000,1.097)","v":1.8968097941140767},{"$f":"0.08*POWER(M3,3/4)","v":3.2560121270220272},{"$f":"Z26*AC26/AC34","v":0.37986808148590323},{"$f":"Z26*AC27/AC34","v":0.97680363810660809},7.0000000000000007E-2,{"$f":"IF(M15<$AA$34,$AB$34,IF(AND(M15=$AA$25),$AA$26,IF(AND($AA$25<M15,M15<$AB$25),$AA$26,IF(AND($AB$25=M15),$AB$26,IF(AND(M15>$AB$25),$AB$26,0)))))","v":7.2939723711588087},{"$f":"(0.0007*(20-M16))*POWER(M3,0.75)","v":0.42735159167164105},null,null,null,null,null,null,null,null,null,null,1.256877896232238,{"$f":"F26/E26","v":0.99999989956367386},{"$f":"I26/H26","v":1.0275144524027613},{"$f":"L26/K26","v":1.0000000538287446},null,null,null,null,null,null,null,null,null,null,"Köpek Dişi (Bermudagrass,Tifton-85) Kuru Otu, 3-4",1,0.873,1.6237800000000002,0.97776000000000007,119.601,null,32.770674,3.4046999999999996,1.9205999999999999,36.200000000000003,76.900000000000006,0,"Köpek Dişi (Bermudagrass,Tifton-85) Kuru Otu, 3-4",1.86,1.1200000000000001,87.3,13.7,76.900000000000006,36.200000000000003,27.4,0.39,0.22]
["HP (g/gün)",{"$f":"6.25*((1/0.7)*(0.2*POWER(L3,0.75)+L4/1000*30+3.3*B24)-3.3*B24)/0.75","v":337.8548540828528},{"$f":"C3*AV3+C4*AV4+C5*AV5+C6*AV6+C7*AV7+C8*AV8+C9*AV9+C10*AV10+C11*AV11+C12*AV12+C13*AV13+C14*AV14+C15*AV15+C16*AV16+C17*AV17+C18*AV18+C19*AV19+C20*AV20","v":337.85485408285058},{"$f":"IF(AP27<$AQ$37,$AR$39,IF(AND(AP27>$AQ$38),$AR$38,IF(AND(AP27=$AQ$38),$AR$37,IF(AND(AP27=$AQ$37),$AR$37,IF(AND(AP27<$AQ$38,AP27>$AQ$37),$AR$37,0)))))","v":"TAMAM"},{"$f":"E30+E29","v":671.51496125892618},{"$f":"D3*AV3+D4*AV4+D5*AV5+D6*AV6+D7*AV7+D8*AV8+D9*AV9+D10*AV10+D11*AV11+D12*AV12+D13*AV13+D14*AV14+D15*AV15+D16*AV16+D17*AV17+D18*AV18+D19*AV19+D20*AV20","v":712.69169888400802},"TAMAM",{"$f":"H30+H29","v":851.30322878909533},{"$f":"E3*AV3+E4*AV4+E5*AV5+E6*AV6+E7*AV7+E8*AV8+E9*AV9+E10*AV10+E11*AV11+E12*AV12+E13*AV13+E14*AV14+E15*AV15+E16*AV16+E17*AV17+E18*AV18+E19*AV19+E20*AV20","v":1639.9706508054896},"FAZLA",{"$f":"K30+K29","v":1153.1548644776115},{"$f":"F3*AV3+F4*AV4+F5*AV5+F6*AV6+F7*AV7+F8*AV8+F9*AV9+F10*AV10+F11*AV11+F12*AV12+F13*AV13+F14*AV14+F15*AV15+F16*AV16+F17*AV17+F18*AV18+F19*AV19+F20*AV20","v":1078.0935610791357},"TAMAM","Tosun son CA (kg)",{"$f":"O25+O5*O4/1000","v":491},{"$f":"SUM(HESAP!GN10:GN13)","v":148236.74274036917},null,null,null,null,"Orta",{"$f":"0.14*(POWER(N3,3/4))","v":9.608548256286662},{"$f":"V27+AD27+AE27/AC35+IF(N17>0,AE35/AC35,0)+AG35/AC35+AD40+Y27/AC35","v":19.779668549813653},{"$f":"Z27+Y27+AE27+AD35+IF(N17>0,AE35,0)+AG35+AG40","v":11.649471179708572},{"$f":"0.0557*POWER(N3,3/4)*POWER(N4/1000,1.097)","v":3.8228295562511927},{"$f":"0.08*POWER(N3,3/4)","v":5.4905990035923775},{"$f":"Z27*AC26/AC34","v":0.64056988375244417},{"$f":"Z27*AC27/AC34","v":1.6471797010777132},0.18,{"$f":"IF(N15<$AA$35,$AB$35,IF(AND(N15=$AA$25),$AA$27,IF(AND($AA$25<N15,N15<$AB$25),$AA$27,IF(AND($AB$25=N15),$AB$27,IF(AND(N15>$AB$25),$AB$27,0)))))","v":0.77216916773917199},{"$f":"(0.0007*(20-N16))*POWER(N3,0.75)","v":0.72064111922149965},null,null,null,null,null,null,null,null,null,null,0.99999999999999345,1.061319166363599,1.926423623622578,0.93490787255840169,null,null,null,null,null,null,null,null,null,null,"Mercimek Samanı",1,0.92900000000000005,1.6629100000000003,0.83610000000000018,65.03,null,32.515000000000001,21.459900000000001,1.3006000000000002,39.799999999999997,60.6,0,"Mercimek Samanı",1.79,0.9,92.9,7,60.6,39.799999999999997,50,2.31,0.14000000000000001]
["Metabolik Protein",null,null,null,{"$f":"Y19","v":528.25825527975962},{"$f":"F29*0.8+F30*0.64","v":528.25825427976861},"TAMAM",{"$f":"Y20","v":660.34093075593273},{"$f":"I29*0.8+I30*0.64","v":776.80714400000011},"FAZLA",{"$f":"Y21","v":814.18065807904395},{"$f":"L29*0.8+L30*0.64","v":814.18065807904054},{"$f":"IF(AS28<$AQ$37,$AR$39,IF(AND(AS28>$AQ$38),$AR$38,IF(AND(AS28=$AQ$38),$AR$37,IF(AND(AS28=$AQ$37),$AR$37,IF(AND(AS28<$AQ$38,AS28>$AQ$37),$AR$37,0)))))","v":"TAMAM"},null,null,null,null,null,null,null,"Bitiş",{"$f":"0.14*(POWER(O3,3/4))","v":13.242988084750538},{"$f":"V28+AD28+AE28/AC36+IF(O17>0,AE36/AC36,0)+AG36/AC36+AD41+Y28/AC36","v":31.593009985687985},{"$f":"Z28+Y28+AE28+AD36+IF(O17>0,AE36,0)+AG36+AG41","v":18.577434903277059},{"$f":"0.0557*POWER(O3,3/4)*POWER(O4/1000,1.097)","v":6.4353915320069213},{"$f":"0.08*POWER(O3,3/4)","v":7.5674217627145923},{"$f":"Z28*AC26/AC35","v":0.88286587231670255},{"$f":"Z28*AC27/AC35","v":2.2702265288143777},null,{"$f":"IF(O15<$AA$36,$AB$36,IF(AND(O15=$AA$25),$AA$28,IF(AND($AA$25<O15,O15<$AB$25),$AA$28,IF(AND($AB$25=O15),$AB$28,IF(AND(O15>$AB$25),$AB$28,0)))))","v":7.4036528795134027},{"$f":"(0.0007*(20-O16))*POWER(O3,0.75)","v":0.13242988084750537},null,null,null,null,null,null,null,null,null,null,{"$error":"#DIV/0!"},0.99999999810700357,1.1763728519913816,0.99999999999999578,null,null,null,null,null,null,null,null,null,null,"Nohut Samanı",1,0.90400000000000003,1.3198400000000001,0.74128000000000005,48.81600000000001,null,24.408000000000005,8.4976000000000003,1.4464000000000001,46.9,65.599999999999994,0,"Nohut Samanı",1.46,0.82,90.4,5.4,65.599999999999994,46.9,50,0.94,0.16]
["Rumende Yıkılabilir protein (g/gün)",null,null,null,{"$f":"E25*36.5","v":615.59425046279307},{"$f":"IF(AF18<AF19,AF18,AF19)","v":450.84729371252149},"EKSİK",{"$f":"H25*36.5","v":721.95790206819834},{"$f":"IF(AG18<AG19,AG18,AG19)","v":693.66425000000004},"TAMAM",{"$f":"K25*36.5","v":1153.1448644776115},{"$f":"IF(AH18<AH19,AH18,AH19)","v":776.25486867746008},"EKSİK","NET GELİR (TL)",null,null,null,null,null,null,"Buzağı",{"$f":"0.086*POWER(L3,3/4)/0.75+0.84*POWER(L3,0.355)*POWER(L4/1000,1.2)*0.69/0.57","v":5.8649492032562485},{"$f":"V29+AD29+AE29/AC37+IF(L17>0,AE37/AC37,0)+AG37/AC37+AD42","v":6.2724742281900436},{"$f":"Z29+Y29+AE29+AD37+IF(L17>0,AE37,0)+AG37+AG42","v":4.0681827187953967},{"$f":"0.84*POWER(L3,0.355)*POWER(L4/1000,1.2)*0.69","v":1.8209732955890423},{"$f":"0.086*POWER(L3,3/4)","v":2.0026944082460774},{"$f":"Z29*AC26/AC36","v":0.23364768096204239},{"$f":"Z29*AC27/AC36","v":0.60080832247382321},null,{"$f":"IF(L15<$AA$37,$AB$37,IF(AND(L15=$AA$25),$AA$29,IF(AND($AA$25<L15,L15<$AB$25),$AA$29,IF(AND($AB$25=L15),$AB$29,IF(AND(L15>$AB$25),$AB$29,0)))))","v":0},{"$f":"(0.0007*(20-L16))*POWER(L3,0.75)","v":0.24451501496027692},null,null,null,null,null,null,null,null,null,null,{"$error":"#DIV/0!"},0.73237736280607291,0.96080983117277996,0.67316335751892964,null,null,null,null,null,null,null,null,null,null,"Sorgum, Sudan Kuru Otu",1,0.86499999999999999,1.5310499999999998,0.90825,81.31,null,33.66234,4.6710000000000003,1.73,40,64.8,0,"Sorgum, Sudan Kuru Otu",1.77,1.05,86.5,9.4,64.8,40,41.4,0.54,0.2]
["Rumende Yıkıma Dirençli Protein (g/gün)",null,null,null,{"$f":"IF((E28-E29*0.8)/0.64>0,(E28-E29*0.8)/0.64,0)+0.01","v":55.920710796133051},{"$f":"D3*AX3+D4*AX4+D5*AX5+D6*AX6+D7*AX7+D8*AX8+D9*AX9+D10*AX10+D11*AX11+D12*AX12+D13*AX13+D14*AX14+D15*AX15+D16*AX16+D17*AX17+D18*AX18+D19*AX19+D20*AX20","v":261.84440517148653},"FAZLA",{"$f":"IF((H28-H29*0.8)/0.64>0,(H28-H29*0.8)/0.64,0)+0.01","v":129.34532672089694},{"$f":"E3*AX3+E4*AX4+E5*AX5+E6*AX6+E7*AX7+E8*AX8+E9*AX9+E10*AX10+E11*AX11+E12*AX12+E13*AX13+E14*AX14+E15*AX15+E16*AX16+E17*AX17+E18*AX18+E19*AX19+E20*AX20","v":346.68085000000008},"FAZLA",{"$f":"IF((K28-K29*0.8)/0.64>0,(K28-K29*0.8)/0.64,0)+0.01","v":0.01},{"$f":"F3*AX3+F4*AX4+F5*AX5+F6*AX6+F7*AX7+F8*AX8+F9*AX9+F10*AX10+F11*AX11+F12*AX12+F13*AX13+F14*AX14+F15*AX15+F16*AX16+F17*AX17+F18*AX18+F19*AX19+F20*AX20","v":301.83869240167564},"FAZLA",null,null,null,null,null,null,null,null,null,null,null,null,null,null,null,null,null,null,null,null,null,null,null,null,null,null,null,null,{"$error":"#DIV/0!"},4.6824226917658072,2.6802734879480621,30183.869240167565,null,null,null,null,null,null,null,null,null,null,"Yerfıstığı Sapı",1,0.89,1.7978000000000001,1.1125,97.9,null,27.803600000000003,10.946999999999999,1.5130000000000001,35,60,0,"Yerfıstığı Sapı",2.02,1.25,89,11,60,35,28.4,1.23,0.17]
["Ca (g/gün)",null,null,null,{"$f":"-0.0035*M3+0.02*M4+11.9","v":28.410000000000004},{"$f":"D3*AY3+D4*AY4+D5*AY5+D6*AY6+D7*AY7+D8*AY8+D9*AY9+D10*AY10+D11*AY11+D12*AY12+D13*AY13+D14*AY14+D15*AY15+D16*AY16+D17*AY17+D18*AY18+D19*AY19+D20*AY20","v":28.409999000000049},"TAMAM",{"$f":"-0.0035*N3+0.02*N4+11.9","v":30.916499999999999},{"$f":"E3*AY3+E4*AY4+E5*AY5+E6*AY6+E7*AY7+E8*AY8+E9*AY9+E10*AY10+E11*AY11+E12*AY12+E13*AY13+E14*AY14+E15*AY15+E16*AY16+E17*AY17+E18*AY18+E19*AY19+E20*AY20","v":46.439089479653475},"FAZLA",{"$f":"-0.0035*O3+0.02*O4+11.9","v":34.391500000000001},{"$f":"F3*AY3+F4*AY4+F5*AY5+F6*AY6+F7*AY7+F8*AY8+F9*AY9+F10*AY10+F11*AY11+F12*AY12+F13*AY13+F14*AY14+F15*AY15+F16*AY16+F17*AY17+F18*AY18+F19*AY19+F20*AY20","v":34.39149999999993},"TAMAM",{"$f":"'NET GELİR'!E7","v":560375.49766731751},null,null,null,null,null,null,null,null,null,null,null,null,null,null,null,null,null,null,null,"var","var",null,null,null,null,null,null,{"$error":"#DIV/0!"},0.99999996480112796,1.5020810725552205,0.99999999999999789,null,null,null,null,null,null,null,null,null,null,"Yonca Kuru Otu, 1. Kalite >%21 HP,     <%37 NDF",1,0.84599999999999997,1.7427599999999999,1.0659599999999998,192.80339999999998,null,37.789466400000002,11.928599999999999,1.8611999999999997,27.2,36.799999999999997,0,"Yonca Kuru Otu, 1. Kalite >%21 HP,     <%37 NDF",2.06,1.26,84.6,22.79,36.799999999999997,27.2,19.600000000000001,1.41,0.22]
["P (g/gün)",null,null,null,{"$f":"0.022*M3+0.0066*M4+3.73","v":12.42},{"$f":"D3*AZ3+D4*AZ4+D5*AZ5+D6*AZ6+D7*AZ7+D8*AZ8+D9*AZ9+D10*AZ10+D11*AZ11+D12*AZ12+D13*AZ13+D14*AZ14+D15*AZ15+D16*AZ16+D17*AZ17+D18*AZ18+D19*AZ19+D20*AZ20+AC1","v":28.410000070976018},"FAZLA",{"$f":"0.022*N3+0.0066*N4+3.73","v":16.512},{"$f":"E3*AZ3+E4*AZ4+E5*AZ5+E6*AZ6+E7*AZ7+E8*AZ8+E9*AZ9+E10*AZ10+E11*AZ11+E12*AZ12+E13*AZ13+E14*AZ14+E15*AZ15+E16*AZ16+E17*AZ17+E18*AZ18+E19*AZ19+E20*AZ20+AC1","v":35.664634551551117},"FAZLA",{"$f":"0.022*O3+0.0066*O4+3.73","v":21.132000000000001},{"$f":"F3*AZ3+F4*AZ4+F5*AZ5+F6*AZ6+F7*AZ7+F8*AZ8+F9*AZ9+F10*AZ10+F11*AZ11+F12*AZ12+F13*AZ13+F14*AZ14+F15*AZ15+F16*AZ16+F17*AZ17+F18*AZ18+F19*AZ19+F20*AZ20+AC1","v":34.391500000000036},"FAZLA",null,null,null,null,null,null,null,null,null,null,null,null,null,null,null,null,null,null,null,null,"yok","yok",null,null,null,null,null,null,{"$error":"#DIV/0!"},2.2874396192412254,2.1599221506511093,1.6274607230740126,null,null,null,null,null,null,null,null,null,null,"Yonca Kuru Otu, 2. Kalite  %19-21 HP, <%37-40 NDF",1,0.87970000000000004,1.741806,1.0556399999999999,177.6994,null,51.710525400000009,12.403769999999998,1.9353400000000001,29.4,39.6,0,"Yonca Kuru Otu, 2. Kalite  %19-21 HP, <%37-40 NDF",1.98,1.2,87.97,20.2,39.6,29.4,29.1,1.41,0.22]
["Ca/P",null,null,null,"1:1-1:2",{"$f":"F31/F32","v":0.99999996230285226},{"$f":"IF(F33<$AA$9,$AB$10,IF(AND(F33>$AA$10),$AB$9,IF(AND(F33=$AA$9),$AB$8,IF(AND(F33=$AA$10),$AB$8,IF(AND(F33<$AA$10,F33>$AA$9),$AB$8,0)))))","v":"EKSİK"},"1:1-1:2",{"$f":"I31/I32","v":1.3021047338233207},{"$f":"IF(I33<$AA$9,$AB$10,IF(AND(I33>$AA$10),$AB$9,IF(AND(I33=$AA$9),$AB$8,IF(AND(I33=$AA$10),$AB$8,IF(AND(I33<$AA$10,I33>$AA$9),$AB$8,0)))))","v":"TAMAM"},"1:1-1:2",{"$f":"L31/L32","v":0.99999999999999689},{"$f":"IF(L33<$AA$9,$AB$10,IF(AND(L33>$AA$10),$AB$9,IF(AND(L33=$AA$9),$AB$8,IF(AND(L33=$AA$10),$AB$8,IF(AND(L33<$AA$10,L33>$AA$9),$AB$8,0)))))","v":"EKSİK"},null,null,null,null,null,null,null,27,"SA","HP","EI","TI","INS","LCT","MECS","km","NEMcs","NE Mesafe","NE topoğrafya","eğim durumu",null,null,null,null,null,null,null,null,null,null,null,null,null,null,null,null,null,null,null,null,null,null,"Yonca Kuru Otu, 3. Kalite  %17-19 HP, <%40-44 NDF",1,0.9081999999999999,1.7528259999999998,1.0353479999999999,162.84026,null,51.131841640000005,12.44234,1.99804,32.299999999999997,43.4,0,"Yonca Kuru Otu, 3. Kalite  %17-19 HP, <%40-44 NDF",1.93,1.1399999999999999,90.82,17.93,43.4,32.299999999999997,31.4,1.37,0.22]
["ADF (% KM en az)",null,null,null,19,{"$f":"(D3*BA3+D4*BA4+D5*BA5+D6*BA6+D7*BA7+D8*BA8+D9*BA9+D10*BA10+D11*BA11+D12*BA12+D13*BA13+D14*BA14+D15*BA15+D16*BA16+D17*BA17+D18*BA18+D19*BA19+D20*BA20)/(D3+D4+D5+D6+D7+D8+D9+D10+D11+D12+D13+D14+D15+D16+D17+D18+D19+D20+AC1)","v":19.00000083921336},{"$f":"IF(F34<$AA$13,$AB$10,IF(AND(F34>$AA$13),$AB$8,IF(AND(F34=$AA$13),$AB$8,0)))","v":"TAMAM"},19,{"$f":"(E3*BA3+E4*BA4+E5*BA5+E6*BA6+E7*BA7+E8*BA8+E9*BA9+E10*BA10+E11*BA11+E12*BA12+E13*BA13+E14*BA14+E15*BA15+E16*BA16+E17*BA17+E18*BA18+E19*BA19+E20*BA20)/(E3+E4+E5+E6+E7+E8+E9+E10+E11+E12+E13+E14+E15+E16+E17+E18+E19+E20+AC1)","v":23.326035968180758},{"$f":"IF(I34<$AA$13,$AB$10,IF(AND(I34>$AA$13),$AB$8,IF(AND(I34=$AA$13),$AB$8,0)))","v":"TAMAM"},19,{"$f":"(F3*BA3+F4*BA4+F5*BA5+F6*BA6+F7*BA7+F8*BA8+F9*BA9+F10*BA10+F11*BA11+F12*BA12+F13*BA13+F14*BA14+F15*BA15+F16*BA16+F17*BA17+F18*BA18+F19*BA19+F20*BA20)/(F3+F4+F5+F6+F7+F8+F9+F10+F11+F12+F13+F14+F15+F16+F17+F18+F19+F20+AC1)","v":19.000000002230731},{"$f":"IF(L34<$AA$13,$AB$10,IF(AND(L34>$AA$13),$AB$8,IF(AND(L34=$AA$13),$AB$8,0)))","v":"TAMAM"},null,null,null,null,null,null,null,"Başlangıç",{"$f":"0.09*POWER((0.96*M3),0.67)","v":2.4003248399348935},{"$f":"((V26-Y26)/V34)","v":1.5836237516408718},{"$f":"((7.36-(0.296*M13)+2.55*M14))*U10*0.8","v":7.0180000000000007},{"$f":"5.1875+(0.3125*M11)","v":6.4375},{"$f":"X34+Y34","v":13.455500000000001},{"$f":"39-W34*Z34*0.85","v":20.887818018326811},{"$f":"V34*(AA34-M15)/Z34","v":7.2939723711588087},0.6,{"$f":"AD26*AC34","v":4.3763834226952847},{"$f":"((M17/1000)*M18)*(0.00045*M3)+(0.0012*M3)","v":0.16799999999999998},{"$f":"0.006*M3*M17*M18/1000","v":0},{"$f":"IF(AI34=AH31,AF34,0)","v":0},"İNDİS",{"$f":"INDEX(AH31:AH32,AK34)","v":"yok"},"SATIR",{"$f":"MATCH(M20,AI31:AI32,0)","v":2},null,null,null,null,null,null,null,null,null,null,null,null,null,null,null,null,null,null,"Yonca Kuru Otu, 4. Kalite  %15-17 HP, <%44-48 NDF",1,0.91269999999999996,1.679368,1.00397,146.76215999999997,null,46.963891199999992,10.861129999999999,2.19048,37.700000000000003,47.4,0,"Yonca Kuru Otu, 4. Kalite  %15-17 HP, <%44-48 NDF",1.84,1.1000000000000001,91.27,16.079999999999998,47.4,37.700000000000003,32,1.19,0.24]
["NDF (% KM en az)",null,null,null,27,{"$f":"(D3*BB3+D4*BB4+D5*BB5+D6*BB6+D7*BB7+D8*BB8+D9*BB9+D10*BB10+D11*BB11+D12*BB12+D13*BB13+D14*BB14+D15*BB15+D16*BB16+D17*BB17+D18*BB18+D19*BB19+D20*BB20)/(D3+D4+D5+D6+D7+D8+D9+D10+D11+D12+D13+D14+D15+D16+D17+D18+D19+D20+AC1)","v":34.480653186056841},{"$f":"IF(F35<$AA$14,$AB$10,IF(AND(F35>$AA$14),$AB$8,IF(AND(F35=$AA$14),$AB$8,0)))","v":"TAMAM"},27,{"$f":"(E3*BB3+E4*BB4+E5*BB5+E6*BB6+E7*BB7+E8*BB8+E9*BB9+E10*BB10+E11*BB11+E12*BB12+E13*BB13+E14*BB14+E15*BB15+E16*BB16+E17*BB17+E18*BB18+E19*BB19+E20*BB20)/(E3+E4+E5+E6+E7+E8+E9+E10+E11+E12+E13+E14+E15+E16+E17+E18+E19+E20+AC1)","v":43.423429321792177},{"$f":"IF(I35<$AA$14,$AB$10,IF(AND(I35>$AA$14),$AB$8,IF(AND(I35=$AA$14),$AB$8,0)))","v":"TAMAM"},27,{"$f":"(F3*BB3+F4*BB4+F5*BB5+F6*BB6+F7*BB7+F8*BB8+F9*BB9+F10*BB10+F11*BB11+F12*BB12+F13*BB13+F14*BB14+F15*BB15+F16*BB16+F17*BB17+F18*BB18+F19*BB19+F20*BB20)/(F3+F4+F5+F6+F7+F8+F9+F10+F11+F12+F13+F14+F15+F16+F17+F18+F19+F20+AC1)","v":35.623773584961469},{"$f":"IF(L35<$AA$14,$AB$10,IF(AND(L35>$AA$14),$AB$8,IF(AND(L35=$AA$14),$AB$8,0)))","v":"TAMAM"},null,null,null,null,null,null,null,"Orta",{"$f":"0.09*POWER((0.96*N3),0.67)","v":3.8282251308499484},{"$f":"((V27-Y27)/V35)","v":1.5113318841702799},{"$f":"((7.36-(0.296*N13)+2.55*N14))*U11*0.8","v":7.6912000000000011},{"$f":"5.1875+(0.3125*N11)","v":6.4375},{"$f":"X35+Y35","v":14.128700000000002},{"$f":"39-W35*Z35*0.85","v":20.849818426904857},{"$f":"V35*(AA35-N15)/Z35","v":0.77216916773917199},0.6,{"$f":"AD27*AC35","v":0.46330150064350317},{"$f":"((N17/1000)*N18)*(0.00045*N3)+(0.0012*N3)","v":0.59009999999999996},{"$f":"0.006*N3*N17*N18/1000","v":3.3719999999999999},{"$f":"IF(AI35=AH31,AF35,0)","v":0},"İNDİS",{"$f":"INDEX(AH31:AH32,AK35)","v":"yok"},"SATIR",{"$f":"MATCH(N20,AI31:AI32,0)","v":2},null,null,null,null,{"$f":"C35/$B35","v":{"$error":"#DIV/0!"}},{"$f":"F35/E35","v":1.2770612291132164},{"$f":"F35/E35","v":1.2770612291132164},{"$f":"L35/K35","v":1.3193990216652396},{"$f":"I35/H35","v":1.6082751600663769},{"$f":"#REF!/#REF!","v":{"$error":"#REF!"}},{"$f":"L35/K35","v":1.3193990216652396},{"$f":"N35/#REF!","v":{"$error":"#REF!"}},null,null,null,null,null,null,"Yonca Kuru Otu, 5. Kalite  %13-15 HP, <%48-54 NDF",1,0.91269999999999996,1.64286,0.97658900000000004,130.69864000000001,null,41.954263440000005,10.769859999999998,1.9166699999999999,41.8,52.7,0,"Yonca Kuru Otu, 5. Kalite  %13-15 HP, <%48-54 NDF",1.8,1.07,91.27,14.32,52.7,41.8,32.1,1.18,0.21]
["Vitamin A (IU)",{"$f":"110*L3","v":7315},{"$f":"(C3*BC3+C4*BC4+C5*BC5+C6*BC6+C7*BC7+C8*BC8+C9*BC9+C10*BC10+C11*BC11+C12*BC12+C13*BC13+C14*BC14+C15*BC15+C16*BC16+C17*BC17+C18*BC18+C19*BC19+C20*BC20)","v":40612},{"$f":"IF(AP36<$AQ$37,$AR$39,IF(AND(AP36>$AQ$38),$AR$38,IF(AND(AP36=$AQ$38),$AR$37,IF(AND(AP36=$AQ$37),$AR$37,IF(AND(AP36<$AQ$38,AP36>$AQ$37),$AR$37,0)))))","v":"FAZLA"},null,null,null,null,null,null,null,null,null,null,null,null,null,null,null,null,"Bitiş",{"$f":"0.09*POWER((0.96*O3),0.67)","v":5.0987533842425767},{"$f":"((V28-Y28)/V36)","v":1.3351492099582867},{"$f":"((7.36-(0.296*O13)+2.55*O14))*U12*0.8","v":7.0180000000000007},{"$f":"5.1875+(0.3125*O11)","v":6.125},{"$f":"X36+Y36","v":13.143000000000001},{"$f":"39-W36*Z36*0.85","v":24.084313843490502},{"$f":"V36*(AA36-O15)/Z36","v":7.4036528795134027},0.6,{"$f":"AD28*AC36","v":4.4421917277080416},{"$f":"((O17/1000)*O18)*(0.00045*O3)+(0.0012*O3)","v":0.51719999999999999},{"$f":"0.006*O3*O17*O18/1000","v":0},{"$f":"IF(AI36=AH31,AF36,0)","v":0},"İNDİS",{"$f":"INDEX(AH31:AH32,AK36)","v":"yok"},"SATIR",{"$f":"MATCH(O20,AI31:AI32,0)","v":2},null,null,null,null,{"$f":"C36/$B36","v":5.5518796992481203},null,null,null,null,null,null,null,null,null,null,null,null,null,"Yonca Kuru Otu, 6. Kalite <%13 HP, >%54 NDF ",1,0.93600000000000005,1.6005599999999998,0.89855999999999991,116.43839999999997,null,40.404124799999998,11.044799999999999,1.9655999999999998,42.1,54.8,0,"Yonca Kuru Otu, 6. Kalite <%13 HP, >%54 NDF ",1.71,0.96,93.6,12.44,54.8,42.1,34.700000000000003,1.18,0.21]
[null,null,null,null,null,null,null,null,null,null,null,null,null,null,null,null,null,null,null,null,"Buzağı",{"$f":"0.09*POWER((0.96*L3),0.67)","v":1.4576549706736435},{"$f":"((V29-Y29)/V37)","v":2.774302553778083},{"$f":"((7.36-(0.296*L13)+2.55*L14))*U13*0.8","v":6.8751999999999995},{"$f":"(6.5*L11)","v":19.5},{"$f":"X37+Y37","v":26.3752},{"$f":"39-W37*Z37*0.85","v":-23.196867008946533},{"$f":"V37*(AA37-L15)/Z37","v":-1.5583314383593143},0.6,{"$f":"AD29*AC37","v":0},{"$f":"((L17/1000)*L18)*(0.00045*L3)+(0.0012*L3)","v":7.9799999999999996E-2},{"$f":"0.006*L3*L17*L18/1000","v":0},{"$f":"IF(AI37=AI31,AF37,0)","v":0},"İNDİS",{"$f":"INDEX(AI31:AI32,AK37)","v":"yok"},"SATIR",{"$f":"MATCH(L20,AI31:AI32,0)","v":2},null,null,null,null,null,0.9,"TAMAM",null,null,null,null,null,null,null,null,null,null,null,"Yonca Kuru Otu, Erken Vejetatif",1,0.93810000000000004,2.5422509999999998,1.6135320000000002,281.61761999999999,null,49.564701120000002,14.0715,3.0957300000000005,20.3,27,0,"Yonca Kuru Otu, Erken Vejetatif",2.71,1.72,93.81,30.02,27,20.3,17.600000000000001,1.5,0.33]
[null,null,null,null,null,null,null,null,null,null,null,null,null,null,null,null,null,null,null,null,null,null,null,null,null,null,null,null,null,"ME mera",null,"NE mera",null,"Otluyormu",null,null,null,null,null,null,null,null,1.1000000000000001,"FAZLA",null,null,null,null,null,null,null,null,null,null,null,"Yonca Kuru Otu, Geç Vejetatif",1,0.93730000000000002,2.090179,1.293474,218.29716999999999,null,39.075193429999992,14.0595,3.0930900000000001,28.6,37.299999999999997,0,"Yonca Kuru Otu, Geç Vejetatif",2.23,1.38,93.73,23.29,37.299999999999997,28.6,17.899999999999999,1.5,0.33]
[null,null,null,null,null,null,null,null,null,null,null,null,null,null,null,null,null,null,null,null,null,null,null,null,null,null,{"$f":"V26-Y26","v":3.8012114281744713},null,"Başlangıç",{"$f":"IF(AI39=AF43,AE39,0)","v":0},{"$f":"M3*0.003","v":0.42},{"$f":"M3*0.002","v":0.28000000000000003},{"$f":"IF(AI39=AF43,AF39,0)","v":0},"İNDİS",{"$f":"INDEX(AF43:AF44,AK39)","v":"hayır"},"SATIR",{"$f":"MATCH(M19,AF43:AF44,0)","v":2},null,null,null,null,null,null,"EKSİK",null,null,null,null,null,null,null,null,null,null,null,"Yonca Kuru Otu, 6. Kalite <%13 HP, >%54 NDF ",1,0.93600000000000005,1.6005599999999998,0.89855999999999991,116.43839999999997,null,40.404124799999998,11.044799999999999,1.9655999999999998,42.1,54.8,0,"Yonca Kuru Otu, 6. Kalite <%13 HP, >%54 NDF ",1.71,0.96,93.6,12.44,54.8,42.1,34.700000000000003,1.18,0.21]
[null,null,null,null,null,null,null,null,null,null,null,null,null,null,null,null,null,null,null,null,null,null,null,null,null,null,{"$f":"V27-Y27","v":5.7857187000354688},null,"Orta",{"$f":"IF(AI40=AF43,AE40,0)","v":0.84299999999999997},{"$f":"N3*0.003","v":0.84299999999999997},{"$f":"N3*0.002","v":0.56200000000000006},{"$f":"IF(AI40=AF43,AF40,0)","v":0.56200000000000006},"İNDİS",{"$f":"INDEX(AF43:AF44,AK40)","v":"evet"},"SATIR",{"$f":"MATCH(N19,AF43:AF44,0)","v":1},null,null,null,null,null,null,null,null,null,null,null,null,null,null,null,null,null,null,"Yosun, Kurutulmuş",1,0.91,0.91,0.52779999999999994,63.7,null,12.548900000000001,24.752000000000002,2.8210000000000002,10,25,0,"Yosun, Kurutulmuş",1,0.57999999999999996,91,7,25,10,19.7,2.72,0.31]
[null,null,null,null,null,null,null,null,null,null,null,null,null,null,null,null,null,null,null,null,null,null,null,null,null,null,null,null,"Bitiş",{"$f":"IF(AI41=AF43,AE41,0)","v":0},{"$f":"O3*0.003","v":1.2929999999999999},{"$f":"O3*0.002","v":0.86199999999999999},{"$f":"IF(AI41=AF43,AF41,0)","v":0},"İNDİS",{"$f":"INDEX(AF43:AF44,AK41)","v":"hayır"},"SATIR",{"$f":"MATCH(O19,AF43:AF44,0)","v":2},null,null,null,null,null,null,null,null,null,null,null,null,null,null,null,null,null,null,"Yulaf Kuru Otu, Başaklı",1,0.91900000000000004,1.6817700000000002,1.0109000000000001,83.628999999999991,null,31.026358999999999,3.4003000000000001,2.0217999999999998,36.4,58,0,"Yulaf Kuru Otu, Başaklı",1.83,1.1000000000000001,91.9,9.1,58,36.4,37.1,0.37,0.22]
[null,null,null,null,null,null,null,null,null,null,null,null,null,null,null,null,null,null,null,null,null,null,null,null,null,null,null,null,"Buzağı",{"$f":"IF(AI42=AF43,AE42,0)","v":0},{"$f":"L3*0.003","v":0.19950000000000001},{"$f":"L3*0.002","v":0.13300000000000001},{"$f":"IF(AI42=AG43,AF42,0)","v":0},"İNDİS",{"$f":"INDEX(AG43:AG44,AK42)","v":"hayır"},"SATIR",{"$f":"MATCH(L19,AG43:AG44,0)","v":2},null,null,null,null,null,null,null,null,null,null,null,null,null,null,null,null,null,null,"Arpa Silajı, Başaklı",1,0.35499999999999998,0.72065000000000001,0.44020000000000004,42.6,null,10.351800000000001,1.704,1.0649999999999999,34.5,56.3,0,"Arpa Silajı, Başaklı",2.0299999999999998,1.24,35.5,12,56.3,34.5,24.3,0.48,0.3]
[null,null,null,null,null,null,null,null,null,null,null,null,null,null,null,null,null,null,null,null,null,null,null,null,null,null,null,null,null,null,null,"evet","evet",null,null,null,null,null,null,null,null,null,null,null,null,null,null,null,null,null,null,null,null,null,null,"Baklagil Merası,Bakımlı",1,0.214,0.52644000000000002,0.32955999999999996,56.709999999999994,null,13.156719999999998,2.8033999999999999,0.79179999999999995,23.9,33.1,0,"Baklagil Merası,Bakımlı",2.46,1.54,21.4,26.5,33.1,23.9,23.2,1.31,0.37]
[null,null,null,null,null,null,null,null,null,null,null,null,null,null,null,null,null,null,null,null,null,null,null,null,null,null,null,null,null,null,null,"hayır","hayır",null,null,null,null,null,null,null,null,null,null,null,null,null,null,null,null,null,null,null,null,null,null,"Baklagil Silajı",1,0.39100000000000001,0.77418000000000009,0.46920000000000001,7.82,null,1.4779800000000001,5.2394000000000007,1.2512000000000001,37,45.7,0,"Baklagil Silajı",1.98,1.2,39.1,2,45.7,37,18.899999999999999,1.34,0.32]
[null,null,null,null,null,null,null,null,null,null,null,null,null,null,null,null,null,null,null,null,null,null,null,null,null,null,null,null,null,null,null,null,null,null,null,null,null,null,null,null,null,null,null,null,null,null,null,null,null,null,null,null,null,null,null,"Baklagil Silajı, Körpe < %40 NDF",1,0.41199999999999998,0.89816000000000018,0.55208000000000002,95.584000000000003,null,15.77136,5.7267999999999999,1.4832000000000001,30.2,36.700000000000003,0,"Baklagil Silajı, Körpe < %40 NDF",2.1800000000000002,1.34,41.2,23.2,36.700000000000003,30.2,16.5,1.39,0.36]
[null,null,null,null,null,null,null,null,null,null,null,null,null,null,null,null,null,null,null,null,null,null,null,null,null,null,null,null,null,null,null,null,null,null,null,null,null,null,null,null,null,null,null,null,null,null,null,null,null,null,null,null,null,null,null,"Baklagil Silajı, Olgun >%46 NDF",1,0.42599999999999999,0.78383999999999998,0.46860000000000007,86.478000000000009,null,21.360066000000003,5.5380000000000003,1.4058000000000002,40.9,50,0,"Baklagil Silajı, Olgun >%46 NDF",1.84,1.1000000000000001,42.6,20.3,50,40.9,24.7,1.3,0.33]
[null,null,null,null,null,null,null,null,null,null,null,null,null,null,null,null,null,null,null,null,null,null,null,null,null,null,null,null,null,null,null,null,null,null,null,null,null,null,null,null,null,null,null,null,null,null,null,null,null,null,null,null,null,null,null,"Baklagil Silajı, Orta Olgun.. %40-46NDF",1,0.42899999999999999,0.86228999999999989,0.52337999999999996,93.950999999999993,null,15.595866000000001,5.8344000000000005,1.5014999999999998,35.200000000000003,43.2,0,"Baklagil Silajı, Orta Olgun.. %40-46NDF",2.0099999999999998,1.22,42.9,21.9,43.2,35.200000000000003,16.600000000000001,1.36,0.35]
[null,null,null,null,null,null,null,null,null,null,null,null,null,null,null,null,null,null,null,null,null,null,null,null,null,null,null,null,null,null,null,null,null,null,null,null,null,null,null,null,null,null,null,null,null,null,null,null,null,null,null,null,null,null,null,"Buğday Silajı, Başak, Başı",1,0.33300000000000002,0.63602999999999998,0.38627999999999996,39.959999999999994,null,9.1508399999999988,1.2654000000000001,0.96569999999999978,37.6,59.9,0,"Buğday Silajı, Başak, Başı",1.91,1.1599999999999999,33.299999999999997,12,59.9,37.6,22.9,0.38,0.28999999999999998]
[null,null,null,null,null,null,null,null,null,null,null,null,null,null,null,null,null,null,null,null,null,null,null,null,null,null,null,null,null,null,null,null,null,null,null,null,null,null,null,null,null,null,null,null,null,null,null,null,null,null,null,null,null,null,null,"Çavdar Silajı, Körpe",1,0.29699999999999999,0.61776000000000009,0.38016,47.817,null,11.619531,1.2770999999999999,1.2473999999999998,34.9,57.8,0,"Çavdar Silajı, Körpe",2.08,1.28,29.7,16.100000000000001,57.8,34.9,24.3,0.43,0.42]
[null,null,null,null,null,null,null,null,null,null,null,null,null,null,null,null,null,null,null,null,null,null,null,null,null,null,null,null,null,null,null,null,null,null,null,null,null,null,null,null,null,null,null,null,null,null,null,null,null,null,null,null,null,null,null,"Çayır Merası, Soğuk Mevsim, Bakımlı",1,0.20100000000000001,0.49446000000000007,0.30954000000000004,53.265000000000008,null,11.824830000000002,1.1256000000000002,0.88440000000000007,25,45.8,0,"Çayır Merası, Soğuk Mevsim, Bakımlı",2.46,1.54,20.100000000000001,26.5,45.8,25,22.2,0.56000000000000005,0.44]
[null,null,null,null,null,null,null,null,null,null,null,null,null,null,null,null,null,null,null,null,null,null,null,null,null,null,null,null,null,null,null,null,null,null,null,null,null,null,null,null,null,null,null,null,null,null,null,null,null,null,null,null,null,null,null,"Çayır Silajı, Soğuk Mevsim",1,0.36499999999999999,0.67890000000000006,0.40880000000000005,46.720000000000006,null,11.586560000000002,2.0075000000000003,1.0585,40.299999999999997,60.7,0,"Çayır Silajı, Soğuk Mevsim",1.86,1.1200000000000001,36.5,12.8,60.7,40.299999999999997,24.8,0.55000000000000004,0.28999999999999998]
[null,null,null,null,null,null,null,null,null,null,null,null,null,null,null,null,null,null,null,null,null,null,null,null,null,null,null,null,null,null,null,null,null,null,null,null,null,null,null,null,null,null,null,null,null,null,null,null,null,null,null,null,null,null,null,"Çayır Silajı, Soğuk Mevsim,Körpe<%55  NDF",1,0.36199999999999999,0.7602000000000001,0.46698000000000006,60.81600000000001,null,11.615856000000003,2.0634000000000001,1.3031999999999999,32.9,51,0,"Çayır Silajı, Soğuk Mevsim,Körpe<%55  NDF",2.1,1.29,36.200000000000003,16.8,51,32.9,19.100000000000001,0.56999999999999995,0.36]
[null,null,null,null,null,null,null,null,null,null,null,null,null,null,null,null,null,null,null,null,null,null,null,null,null,null,null,null,null,null,null,null,null,null,null,null,null,null,null,null,null,null,null,null,null,null,null,null,null,null,null,null,null,null,null,"Çayır Silajı, Soğuk Mevsim, Olgun>%60 NDF",1,0.38700000000000001,0.68112000000000006,0.40635000000000004,49.149000000000001,null,16.170020999999998,2.1672000000000002,1.1997000000000002,41.1,66.599999999999994,0,"Çayır Silajı, Soğuk Mevsim, Olgun>%60 NDF",1.76,1.05,38.700000000000003,12.7,66.599999999999994,41.1,32.9,0.56000000000000005,0.31]
[null,null,null,null,null,null,null,null,null,null,null,null,null,null,null,null,null,null,null,null,null,null,null,null,null,null,null,null,null,null,null,null,null,null,null,null,null,null,null,null,null,null,null,null,null,null,null,null,null,null,null,null,null,null,null,"Çayır Silajı, Soğuk Mevsim, Orta Olgun..%55-60 NDF",1,0.42,0.80640000000000001,0.48719999999999997,70.56,null,16.36992,2.52,1.512,35.200000000000003,58.2,0,"Çayır Silajı, Soğuk Mevsim, Orta Olgun..%55-60 NDF",1.92,1.1599999999999999,42,16.8,58.2,35.200000000000003,23.2,0.6,0.36]
[null,null,null,null,null,null,null,null,null,null,null,null,null,null,null,null,null,null,null,null,null,null,null,null,null,null,null,null,null,null,null,null,null,null,null,null,null,null,null,null,null,null,null,null,null,null,null,null,null,null,null,null,null,null,null,"Çayır-Baklagil Silajı, Körpe< %44 NDF",1,0.432,0.8640000000000001,0.52703999999999995,86.4,null,14.601600000000001,5.0112000000000005,1.5551999999999999,31.1,42.2,0,"Çayır-Baklagil Silajı, Körpe< %44 NDF",2,1.22,43.2,20,42.2,31.1,16.899999999999999,1.1599999999999999,0.36]
[null,null,null,null,null,null,null,null,null,null,null,null,null,null,null,null,null,null,null,null,null,null,null,null,null,null,null,null,null,null,null,null,null,null,null,null,null,null,null,null,null,null,null,null,null,null,null,null,null,null,null,null,null,null,null,"Çayır-Baklagil Silajı, Körpe< %47 NDF",1,0.45900000000000002,0.96389999999999998,0.59211000000000003,93.176999999999992,null,16.305975,4.9572000000000003,1.6064999999999998,30.8,45.3,0,"Çayır-Baklagil Silajı, Körpe< %47 NDF",2.1,1.29,45.9,20.3,45.3,30.8,17.5,1.08,0.35]
[null,null,null,null,null,null,null,null,null,null,null,null,null,null,null,null,null,null,null,null,null,null,null,null,null,null,null,null,null,null,null,null,null,null,null,null,null,null,null,null,null,null,null,null,null,null,null,null,null,null,null,null,null,null,null,"Çayır-Baklagil Silajı, Körpe< %51 NDF",1,0.47099999999999997,1.0032299999999998,0.61701000000000006,84.78,null,15.429959999999999,4.8041999999999998,1.6014000000000004,31.8,49.9,0,"Çayır-Baklagil Silajı, Körpe< %51 NDF",2.13,1.31,47.1,18,49.9,31.8,18.2,1.02,0.34]
[null,null,null,null,null,null,null,null,null,null,null,null,null,null,null,null,null,null,null,null,null,null,null,null,null,null,null,null,null,null,null,null,null,null,null,null,null,null,null,null,null,null,null,null,null,null,null,null,null,null,null,null,null,null,null,"Çayır-Baklagil Silajı, Olgun> %47 NDF",1,0.42799999999999999,0.78323999999999994,0.46651999999999999,74.471999999999994,null,21.075576000000002,4.5368000000000004,1.4124000000000001,42.1,57.4,0,"Çayır-Baklagil Silajı, Olgun> %47 NDF",1.83,1.0900000000000001,42.8,17.399999999999999,57.4,42.1,28.3,1.06,0.33]
[null,null,null,null,null,null,null,null,null,null,null,null,null,null,null,null,null,null,null,null,null,null,null,null,null,null,null,null,null,null,null,null,null,null,null,null,null,null,null,null,null,null,null,null,null,null,null,null,null,null,null,null,null,null,null,"Çayır-Baklagil Silajı, Olgun> %50 NDF",1,0.42899999999999999,0.75932999999999995,0.45045000000000002,78.507000000000005,null,20.725847999999999,5.0192999999999994,1.4157,41.6,53.7,0,"Çayır-Baklagil Silajı, Olgun> %50 NDF",1.77,1.05,42.9,18.3,53.7,41.6,26.4,1.17,0.33]
[null,null,null,null,null,null,null,null,null,null,null,null,null,null,null,null,null,null,null,null,null,null,null,null,null,null,null,null,null,null,null,null,null,null,null,null,null,null,null,null,null,null,null,null,null,null,null,null,null,null,null,null,null,null,null,"Çayır-Baklagil Silajı, Olgun >%57 NDF",1,0.38500000000000001,0.69299999999999995,0.41580000000000006,59.29,null,18.083449999999999,3.2725,1.2705,42.2,61.7,0,"Çayır-Baklagil Silajı, Olgun >%57 NDF",1.8,1.08,38.5,15.4,61.7,42.2,30.5,0.85,0.33]
[null,null,null,null,null,null,null,null,null,null,null,null,null,null,null,null,null,null,null,null,null,null,null,null,null,null,null,null,null,null,null,null,null,null,null,null,null,null,null,null,null,null,null,null,null,null,null,null,null,null,null,null,null,null,null,"Çayır-Baklagil Silajı, Orta Olgun, %44-50 NDF",1,0.433,0.83135999999999999,0.50227999999999995,82.27,null,14.561789999999998,4.9361999999999995,1.4722,35.4,47,0,"Çayır-Baklagil Silajı, Orta Olgun, %44-50 NDF",1.92,1.1599999999999999,43.3,19,47,35.4,17.7,1.1399999999999999,0.34]
[null,null,null,null,null,null,null,null,null,null,null,null,null,null,null,null,null,null,null,null,null,null,null,null,null,null,null,null,null,null,null,null,null,null,null,null,null,null,null,null,null,null,null,null,null,null,null,null,null,null,null,null,null,null,null,"Çayır-Baklagil Silajı, Orta Olgun, %47-53 NDF",1,0.441,0.88640999999999992,0.54242999999999997,84.231000000000009,null,16.088121000000005,4.8069000000000006,1.5434999999999999,35.4,50.4,0,"Çayır-Baklagil Silajı, Orta Olgun, %47-53 NDF",2.0099999999999998,1.23,44.1,19.100000000000001,50.4,35.4,19.100000000000001,1.0900000000000001,0.35]
[null,null,null,null,null,null,null,null,null,null,null,null,null,null,null,null,null,null,null,null,null,null,null,null,null,null,null,null,null,null,null,null,null,null,null,null,null,null,null,null,null,null,null,null,null,null,null,null,null,null,null,null,null,null,null,"Çayır-Baklagil Silajı,Orta Olgun,  %51-57 NDF",1,0.44500000000000001,0.87219999999999998,0.52954999999999997,78.320000000000007,null,16.368880000000001,3.9605000000000006,1.6019999999999999,35.700000000000003,54.5,0,"Çayır-Baklagil Silajı,Orta Olgun,  %51-57 NDF",1.96,1.19,44.5,17.600000000000001,54.5,35.700000000000003,20.9,0.89,0.36]
[null,null,null,null,null,null,null,null,null,null,null,null,null,null,null,null,null,null,null,null,null,null,null,null,null,null,null,null,null,null,null,null,null,null,null,null,null,null,null,null,null,null,null,null,null,null,null,null,null,null,null,null,null,null,null,"Mısır Silajı, % 23-26KM",1,0.25,0.50249999999999995,0.30499999999999999,18.25,null,5.6210000000000004,0.72499999999999987,0.6,32.5,55.8,0,"Mısır Silajı, % 23-26KM",2.0099999999999998,1.22,25,7.3,55.8,32.5,30.8,0.28999999999999998,0.24]
[null,null,null,null,null,null,null,null,null,null,null,null,null,null,null,null,null,null,null,null,null,null,null,null,null,null,"YEM FİYATI X GÜNLÜK TÜKETİM",null,null,null,null,null,"YEM FİTARI X GÜNLÜK KM TÜKETİM",null,null,null,null,null,null,null,null,null,null,null,null,null,null,null,null,null,null,null,null,null,null,"Mısır Silajı, % 26-29KM",1,0.27800000000000002,0.57824000000000009,0.35584000000000005,20.015999999999998,null,6.0047999999999995,0.77840000000000009,0.72280000000000011,31.5,53,0,"Mısır Silajı, % 26-29KM",2.08,1.28,27.8,7.2,53,31.5,30,0.28000000000000003,0.26]
[null,null,null,null,null,null,null,null,null,null,null,null,null,null,null,null,null,null,null,null,null,null,null,null,null,null,null,"90 gün > Dişi Buzağı","90 gün < Buzağı-Düve ","1-180 Gün Gebe Düve","180-288 Gün Gebe Düve",null,null,"90 gün > Dişi Buzağı","90 gün < Buzağı-Düve ","1-180 Gün Gebe Düve","180-288 Gün Gebe Düve",null,null,null,"90 gün > Dişi Buzağı","90 gün < Buzağı-Düve ","1-180 Gün Gebe Düve","180-288 Gün Gebe Düve",null,null,null,null,null,null,null,null,null,null,null,"Mısır Silajı, %29-33 KM",1,0.313,0.63852000000000009,0.38811999999999997,22.536000000000001,null,6.7157280000000004,0.87640000000000007,0.81379999999999997,31.1,52.9,0,"Mısır Silajı, %29-33 KM",2.04,1.24,31.3,7.2,52.9,31.1,29.8,0.28000000000000003,0.26]
[null,null,null,null,null,null,null,null,null,null,null,null,null,null,null,null,null,null,null,null,null,null,null,null,null,null,null,{"$f":"$B3*C3","v":0},0,0,0,null,null,{"$f":"$B3*C3*$BI3","v":0},{"$f":"$B3*D3*$BI3","v":0},0,0,null,null,null,{"$f":"C3*$BI3","v":0},{"$f":"D3*$BI3","v":0},0,0,null,null,null,null,null,null,null,null,null,null,null,"Mısır Silajı, %33-40 KM",1,0.35499999999999998,0.72065000000000001,0.44020000000000004,25.914999999999999,null,8.759269999999999,{"$f":"BT67*BY67/10","v":0.92300000000000004},0.88749999999999996,29.8,51.6,0,"Mısır Silajı, %33-40 KM",2.0299999999999998,1.24,35.5,7.3,51.6,29.8,33.799999999999997,0.26,0.25]
[null,null,null,null,null,null,null,null,null,null,null,null,null,null,null,null,null,null,null,null,null,null,null,null,null,null,null,4.7402506822159136,11.592159245314285,0,13.836892209060334,null,null,910.01436496908241,2225.4163632784557,0,2656.3512187265669,null,null,null,60.667624331272158,148.36109088523037,0,177.0900812484378,null,null,null,null,null,null,null,null,null,null,null,{"$f":"BQ68","v":"Sorgum Silajı"},1,{"$f":"BT68*10/1000","v":0.28799999999999998},{"$f":"BR68*BT68/100","v":0.53280000000000005},{"$f":"BS68*BT68/100","v":0.31968000000000002},{"$f":"BU68*BT68/10","v":26.207999999999998},null,{"$f":"BI68*BX68/100","v":10.325951999999999},0,{"$f":"BZ68*BT68/10","v":0},{"$f":"BW68","v":38.700000000000003},{"$f":"BV68","v":60.7},{"$f":"CA68","v":0},"Sorgum Silajı",1.85,1.1100000000000001,28.8,9.1,60.7,38.700000000000003,39.4,0,0]
[null,null,null,null,null,null,null,null,null,null,null,null,null,null,null,null,null,null,null,null,null,null,null,null,null,null,null,0,2.4040658784360582,0,3,null,null,0,453.2866213791188,0,565.65000000000009,null,null,null,0,302.19108091941257,0,377.1,null,null,null,null,null,null,null,null,null,null,null,"Sorgum, Sudan Otu Silajı",{"$f":"BE68","v":1},0.28799999999999998,0.51551999999999998,0.30816000000000004,31.104000000000003,null,15.116544000000001,1.44,0.6048,40.700000000000003,63.3,0,"Sorgum, Sudan Otu Silajı",1.79,1.07,28.8,10.8,63.3,40.700000000000003,48.6,0.5,0.21]
[null,null,null,null,null,null,null,null,null,null,null,null,null,null,null,null,null,null,null,null,null,null,null,null,null,null,null,0,0,0,0,null,null,0,0,0,0,null,null,null,0,0,0,0,null,null,null,null,null,null,null,null,null,null,null,"Soya Silajı, Körpe",1,0.40400000000000003,0.84435999999999989,0.52115999999999996,70.295999999999992,null,11.669135999999998,2.5855999999999999,0.96960000000000002,36.9,46.6,0,"Soya Silajı, Körpe",2.09,1.29,40.4,17.399999999999999,46.6,36.9,16.600000000000001,0.64,0.24]
[null,null,null,null,null,null,null,null,null,null,null,null,null,null,null,null,null,null,null,null,null,null,null,null,null,null,null,0,0,0,0,null,null,0,0,0,0,null,null,null,0,0,0,0,null,null,null,null,null,null,null,null,null,null,null,"Şalgam Yaprakları",1,0.18,0.45,0.27,28.8,null,4.8959999999999999,1.9260000000000002,0.66600000000000004,13,25,0,"Şalgam Yaprakları",2.5,1.5,18,16,25,13,17,1.07,0.37]
[null,null,null,null,null,null,null,null,null,null,null,null,null,null,null,null,null,null,null,null,null,null,null,null,null,null,null,0,0,0,0,null,null,0,0,0,0,null,null,null,0,0,0,0,null,null,null,null,null,null,null,null,null,null,null,"Şalgam, Yaprak-Kök",1,0.13950000000000001,0.38641500000000001,0.24063749999999998,19.808999999999997,null,6.8440094999999985,4.4640000000000004,0.43244999999999995,22.45,33.549999999999997,0,"Şalgam, Yaprak-Kök",2.77,1.7250000000000001,13.95,14.2,33.549999999999997,22.45,34.549999999999997,3.2,0.31]
[null,null,null,null,null,null,null,null,null,null,null,null,null,null,null,null,null,null,null,null,null,null,null,null,null,null,null,0,2.5843403386143193,0,5.1745585470410651,null,null,0,241.34120686183681,0,483.23132447397688,null,null,null,0,402.23534476972804,0,805.38554078996151,null,null,null,null,null,null,null,null,null,null,null,"Tritikale Silajı, Başaklı",1,0.32,0.62080000000000002,0.37759999999999999,44.160000000000004,null,10.730880000000003,6.6400000000000006,1.024,39.6,59.7,0,"Tritikale Silajı, Başaklı",1.94,1.18,32,13.8,59.7,39.6,24.3,2.0750000000000002,0.32]
[null,null,null,null,null,null,null,null,null,null,null,null,null,null,null,null,null,null,null,null,null,null,null,null,null,null,null,0,0,0.25,0,null,null,0,0,37.799999999999997,0,null,null,null,0,0,3779.9999999999995,0,null,null,null,null,null,null,null,null,null,null,null,"Tritikale-Bezelye Silajı(9-1)",1,0.34340000000000004,0.65692420000000018,0.39594020000000008,44.607660000000003,null,16.018610706,1.7856800000000004,1.06454,38.97,60.51,0,"Tritikale-Bezelye Silajı(9-1)",1.913,1.153,34.340000000000003,12.99,60.51,38.97,35.909999999999997,0.52,0.31]
[null,null,null,null,null,null,null,null,null,null,null,null,null,null,null,null,null,null,null,null,null,null,null,null,null,null,null,2.2115471778643796,3.5452171227947571,0,2.0153313923987688,null,null,201.58694835669397,323.15363117698774,0,183.7014870799326,null,null,null,40.317389671338795,64.630726235397546,0,36.740297415986525,null,null,null,null,null,null,null,null,null,null,null,"Tritikale-Bezelye Silajı (APAK)",1,0.3639,0.87699899999999997,0.54585000000000006,36.062490000000004,null,10.479759593999999,1.01892,0.94614000000000009,28.03,43.97,0,"Tritikale-Bezelye Silajı (APAK)",2.41,1.5,36.39,9.91,43.97,28.03,29.06,0.28000000000000003,0.26]
[null,null,null,null,null,null,null,null,null,null,null,null,null,null,null,null,null,null,null,null,null,null,null,null,null,null,null,0,0,0,0,null,null,0,0,0,0,null,null,null,0,0,0,0,null,null,null,null,null,null,null,null,null,null,null,"Yulaf Silajı, Başaklı",1,0.34599999999999997,0.66086,0.39789999999999998,119.71600000000001,null,44.534352000000005,1.9721999999999997,1.1418000000000001,38.9,60.6,0,"Yulaf Silajı, Başaklı",1.91,1.1499999999999999,34.6,34.6,60.6,38.9,37.200000000000003,0.56999999999999995,0.33]
[null,null,null,null,null,null,null,null,null,null,null,null,null,null,null,null,null,null,null,null,null,null,null,null,null,null,null,0,0,0,0,null,null,0,0,0,0,null,null,null,0,0,0,0,null,null,null,null,null,null,null,null,null,null,null,"Aminoplus",1,0.88,0,1.9360000000000002,454.96000000000004,null,121.01936000000002,3.3439999999999999,6.3360000000000003,7.44,11.8,0,"Aminoplus",0,2.2000000000000002,88,51.7,11.8,7.44,26.6,0.38,0.72]
[null,null,null,null,null,null,null,null,null,null,null,null,null,null,null,null,null,null,null,null,null,null,null,null,null,null,null,0,0,0,0,null,null,0,0,0,0,null,null,null,0,0,0,0,null,null,null,null,null,null,null,null,null,null,null,"Aspir Küspesi, Solvent ",1,0.93500000000000005,1.8326,1.1126499999999999,271.14999999999998,null,31.995699999999996,4.4879999999999995,9.35,39.1,53.8,0,"Aspir Küspesi, Solvent ",1.96,1.19,93.5,29,53.8,39.1,11.8,0.48,1]
[null,null,null,null,null,null,null,null,null,null,null,null,null,null,null,null,null,null,null,null,null,null,null,null,null,null,null,0,0,0,0,null,null,0,0,0,0,null,null,null,0,0,0,0,null,null,null,null,null,null,null,null,null,null,null,"Ayçiçeği Küspesi, Solvent, %25 HP",1,0.92200000000000004,2.06528,1.2723599999999999,261.84800000000001,null,48.180032000000004,4.4256000000000002,9.2200000000000006,30,40.299999999999997,0,"Ayçiçeği Küspesi, Solvent, %25 HP",2.2400000000000002,1.38,92.2,28.4,40.299999999999997,30,18.399999999999999,0.48,1]
[null,null,null,null,null,null,null,null,null,null,null,null,null,null,null,null,null,null,null,null,null,null,null,null,null,null,null,0,0,3.75,5.2732032101089539,null,null,0,0,612.20249999999999,860.87151686312711,null,null,null,0,0,408.13499999999999,573.91434457541811,null,null,null,null,null,null,null,null,null,null,null,"Ayçiçeği Küspesi, Solvent, %28 HP",1,0.92200000000000004,2.1021599999999996,1.383,285.82000000000005,null,52.590880000000006,4.4256000000000002,9.2200000000000006,28,38,0,"Ayçiçeği Küspesi, Solvent, %28 HP",2.2799999999999998,1.5,92.2,31,38,28,18.399999999999999,0.48,1]
[null,null,null,null,null,null,null,null,null,null,null,null,null,null,null,null,null,null,null,null,null,null,null,null,null,null,null,1.9581208119317853E-7,6.8988244002715415E-2,2.2645082662199542E-2,2.0224814716820052E-2,null,null,2.2058426758492752E-5,7.7715946751498937,2.5509912069794405,2.2783456026644955,null,null,null,2.2058426758492752E-5,7.7715946751498937,2.5509912069794405,2.2783456026644955,null,null,null,null,null,null,null,null,null,null,null,"Ayçiçeği Küspesi, Solvent, %32 HP",1,0.92200000000000004,2.2128000000000001,1.4752000000000001,328.23200000000003,null,60.394687999999995,4.4256000000000002,9.2200000000000006,26,36,0,"Ayçiçeği Küspesi, Solvent, %32 HP",2.4,1.6,92.2,35.6,36,26,18.399999999999999,0.48,1]
[null,null,null,null,null,null,null,null,null,null,null,null,null,null,null,null,null,null,null,null,null,null,null,null,null,null,null,0,5.4031233696375039E-2,4.3118807820025737E-2,5.6955278228026519E-2,null,null,0,8.4803101911134533,6.7675831249686782,8.9392448284452168,null,null,null,0,8.4803101911134533,6.7675831249686782,8.9392448284452168,null,null,null,null,null,null,null,null,null,null,null,"Ayçiçeği Küspesi, Solvent, %34 HP",1,0.92200000000000004,2.2128000000000001,1.4752000000000001,346.67200000000003,null,63.787647999999997,4.4256000000000002,9.2200000000000006,24,34,0,"Ayçiçeği Küspesi, Solvent, %34 HP",2.4,1.6,92.2,37.6,34,24,18.399999999999999,0.48,1]
[null,null,null,null,null,null,null,null,null,null,null,null,null,null,null,null,null,null,null,null,null,null,null,null,null,null,null,{"$f":"$B19*C19","v":8.8000000000000007},0,0,0,null,null,1336.7375999999999,{"$f":"$B19*D19*$BI19","v":0},0,0,null,null,null,668.36879999999996,{"$f":"D19*$BI19","v":0},0,0,null,null,null,null,null,null,null,null,null,null,null,"Ayçiçeği Küspesi, Solvent, %36 HP",1,0.92200000000000004,2.3972000000000002,1.5674000000000001,368.8,null,67.859200000000001,4.4256000000000002,9.2200000000000006,22,32,0,"Ayçiçeği Küspesi, Solvent, %36 HP",2.6,1.7,92.2,40,32,22,18.399999999999999,0.48,1]
[null,null,null,null,null,null,null,null,null,null,null,null,null,null,null,null,null,null,null,null,null,null,null,null,null,null,null,0,0,0,0,"GENEL",null,0,0,0,0,"GENEL",null,null,0,0,0,0,null,null,null,null,null,null,null,null,null,null,null,"Ayçiçeği Tohumu",1,0.91800000000000004,4.3237800000000002,3.10284,176.256,null,32.431103999999998,6.5177999999999994,4.6818,16.7,24,0,"Ayçiçeği Tohumu",4.71,3.38,91.8,19.2,24,16.7,18.399999999999999,0.71,0.51]
[null,null,null,null,null,null,null,null,null,null,null,null,null,null,null,null,null,null,null,null,null,null,null,null,null,null,"TOPLAM GÜNLÜK YEM MASRAFI",{"$f":"SUM(AB67:AB84)","v":15.751798055892376},{"$f":"SUM(AC67:AC84)","v":20.248802062858505},{"$f":"SUM(AD67:AD84)","v":4.0657638904822253},{"$f":"SUM(AE67:AE84)","v":29.377165451553967},{"$f":"SUM(AB85:AE85)","v":69.443529460787076},"TOPLAM GÜNLÜK YEM MASRAFI",{"$f":"SUM(AH67:AH84)","v":2448.3389353842031},{"$f":"SUM(AI67:AI84)","v":3259.4497275626627},{"$f":"SUM(AJ67:AJ84)","v":659.32107433194813},{"$f":"SUM(AK67:AK84)","v":4761.0231375747135},{"$f":"SUM(AH85:AK85)","v":11128.132874853527},null,null,null,null,null,null,null,null,null,null,null,null,null,null,null,null,null,"Balık Unu, Hamsi",1,0.92,3.1463999999999999,2.0424000000000002,655.04000000000008,null,335.38048000000003,37.351999999999997,24.747999999999998,0,0,0,"Balık Unu, Hamsi",3.42,2.2200000000000002,92,71.2,0,0,51.2,4.0599999999999996,2.69]
[null,null,null,null,null,null,null,null,null,null,null,null,null,null,null,null,null,null,null,null,null,null,null,null,null,null,"TOPLAM YEMTÜKETİM",{"$f":"SUM(C3:C20)","v":5.1583263435326856},{"$f":"SUM(D3:D20)","v":7.5148180019269004},{"$f":"SUM(E3:E20)","v":27.565763890482224},{"$f":"SUM(F3:F20)","v":15.542438903836368},{"$f":"SUM(AB86:AE86)","v":55.781347139778177},"TOPLAM YEMTÜKETİM",{"$f":"SUM(AO67:AO84)","v":769.35383606103767},{"$f":"SUM(AP67:AP84)","v":933.67014767603189},{"$f":"SUM(AQ67:AQ84)","v":4197.4535743319475},{"$f":"SUM(AR67:AR84)","v":1981.4478544609137},{"$f":"SUM(AH86:AK86)","v":7881.9254125299303},null,null,null,null,null,null,null,null,null,null,null,null,null,null,null,null,null,"Balık Unu, Ringa",1,0.91200000000000003,3.2102400000000002,2.1249600000000002,624.72,null,369.20952000000005,48.700800000000001,27.815999999999995,0,0,0,"Balık Unu, Ringa",3.52,2.33,91.2,68.5,0,0,59.1,5.34,3.05]
[null,null,null,null,null,null,null,null,null,null,null,null,null,null,null,null,null,null,null,null,null,null,null,null,null,null,"BİRİM YEM MALİYET",{"$f":"AB85/AB86","v":3.0536645041160266},{"$f":"AC85/AC86","v":2.6945166280362933},{"$f":"AD85/AD86","v":0.14749324222014515},{"$f":"AE85/AE86","v":1.8901258440400077},{"$f":"AF85/AF86","v":1.2449238503827076},"BİRİM YEM MALİYET",{"$f":"AH85/AH86","v":3.1823314847161703},{"$f":"AI85/AI86","v":3.491007756514068},{"$f":"AJ85/AJ86","v":0.15707644233727669},{"$f":"AK85/AK86","v":2.4028001175282152},{"$f":"AL85/AL86","v":1.411854628459575},null,null,null,null,null,null,null,null,null,null,null,null,null,null,null,null,null,"Ecomass",1,0.94,3.0644,1.8424,479.96400000000006,null,63.019273200000008,20.021999999999998,4.7,5.32,18.899999999999999,0,"Ecomass",3.26,1.96,94,51.06,18.899999999999999,5.32,13.13,2.13,0.5]
[null,null,null,null,null,null,null,null,null,null,null,null,null,null,null,null,null,null,null,null,null,null,null,null,null,null,"BİRİM SÜTÜN YEM MALİYETİ",{"$f":"AB85/L4*1000","v":21.002397407856503},{"$f":"AC85/M4*1000","v":23.822120073951183},{"$f":"AD85/N4*1000","v":4.0657638904822253},{"$f":"AE85/O4*1000","v":24.480971209628304},{"$f":"(AB85*L5+AC85*M5+AD85*N5+AE85*O5)/(L4/1000*L5+M4/1000*M5+N4/1000*N5+O5*O4/1000)","v":15.759548492927877},"BİRİM SÜTÜN YEM MALİYETİ",null,{"$f":"AI85/S6","v":{"$error":"#DIV/0!"}},{"$f":"AJ85/T6","v":{"$error":"#DIV/0!"}},{"$f":"AK85/U6","v":{"$error":"#DIV/0!"}},{"$f":"(AH85*R5+AI85*S5+AJ85*T5+AK85*U5)/(S6*S5+T6*T5+U6*U5)","v":{"$error":"#DIV/0!"}},null,null,null,null,null,null,null,null,null,null,null,null,null,null,null,null,null,"Et Unu",1,0.93899999999999995,3.1456500000000007,2.0751900000000001,540.86400000000003,null,224.45856000000001,83.195399999999992,39.438000000000002,0,0,0,"Et Unu",3.35,2.21,93.9,57.6,0,0,41.5,8.86,4.2]
[null,null,null,null,null,null,null,null,null,null,null,null,null,null,null,null,null,null,null,null,null,null,null,null,null,null,null,null,null,null,null,null,null,null,null,null,null,null,null,null,null,null,null,null,null,null,null,null,null,null,null,null,null,null,null,"Et-Kemik Unu",1,0.94,2.3875999999999999,1.5322,509.48,null,261.87272000000002,99.64,44.462000000000003,0,0,0,"Et-Kemik Unu",2.54,1.63,94,54.2,0,0,51.4,10.6,4.7300000000000004]
[null,null,null,null,null,null,null,null,null,null,null,null,null,null,null,null,null,null,null,null,null,null,null,null,null,null,null,null,null,null,null,null,null,null,null,null,null,null,null,null,null,null,null,null,null,null,null,null,null,null,null,null,null,null,null,"Kan Unu, Püskürtmeli Kurutulmuş",1,0.90200000000000002,3.2291599999999998,2.1016600000000003,861.41000000000008,null,610.73969000000011,2.706,2.706,0,0,0,"Kan Unu, Püskürtmeli Kurutulmuş",3.58,2.33,90.2,95.5,0,0,70.900000000000006,0.3,0.3]
[null,null,null,null,null,null,null,null,null,null,null,null,null,null,null,null,null,null,null,null,null,null,null,null,null,null,null,null,null,null,null,null,null,null,null,null,null,null,null,null,null,null,null,null,null,null,null,null,null,null,null,null,null,null,null,"Kan Unu, Teknede Kurutulmuş",1,0.90200000000000002,2.7420800000000001,1.7589000000000001,861.41000000000008,null,610.73969000000011,2.706,2.706,0,0,0,"Kan Unu, Teknede Kurutulmuş",3.04,1.95,90.2,95.5,0,0,70.900000000000006,0.3,0.3]
[null,null,null,null,null,null,null,null,null,null,null,null,null,null,null,null,null,null,null,null,null,null,null,null,null,null,null,null,null,null,null,null,null,null,null,null,null,null,null,null,null,null,null,null,null,null,null,null,null,null,null,null,null,null,null,"Kanola Küspesi, Pres",1,0.90300000000000002,2.48325,1.58928,341.33399999999995,null,90.794843999999998,6.7724999999999991,9.9329999999999998,20.5,29.9,0,"Kanola Küspesi, Pres",2.75,1.76,90.3,37.799999999999997,29.9,20.5,26.6,0.75,1.1000000000000001]
[null,null,null,null,null,null,null,null,null,null,null,null,null,null,null,null,null,null,null,null,null,null,null,null,null,null,null,null,null,null,null,null,null,null,null,null,null,null,null,null,null,null,null,null,null,null,null,null,null,null,null,null,null,null,null,"Kanola Tohumu",1,0.89900000000000002,4.4230800000000006,3.1644800000000002,184.29500000000002,null,28.565725,3.9556000000000004,6.1132000000000009,11.6,17.8,0,"Kanola Tohumu",4.92,3.52,89.9,20.5,17.8,11.6,15.5,0.44,0.68]
[null,null,null,null,null,null,null,null,null,null,null,null,null,null,null,null,null,null,null,null,null,null,null,null,null,null,null,null,null,null,null,null,null,null,null,null,null,null,null,null,null,null,null,null,null,null,null,null,null,null,null,null,null,null,null,"Keten Tohumu Küspesi, Solvent",1,0.90300000000000002,2.2665299999999995,1.4177100000000002,294.37800000000004,null,126.58254000000002,3.6119999999999997,7.4948999999999995,22.1,36.1,0,"Keten Tohumu Küspesi, Solvent",2.5099999999999998,1.57,90.3,32.6,36.1,22.1,43,0.4,0.83]
[null,null,null,null,null,null,null,null,null,null,null,null,null,null,null,null,null,null,null,null,null,null,null,null,null,null,null,null,null,null,null,null,null,null,null,null,null,null,null,null,null,null,null,null,null,null,null,null,null,null,null,null,null,null,null,"Mısır Gluteni,44",1,0.86399999999999999,2.62656,1.6848000000000001,404.35199999999998,null,250.37475839999999,0.51839999999999997,5.1840000000000002,8.1999999999999993,11.1,0,"Mısır Gluteni,44",3.04,1.95,86.4,46.8,11.1,8.1999999999999993,61.92,0.06,0.6]
[null,null,null,null,null,null,null,null,null,null,null,null,null,null,null,null,null,null,null,null,null,null,null,null,null,null,null,null,null,null,null,null,null,null,null,null,null,null,null,null,null,null,null,null,null,null,null,null,null,null,null,null,null,null,null,"MIsır Gluteni,63",1,0.86399999999999999,3.1622400000000006,2.0563199999999999,561.6,null,358.30080000000004,0.51839999999999997,5.1840000000000002,8.1999999999999993,11.1,0,"MIsır Gluteni,63",3.66,2.38,86.4,65,11.1,8.1999999999999993,63.8,0.06,0.6]
[null,null,null,null,null,null,null,null,null,null,null,null,null,null,null,null,null,null,null,null,null,null,null,null,null,null,null,null,null,null,null,null,null,null,null,null,null,null,null,null,null,null,null,null,null,null,null,null,null,null,null,null,null,null,null,"Pamuk Tohumu Küspesi, Pres, % 25 HP ",1,0.90500000000000003,2.0814999999999997,1.2669999999999999,249.78000000000003,null,104.90760000000002,1.81,9.0500000000000007,30,40,0,"Pamuk Tohumu Küspesi, Pres, % 25 HP ",2.2999999999999998,1.4,90.5,27.6,40,30,42,0.2,1]
[null,null,null,null,null,null,null,null,null,null,null,null,null,null,null,null,null,null,null,null,null,null,null,null,null,null,null,null,null,null,null,null,null,null,null,null,null,null,null,null,null,null,null,null,null,null,null,null,null,null,null,null,null,null,null,"Pamuk Tohumu Küspesi, Pres, % 28 HP ",1,0.90500000000000003,2.1719999999999997,1.3574999999999999,279.64499999999998,null,117.4509,1.81,9.0500000000000007,28,38,0,"Pamuk Tohumu Küspesi, Pres, % 28 HP ",2.4,1.5,90.5,30.9,38,28,42,0.2,1]
[null,null,null,null,null,null,null,null,null,null,null,null,null,null,null,null,null,null,null,null,null,null,null,null,null,null,null,null,null,null,null,null,null,null,null,null,null,null,null,null,null,null,null,null,null,null,null,null,null,null,null,null,null,null,null,"Pamuk Tohumu Küspesi, Pres, % 41 HP ",1,0.90500000000000003,2.6244999999999998,1.629,406.34499999999997,null,203.17250000000001,1.5385000000000002,5.43,18,31,0,"Pamuk Tohumu Küspesi, Pres, % 41 HP ",2.9,1.8,90.5,44.9,31,18,50,0.17,0.6]
[null,null,null,null,null,null,null,null,null,null,null,null,null,null,null,null,null,null,null,null,null,null,null,null,null,null,null,null,null,null,null,null,null,null,null,null,null,null,null,null,null,null,null,null,null,null,null,null,null,null,null,null,null,null,null,"Pamuk Tohumu Küspesi, Solvent, % 32 HP ",1,0.90500000000000003,2.2625000000000002,1.4480000000000002,320.37,null,128.148,1.81,9.0500000000000007,26,36,0,"Pamuk Tohumu Küspesi, Solvent, % 32 HP ",2.5,1.6,90.5,35.4,36,26,40,0.2,1]
[null,null,null,null,null,null,null,null,null,null,null,null,null,null,null,null,null,null,null,null,null,null,null,null,null,null,null,null,null,null,null,null,null,null,null,null,null,null,null,null,null,null,null,null,null,null,null,null,null,null,null,null,null,null,null,"Pamuk Tohumu Küspesi, Solvent, % 36 HP ",1,0.90500000000000003,2.3530000000000002,1.49325,360.18999999999994,null,144.07599999999999,1.81,9.0500000000000007,22,32,0,"Pamuk Tohumu Küspesi, Solvent, % 36 HP ",2.6,1.65,90.5,39.799999999999997,32,22,40,0.2,1]
[null,null,null,null,null,null,null,null,null,null,null,null,null,null,null,null,null,null,null,null,null,null,null,null,null,null,null,null,null,null,null,null,null,null,null,null,null,null,null,null,null,null,null,null,null,null,null,null,null,null,null,null,null,null,null,"Pamuk Tohumu Küspesi, Solvent, % 41 HP ",1,0.90500000000000003,2.4435000000000002,1.54755,406.34499999999997,null,162.53799999999998,1.81,10.407499999999999,19.899999999999999,30.8,0,"Pamuk Tohumu Küspesi, Solvent, % 41 HP ",2.7,1.71,90.5,44.9,30.8,19.899999999999999,40,0.2,1.1499999999999999]
[null,null,null,null,null,null,null,null,null,null,null,null,null,null,null,null,null,null,null,null,null,null,null,null,null,null,null,null,null,null,null,null,null,null,null,null,null,null,null,null,null,null,null,null,null,null,null,null,null,null,null,null,null,null,null,"Pamuk Tohumu, Lintli",1,0.90100000000000002,2.6219099999999997,1.7479399999999998,211.73499999999999,null,37.477094999999991,1.5317000000000001,5.4059999999999997,40.1,50.3,0,"Pamuk Tohumu, Lintli",2.91,1.94,90.1,23.5,50.3,40.1,17.7,0.17,0.6]
[null,null,null,null,null,null,null,null,null,null,null,null,null,null,null,null,null,null,null,null,null,null,null,null,null,null,null,null,null,null,null,null,null,null,null,null,null,null,null,null,null,null,null,null,null,null,null,null,null,null,null,null,null,null,null,"Peynir Altı Suyu, Sığır",1,0.20799999999999999,0.60736000000000001,0.38688,30.368000000000002,null,1.3969279999999999,2.8496000000000001,2.1632000000000002,0,0,0,"Peynir Altı Suyu, Sığır",2.92,1.86,20.8,14.6,0,0,4.5999999999999996,1.37,1.04]
[null,null,null,null,null,null,null,null,null,null,null,null,null,null,null,null,null,null,null,null,null,null,null,null,null,null,null,null,null,null,null,null,null,null,null,null,null,null,null,null,null,null,null,null,null,null,null,null,null,null,null,null,null,null,null,"Soya Fasülyesi",1,0.9,3.645,2.4750000000000001,352.80000000000007,null,75.852000000000018,2.88,5.4,13.1,19.5,0,"Soya Fasülyesi",4.05,2.75,90,39.200000000000003,19.5,13.1,21.5,0.32,0.6]
[null,null,null,null,null,null,null,null,null,null,null,null,null,null,null,null,null,null,null,null,null,null,null,null,null,null,null,null,null,null,null,null,null,null,null,null,null,null,null,null,null,null,null,null,null,null,null,null,null,null,null,null,null,null,null,"Soya Küspesi , Solvent, %44",1,0.89100000000000001,2.6729999999999996,1.6928999999999998,436.59,null,106.09136999999998,3.5640000000000001,6.3260999999999994,15,20,0,"Soya Küspesi , Solvent, %44",3,1.9,89.1,49,20,15,24.3,0.4,0.71]
[null,null,null,null,null,null,null,null,null,null,null,null,null,null,null,null,null,null,null,null,null,null,null,null,null,null,null,null,null,null,null,null,null,null,null,null,null,null,null,null,null,null,null,null,null,null,null,null,null,null,null,null,null,null,null,"Soya Küspesi , Solvent, %46",1,0.89100000000000001,2.6729999999999996,1.6928999999999998,436.59,null,106.09136999999998,3.5640000000000001,6.3260999999999994,15,20,0,"Soya Küspesi , Solvent, %46",3,1.9,89.1,49,20,15,24.3,0.4,0.71]
[null,null,null,null,null,null,null,null,null,null,null,null,null,null,null,null,null,null,null,null,null,null,null,null,null,null,null,null,null,null,null,null,null,null,null,null,null,null,null,null,null,null,null,null,null,null,null,null,null,null,null,null,null,null,null,"Soya Küspesi , Solvent, %48",1,0.89100000000000001,2.9492099999999999,1.8978299999999999,479.35799999999989,null,147.64226399999998,3.1184999999999996,6.2369999999999992,10,14.9,0,"Soya Küspesi , Solvent, %48",3.31,2.13,89.1,53.8,14.9,10,30.8,0.35,0.7]
[null,null,null,null,null,null,null,null,null,null,null,null,null,null,null,null,null,null,null,null,null,null,null,null,null,null,null,null,null,null,null,null,null,null,null,null,null,null,null,null,null,null,null,null,null,null,null,null,null,null,null,null,null,null,null,"Soya Küspesi , Solvent, %51",1,0.89500000000000002,3.0519499999999997,1.9779499999999999,510.15,null,157.12619999999998,3.1324999999999998,6.2649999999999997,6.2,9.8000000000000007,0,"Soya Küspesi , Solvent, %51",3.41,2.21,89.5,57,9.8000000000000007,6.2,30.8,0.35,0.7]
[null,null,null,null,null,null,null,null,null,null,null,null,null,null,null,null,null,null,null,null,null,null,null,null,null,null,null,null,null,null,null,null,null,null,null,null,null,null,null,null,null,null,null,null,null,null,null,null,null,null,null,null,null,null,null,"Soya Küspesi, Ekspeller, %45 HP",1,0.89600000000000002,3.2345599999999997,2.1324799999999997,448,null,259.83999999999997,3.2256,5.9135999999999997,10.4,21.7,0,"Soya Küspesi, Ekspeller, %45 HP",3.61,2.38,89.6,50,21.7,10.4,58,0.36,0.66]
[null,null,null,null,null,null,null,null,null,null,null,null,null,null,null,null,null,null,null,null,null,null,null,null,null,null,null,null,null,null,null,null,null,null,null,null,null,null,null,null,null,null,null,null,null,null,null,null,null,null,null,null,null,null,null,"Tam Yağlı Soya",1,0.91,3.64,2.4752000000000001,391.3,null,113.86830000000002,2.3660000000000001,5.8239999999999998,14.7,22.1,0,"Tam Yağlı Soya",4,2.72,91,43,22.1,14.7,29.1,0.26,0.64]
[null,null,null,null,null,null,null,null,null,null,null,null,null,null,null,null,null,null,null,null,null,null,null,null,null,null,null,null,null,null,null,null,null,null,null,null,null,null,null,null,null,null,null,null,null,null,null,null,null,null,null,null,null,null,null,"Tüy Unu Hidrolize",1,0.93300000000000005,3.0975599999999996,2.0059499999999999,858.36,null,533.04156,3.0789,4.665,0,0,0,"Tüy Unu Hidrolize",3.32,2.15,93.3,92,0,0,62.1,0.33,0.5]
[null,null,null,null,null,null,null,null,null,null,null,null,null,null,null,null,null,null,null,null,null,null,null,null,null,null,null,null,null,null,null,null,null,null,null,null,null,null,null,null,null,null,null,null,null,null,null,null,null,null,null,null,null,null,null,"Tüy Unu Hidrolize (+Biraz İç Organ )",1,0.91500000000000004,3.2757000000000001,2.1593999999999998,777.75,null,482.98275000000001,12.444000000000001,7.0454999999999997,0,0,0,"Tüy Unu Hidrolize (+Biraz İç Organ )",3.58,2.36,91.5,85,0,0,62.1,1.36,0.77]
[null,null,null,null,null,null,null,null,null,null,null,null,null,null,null,null,null,null,null,null,null,null,null,null,null,null,null,null,null,null,null,null,null,null,null,null,null,null,null,null,null,null,null,null,null,null,null,null,null,null,null,null,null,null,null,"Yer Fıstığı Küspesi, Solvent",1,0.92300000000000004,2.8797600000000001,1.8459999999999999,478.11399999999992,null,43.986487999999987,1.8460000000000001,5.9072000000000005,13.5,21.4,0,"Yer Fıstığı Küspesi, Solvent",3.12,2,92.3,51.8,21.4,13.5,9.1999999999999993,0.2,0.64]
[null,null,null,null,null,null,null,null,null,null,null,null,null,null,null,null,null,null,null,null,null,null,null,null,null,null,null,null,null,null,null,null,null,null,null,null,null,null,null,null,null,null,null,null,null,null,null,null,null,null,null,null,null,null,null,"Yonca Unu,% 17 HP",1,0.90300000000000002,1.7698799999999999,1.07457,173.376,null,54.786816000000009,13.274099999999999,2.5284000000000004,32.799999999999997,41.6,0,"Yonca Unu,% 17 HP",1.96,1.19,90.3,19.2,41.6,32.799999999999997,31.6,1.47,0.28000000000000003]
[null,null,null,null,null,null,null,null,null,null,null,null,null,null,null,null,null,null,null,null,null,null,null,null,null,null,null,null,null,null,null,null,null,null,null,null,null,null,null,null,null,null,null,null,null,null,null,null,null,null,null,null,null,null,null,"Arpa , Ezme",1,0.91,2.6571999999999996,1.6926000000000001,112.84,null,20.424040000000002,0.54600000000000004,3.5490000000000004,7.2,20.8,0,"Arpa , Ezme",2.92,1.86,91,12.4,20.8,7.2,18.100000000000001,0.06,0.39]
[null,null,null,null,null,null,null,null,null,null,null,null,null,null,null,null,null,null,null,null,null,null,null,null,null,null,null,null,null,null,null,null,null,null,null,null,null,null,null,null,null,null,null,null,null,null,null,null,null,null,null,null,null,null,null,"Buğday, Ezme",1,0.89400000000000002,2.7714000000000003,1.7790600000000001,126.94800000000001,null,24.881808000000007,0.44700000000000006,3.8441999999999998,4.4000000000000004,13.4,0,"Buğday, Ezme",3.1,1.99,89.4,14.2,13.4,4.4000000000000004,19.600000000000001,0.05,0.43]
[null,null,null,null,null,null,null,null,null,null,null,null,null,null,null,null,null,null,null,null,null,null,null,null,null,null,null,null,null,null,null,null,null,null,null,null,null,null,null,null,null,null,null,null,null,null,null,null,null,null,null,null,null,null,null,"Havuç",1,0.11,0.36299999999999999,0.2079,11,null,7.282,0.44000000000000006,0.38499999999999995,8,9,0,"Havuç",3.3,1.89,11,10,9,8,66.2,0.4,0.35]
[null,null,null,null,null,null,null,null,null,null,null,null,null,null,null,null,null,null,null,null,null,null,null,null,null,null,null,null,null,null,null,null,null,null,null,null,null,null,null,null,null,null,null,null,null,null,null,null,null,null,null,null,null,null,null,"Melas, Şeker Kamışı",1,0.74299999999999999,2.0655399999999999,1.30768,43.094000000000001,null,6.3348180000000003,7.43,0.74299999999999999,0.2,0.4,0,"Melas, Şeker Kamışı",2.78,1.76,74.3,5.8,0.4,0.2,14.7,1,0.1]
[null,null,null,null,null,null,null,null,null,null,null,null,null,null,null,null,null,null,null,null,null,null,null,null,null,null,null,null,null,null,null,null,null,null,null,null,null,null,null,null,null,null,null,null,null,null,null,null,null,null,null,null,null,null,null,"Melas, Şeker Pancarı",1,0.77900000000000003,2.2435200000000002,1.4333600000000002,66.215000000000003,null,9.7336050000000007,1.1685000000000001,0.23370000000000002,0.1,0.1,0,"Melas, Şeker Pancarı",2.88,1.84,77.900000000000006,8.5,0.1,0.1,14.7,0.15,0.03]
[null,null,null,null,null,null,null,null,null,null,null,null,null,null,null,null,null,null,null,null,null,null,null,null,null,null,null,null,null,null,null,null,null,null,null,null,null,null,null,null,null,null,null,null,null,null,null,null,null,null,null,null,null,null,null,"Mısır Grizi",1,0.88500000000000001,2.6019000000000001,1.6637999999999999,105.31500000000001,null,25.591545000000007,0.26549999999999996,5.7524999999999995,6.2,21.1,0,"Mısır Grizi",2.94,1.88,88.5,11.9,21.1,6.2,24.3,0.03,0.65]
[null,null,null,null,null,null,null,null,null,null,null,null,null,null,null,null,null,null,null,null,null,null,null,null,null,null,null,null,null,null,null,null,null,null,null,null,null,null,null,null,null,null,null,null,null,null,null,null,null,null,null,null,null,null,null,"Mısır Koçanı(Taneli),Öğütülmüş",1,0.89200000000000002,2.59572,1.6591200000000002,76.712000000000003,null,25.161536000000002,0.53520000000000001,2.5867999999999998,8,21.5,0,"Mısır Koçanı(Taneli),Öğütülmüş",2.91,1.86,89.2,8.6,21.5,8,32.799999999999997,0.06,0.28999999999999998]
[null,null,null,null,null,null,null,null,null,null,null,null,null,null,null,null,null,null,null,null,null,null,null,null,null,null,null,null,null,null,null,null,null,null,null,null,null,null,null,null,null,null,null,null,null,null,null,null,null,null,null,null,null,null,null,"Mısır Koçanı(Taneli),Öğütülmüş, Nemi Yüksek",1,0.67100000000000004,2.0331299999999994,1.3017399999999997,56.363999999999997,null,16.683744000000001,0.33550000000000002,1.8788,9.4,21,0,"Mısır Koçanı(Taneli),Öğütülmüş, Nemi Yüksek",3.03,1.94,67.099999999999994,8.4,21,9.4,29.6,0.05,0.28000000000000003]
[null,null,null,null,null,null,null,null,null,null,null,null,null,null,null,null,null,null,null,null,null,null,null,null,null,null,null,null,null,null,null,null,null,null,null,null,null,null,null,null,null,null,null,null,null,null,null,null,null,null,null,null,null,null,null,"Mısır, Ezilmiş, Nemi Yüksek",1,0.71799999999999997,2.2329799999999995,1.4431799999999999,66.055999999999997,null,21.732423999999995,0.21539999999999998,2.1539999999999999,3.6,10.3,0,"Mısır, Ezilmiş, Nemi Yüksek",3.11,2.0099999999999998,71.8,9.1999999999999993,10.3,3.6,32.9,0.03,0.3]
[null,null,null,null,null,null,null,null,null,null,null,null,null,null,null,null,null,null,null,null,null,null,null,null,null,null,null,null,null,null,null,null,null,null,null,null,null,null,null,null,null,null,null,null,null,null,null,null,null,null,null,null,null,null,null,"Mısır, Kırılmış, Kuru",1,0.88100000000000001,2.6253799999999994,1.6827099999999999,82.813999999999993,null,30.641179999999999,0.35239999999999999,2.6429999999999998,3.4,9.5,0,"Mısır, Kırılmış, Kuru",2.98,1.91,88.1,9.4,9.5,3.4,37,0.04,0.3]
[null,null,null,null,null,null,null,null,null,null,null,null,null,null,null,null,null,null,null,null,null,null,null,null,null,null,null,null,null,null,null,null,null,null,null,null,null,null,null,null,null,null,null,null,null,null,null,null,null,null,null,null,null,null,null,"Mısır, Öğütülmüş , Kuru",1,0.88100000000000001,2.7487200000000001,1.7708099999999996,82.813999999999993,null,30.641179999999999,0.35239999999999999,2.6429999999999998,3.4,9.5,0,"Mısır, Öğütülmüş , Kuru",3.12,2.0099999999999998,88.1,9.4,9.5,3.4,37,0.04,0.3]
[null,null,null,null,null,null,null,null,null,null,null,null,null,null,null,null,null,null,null,null,null,null,null,null,null,null,null,null,null,null,null,null,null,null,null,null,null,null,null,null,null,null,null,null,null,null,null,null,null,null,null,null,null,null,null,"Mısır, Öğütülmüş , Nemi Yüksek",1,0.71799999999999997,2.31914,1.5006199999999998,66.055999999999997,null,21.732423999999995,0.21539999999999998,2.1539999999999999,3.6,10.3,0,"Mısır, Öğütülmüş , Nemi Yüksek",3.23,2.09,71.8,9.1999999999999993,10.3,3.6,32.9,0.03,0.3]
[null,null,null,null,null,null,null,null,null,null,null,null,null,null,null,null,null,null,null,null,null,null,null,null,null,null,null,null,null,null,null,null,null,null,null,null,null,null,null,null,null,null,null,null,null,null,null,null,null,null,null,null,null,null,null,"Mısır, Pul Haline Gelmiş",1,0.88100000000000001,2.8544400000000003,1.8412899999999996,82.813999999999993,null,52.752518000000002,0.35239999999999999,2.6429999999999998,3.4,9.5,0,"Mısır, Pul Haline Gelmiş",3.24,2.09,88.1,9.4,9.5,3.4,63.7,0.04,0.3]
[null,null,null,null,null,null,null,null,null,null,null,null,null,null,null,null,null,null,null,null,null,null,null,null,null,null,null,null,null,null,null,null,null,null,null,null,null,null,null,null,null,null,null,null,null,null,null,null,null,null,null,null,null,null,null,"Patates",1,0.24,0.75840000000000007,0.43680000000000002,22.32,null,14.775840000000001,9.6000000000000002E-2,0.57599999999999996,1.4,9,0,"Patates",3.16,1.82,24,9.3000000000000007,9,1.4,66.2,0.04,0.24]
[null,null,null,null,null,null,null,null,null,null,null,null,null,null,null,null,null,null,null,null,null,null,null,null,null,null,null,null,null,null,null,null,null,null,null,null,null,null,null,null,null,null,null,null,null,null,null,null,null,null,null,null,null,null,null,"Sorgum, Kuru Ezme",1,0.88600000000000001,2.5073799999999999,1.5948,102.776,null,36.999359999999996,0.62019999999999997,3.1009999999999995,5.9,10.9,0,"Sorgum, Kuru Ezme",2.83,1.8,88.6,11.6,10.9,5.9,36,7.0000000000000007E-2,0.35]
[null,null,null,null,null,null,null,null,null,null,null,null,null,null,null,null,null,null,null,null,null,null,null,null,null,null,null,null,null,null,null,null,null,null,null,null,null,null,null,null,null,null,null,null,null,null,null,null,null,null,null,null,null,null,null,"Sorgum, Pul Haline Getirilmiş",1,0.88600000000000001,2.8086199999999995,1.8074399999999999,102.776,null,60.226736000000002,{"$f":"BT131*BY131/10","v":0.62019999999999997},3.1009999999999995,5.9,10.9,0,"Sorgum, Pul Haline Getirilmiş",3.17,2.04,88.6,11.6,10.9,5.9,58.6,7.0000000000000007E-2,0.35]
[null,null,null,null,null,null,null,null,null,null,null,null,null,null,null,null,null,null,null,null,null,null,null,null,null,null,null,null,null,null,null,null,null,null,null,null,null,null,null,null,null,null,null,null,null,null,null,null,null,null,null,null,null,null,null,{"$f":"BQ132","v":"Şeker Pancarı "},1,{"$f":"BT132*10/1000","v":0.185},{"$f":"BR132*BT132/100","v":0.55500000000000005},{"$f":"BS132*BT132/100","v":0.32374999999999998},{"$f":"BU132*BT132/10","v":13.875},null,{"$f":"BI132*BX132/100","v":9.1852500000000017},1.073,{"$f":"BZ132*BT132/10","v":0.29599999999999999},{"$f":"BW132","v":1.4},{"$f":"BV132","v":9},{"$f":"CA132","v":0},"Şeker Pancarı ",3,1.75,18.5,7.5,9,1.4,66.2,0.57999999999999996,0.16]
[null,null,null,null,null,null,null,null,null,null,null,null,null,null,null,null,null,null,null,null,null,null,null,null,null,null,null,null,null,null,null,null,null,null,null,null,null,null,null,null,null,null,null,null,null,null,null,null,null,null,null,null,null,null,null,"Tritikale",{"$f":"BE132","v":1},0.89,2.8034999999999997,1.5752999999999999,118.37,null,23.200520000000001,0.35599999999999998,3.0260000000000002,5.12,17.3,0,"Tritikale",3.15,1.77,89,13.3,17.3,5.12,19.600000000000001,0.04,0.34]
[null,null,null,null,null,null,null,null,null,null,null,null,null,null,null,null,null,null,null,null,null,null,null,null,null,null,null,null,null,null,null,null,null,null,null,null,null,null,null,null,null,null,null,null,null,null,null,null,null,null,null,null,null,null,null,"Yağ, Bitkisel",1,1,7.07,5.65,0,null,0,0,0,0,0,0,"Yağ, Bitkisel",7.07,5.65,100,0,0,0,0,0,0]
[null,null,null,null,null,null,null,null,null,null,null,null,null,null,null,null,null,null,null,null,null,null,null,null,null,null,null,null,null,null,null,null,null,null,null,null,null,null,null,null,null,null,null,null,null,null,null,null,null,null,null,null,null,null,null,"Yağ, Ca Sabunları",1,0.95299999999999996,5.9753099999999995,4.7840599999999993,0,null,0,0,0,0,0,0,"Yağ, Ca Sabunları",6.27,5.0199999999999996,95.3,0,0,0,0,0,0]
[null,null,null,null,null,null,null,null,null,null,null,null,null,null,null,null,null,null,null,null,null,null,null,null,null,null,null,null,null,null,null,null,null,null,null,null,null,null,null,null,null,null,null,null,null,null,null,null,null,null,null,null,null,null,null,"Yağ, Hidrolize(Kuyruk Yağı Yağ Asitleri)",1,0.998,6.7464799999999991,5.3991800000000003,0,null,0,0,0,0,0,0,"Yağ, Hidrolize(Kuyruk Yağı Yağ Asitleri)",6.76,5.41,99.8,0,0,0,0,0,0]
[null,null,null,null,null,null,null,null,null,null,null,null,null,null,null,null,null,null,null,null,null,null,null,null,null,null,null,null,null,null,null,null,null,null,null,null,null,null,null,null,null,null,null,null,null,null,null,null,null,null,null,null,null,null,null,"YAĞ,Kısmi Hidrojenize Kuyruk Yağı",1,1,3.72,2.97,0,null,0,0,0,0,0,0,"YAĞ,Kısmi Hidrojenize Kuyruk Yağı",3.72,2.97,100,0,0,0,0,0,0]
[null,null,null,null,null,null,null,null,null,null,null,null,null,null,null,null,null,null,null,null,null,null,null,null,null,null,null,null,null,null,null,null,null,null,null,null,null,null,null,null,null,null,null,null,null,null,null,null,null,null,null,null,null,null,null,"Yağ, Kuyruk",1,0.998,5.6486800000000006,4.5209399999999995,0,null,0,0,0,0,0,0,"Yağ, Kuyruk",5.66,4.53,99.8,0,0,0,0,0,0]
[null,null,null,null,null,null,null,null,null,null,null,null,null,null,null,null,null,null,null,null,null,null,null,null,null,null,null,null,null,null,null,null,null,null,null,null,null,null,null,null,null,null,null,null,null,null,null,null,null,null,null,null,null,null,null,"Yem Şalgamı",1,0.09,0.27900000000000003,0.18,10.8,null,6.0480000000000009,0.63,0.30599999999999999,34,44,0,"Yem Şalgamı",3.1,2,9,12,44,34,56,0.7,0.34]
[null,null,null,null,null,null,null,null,null,null,null,null,null,null,null,null,null,null,null,null,null,null,null,null,null,null,null,null,null,null,null,null,null,null,null,null,null,null,null,null,null,null,null,null,null,null,null,null,null,null,null,null,null,null,null,"Yulaf, Ezme",1,0.9,2.5019999999999998,1.5930000000000002,118.8,null,13.780799999999999,0.99,3.6,14.6,30,0,"Yulaf, Ezme",2.78,1.77,90,13.2,30,14.6,11.6,0.11,0.4]
[null,null,null,null,null,null,null,null,null,null,null,null,null,null,null,null,null,null,null,null,null,null,null,null,null,null,null,null,null,null,null,null,null,null,null,null,null,null,null,null,null,null,null,null,null,null,null,null,null,null,null,null,null,null,null,"Arpa, Malt Cili",1,0.90500000000000003,2.1538999999999997,1.3484499999999999,181.90500000000003,null,38.563860000000005,2.1719999999999997,4.6154999999999999,21.8,47,0,"Arpa, Malt Cili",2.38,1.49,90.5,20.100000000000001,47,21.8,21.2,0.24,0.51]
[null,null,null,null,null,null,null,null,null,null,null,null,null,null,null,null,null,null,null,null,null,null,null,null,null,null,null,null,null,null,null,null,null,null,null,null,null,null,null,null,null,null,null,null,null,null,null,null,null,null,null,null,null,null,null,"Badem Kabukları",1,0.86899999999999999,1.6424100000000001,0.99065999999999999,56.484999999999999,null,28.581410000000002,2.4332000000000003,1.1297000000000001,28.7,36.799999999999997,0,"Badem Kabukları",1.89,1.1399999999999999,86.9,6.5,36.799999999999997,28.7,50.6,0.28000000000000003,0.13]
[null,null,null,null,null,null,null,null,null,null,null,null,null,null,null,null,null,null,null,null,null,null,null,null,null,null,null,null,null,null,null,null,null,null,null,null,null,null,null,null,null,null,null,null,null,null,null,null,null,null,null,null,null,null,null,"Bira Posası, Kuru",1,0.90700000000000003,2.4398300000000002,1.5509700000000002,264.84399999999999,null,125.8009,2.7210000000000001,6.0769000000000002,22.2,47.4,0,"Bira Posası, Kuru",2.69,1.71,90.7,29.2,47.4,22.2,47.5,0.3,0.67]
[null,null,null,null,null,null,null,null,null,null,null,null,null,null,null,null,null,null,null,null,null,null,null,null,null,null,null,null,null,null,null,null,null,null,null,null,null,null,null,null,null,null,null,null,null,null,null,null,null,null,null,null,null,null,null,"Bira Posası, Yaş",1,0.218,0.58642000000000005,0.37278,61.911999999999999,null,18.202127999999998,0.76300000000000001,1.2862,23.1,47.1,0,"Bira Posası, Yaş",2.69,1.71,21.8,28.4,47.1,23.1,29.4,0.35,0.59]
[null,null,null,null,null,null,null,null,null,null,null,null,null,null,null,null,null,null,null,null,null,null,null,null,null,null,null,null,null,null,null,null,null,null,null,null,null,null,null,null,null,null,null,null,null,null,null,null,null,null,null,null,null,null,null,"Bon Kalite",1,0.88,3.0536000000000003,1.6895999999999998,154.88000000000002,null,27.413760000000003,1.4079999999999999,8.9760000000000009,6,20,0,"Bon Kalite",3.47,1.92,88,17.600000000000001,20,6,17.7,0.16,1.02]
[null,null,null,null,null,null,null,null,null,null,null,null,null,null,null,null,null,null,null,null,null,null,null,null,null,null,null,null,null,null,null,null,null,null,null,null,null,null,null,null,null,null,null,null,null,null,null,null,null,null,null,null,null,null,null,"Buğday, DDGS, APAK",1,0.31980000000000003,0.88904399999999995,0.57564000000000004,78.031199999999998,null,30.042012,0.70356000000000007,2.6543399999999999,24.72,47.78,0,"Buğday, DDGS, APAK",2.78,1.8,31.98,24.4,47.78,24.72,38.5,0.22,0.83]
[null,null,null,null,null,null,null,null,null,null,null,null,null,null,null,null,null,null,null,null,null,null,null,null,null,null,null,null,null,null,null,null,null,null,null,null,null,null,null,null,null,null,null,null,null,null,null,null,null,null,null,null,null,null,null,"Buğday, DDGS, Yas",1,0.31539999999999996,0.9556619999999999,0.61818399999999996,90.109780000000001,null,38.936435938000002,0.69387999999999994,2.6178199999999996,19.43,54.04,0,"Buğday, DDGS, Yas",3.03,1.96,31.54,28.57,54.04,19.43,43.21,0.22,0.83]
[null,null,null,null,null,null,null,null,null,null,null,null,null,null,null,null,null,null,null,null,null,null,null,null,null,null,null,null,null,null,null,null,null,null,null,null,null,null,null,null,null,null,null,null,null,null,null,null,null,null,null,null,null,null,null,"Buğday DDGS + % 20 SPP, Ambalajlı",1,0.28832000000000002,0.85804032000000008,0.54146496,72.299123200000011,null,34.564764819456002,1.0091199999999998,1.9721088000000002,20.164000000000001,52.247999999999998,0,"Buğday DDGS + % 20 SPP, Ambalajlı",2.976,1.8779999999999999,28.832000000000001,25.076000000000001,52.247999999999998,20.164000000000001,47.808,0.35,0.68400000000000005]
[null,null,null,null,null,null,null,null,null,null,null,null,null,null,null,null,null,null,null,null,null,null,null,null,null,null,null,null,null,null,null,null,null,null,null,null,null,null,null,null,null,null,null,null,null,null,null,null,null,null,null,null,null,null,null,"Buğday Kepeği",1,0.89100000000000001,2.2720499999999997,1.43451,154.143,null,22.504877999999998,1.1583000000000001,10.5138,15.5,42.5,0,"Buğday Kepeği",2.5499999999999998,1.61,89.1,17.3,42.5,15.5,14.6,0.13,1.18]
[null,null,null,null,null,null,null,null,null,null,null,null,null,null,null,null,null,null,null,null,null,null,null,null,null,null,null,null,null,null,null,null,null,null,null,null,null,null,null,null,null,null,null,null,null,null,null,null,null,null,null,null,null,null,null,"Buğday Kepeği, Razmol",1,0.89500000000000002,2.3628,1.49465,165.57499999999999,null,29.306774999999998,1.4319999999999999,9.1290000000000013,12.1,36.700000000000003,0,"Buğday Kepeği, Razmol",2.64,1.67,89.5,18.5,36.700000000000003,12.1,17.7,0.16,1.02]
[null,null,null,null,null,null,null,null,null,null,null,null,null,null,null,null,null,null,null,null,null,null,null,null,null,null,null,null,null,null,null,null,null,null,null,null,null,null,null,null,null,null,null,null,null,null,null,null,null,null,null,null,null,null,null,"Çikolata Yan Ürünleri",1,0.95199999999999996,3.5890399999999998,2.4371200000000002,113.28800000000001,null,16.653336000000003,2.0943999999999998,2.8559999999999999,15.7,23.8,0,"Çikolata Yan Ürünleri",3.77,2.56,95.2,11.9,23.8,15.7,14.7,0.22,0.3]
[null,null,null,null,null,null,null,null,null,null,null,null,null,null,null,null,null,null,null,null,null,null,null,null,null,null,null,null,null,null,null,null,null,null,null,null,null,null,null,null,null,null,null,null,null,null,null,null,null,null,null,null,null,null,null,"Domates Kurusu",1,0.86180000000000012,1.98214,1.2927000000000002,119.53166000000002,null,28.926661720000002,1.8959600000000001,4.0504600000000002,35,40,0,"Domates Kurusu",2.2999999999999998,1.5,86.18,13.87,40,35,24.2,0.22,0.47]
[null,null,null,null,null,null,null,null,null,null,null,null,null,null,null,null,null,null,null,null,null,null,null,null,null,null,null,null,null,null,null,null,null,null,null,null,null,null,null,null,null,null,null,null,null,null,null,null,null,null,null,null,null,null,null,"Domates Posası, Yaş",1,0.247,0.58538999999999997,0.37544,47.670999999999999,null,11.536381999999998,0.54339999999999999,1.1608999999999998,47.6,60,0,"Domates Posası, Yaş",2.37,1.52,24.7,19.3,60,47.6,24.2,0.22,0.47]
[null,null,null,null,null,null,null,null,null,null,null,null,null,null,null,null,null,null,null,null,null,null,null,null,null,null,null,null,null,null,null,null,null,null,null,null,null,null,null,null,null,null,null,null,null,null,null,null,null,null,null,null,null,null,null,"Elma Posası, Yaş",1,0.22,0.54780000000000006,0.27500000000000002,11.88,null,2.8749600000000002,0.50600000000000001,0.24199999999999999,28,48,0,"Elma Posası, Yaş",2.4900000000000002,1.25,22,5.4,48,28,24.2,0.23,0.11]
[null,null,null,null,null,null,null,null,null,null,null,null,null,null,null,null,null,null,null,null,null,null,null,null,null,null,null,null,null,null,null,null,null,null,null,null,null,null,null,null,null,null,null,null,null,null,null,null,null,null,null,null,null,null,null,"Fırıncılık Yan Ürünleri, Bisküvi Artığı",1,0.90100000000000002,3.0633999999999997,2.01824,87.396999999999991,null,15.469268999999997,2.0722999999999998,2.6128999999999998,6.5,12.7,0,"Fırıncılık Yan Ürünleri, Bisküvi Artığı",3.4,2.2400000000000002,90.1,9.6999999999999993,12.7,6.5,17.7,0.23,0.28999999999999998]
[null,null,null,null,null,null,null,null,null,null,null,null,null,null,null,null,null,null,null,null,null,null,null,null,null,null,null,null,null,null,null,null,null,null,null,null,null,null,null,null,null,null,null,null,null,null,null,null,null,null,null,null,null,null,null,"Fırıncılık Yan Ürünleri, Ekmak Artığı",1,0.68300000000000005,2.2197499999999999,1.4274699999999998,102.45,null,18.133649999999999,0.95620000000000016,1.3660000000000001,3.1,8.9,0,"Fırıncılık Yan Ürünleri, Ekmak Artığı",3.25,2.09,68.3,15,8.9,3.1,17.7,0.14000000000000001,0.2]
[null,null,null,null,null,null,null,null,null,null,null,null,null,null,null,null,null,null,null,null,null,null,null,null,null,null,null,null,null,null,null,null,null,null,null,null,null,null,null,null,null,null,null,null,null,null,null,null,null,null,null,null,null,null,null,"Fırıncılık Yan Ürünleri, Tahıl Artığı",1,0.88500000000000001,2.7169499999999998,1.7434499999999999,80.534999999999997,null,11.758109999999999,1.5045000000000002,2.5665,3.9,10,0,"Fırıncılık Yan Ürünleri, Tahıl Artığı",3.07,1.97,88.5,9.1,10,3.9,14.6,0.17,0.28999999999999998]
[null,null,null,null,null,null,null,null,null,null,null,null,null,null,null,null,null,null,null,null,null,null,null,null,null,null,null,null,null,null,null,null,null,null,null,null,null,null,null,null,null,null,null,null,null,null,null,null,null,null,null,null,null,null,null,"Fırıncılık Yan Ürünleri,Un Artığı",1,0.84699999999999998,2.8543900000000004,1.8718700000000001,105.875,null,18.739874999999998,1.6940000000000002,3.0491999999999999,6.5,13.9,0,"Fırıncılık Yan Ürünleri,Un Artığı",3.37,2.21,84.7,12.5,13.9,6.5,17.7,0.2,0.36]
[null,null,null,null,null,null,null,null,null,null,null,null,null,null,null,null,null,null,null,null,null,null,null,null,null,null,null,null,null,null,null,null,null,null,null,null,null,null,null,null,null,null,null,null,null,null,null,null,null,null,null,null,null,null,null,"Havuç Posası , Yaş",1,0.14000000000000001,0.34860000000000002,0.1764,8.4,null,5.5608000000000004,0.56000000000000005,0.48999999999999994,23,40,0,"Havuç Posası , Yaş",2.4900000000000002,1.26,14,6,40,23,66.2,0.4,0.35]
[null,null,null,null,null,null,null,null,null,null,null,null,null,null,null,null,null,null,null,null,null,null,null,null,null,null,null,null,null,null,null,null,null,null,null,null,null,null,null,null,null,null,null,null,null,null,null,null,null,null,null,null,null,null,null,"İncir Kurusu",1,0.85180000000000011,1.925068,1.3628800000000001,38.07546,null,7.6150919999999998,0,0,8.02,8.9,0,"İncir Kurusu",2.2599999999999998,1.6,85.18,4.47,8.9,8.02,20,0,0]
[null,null,null,null,null,null,null,null,null,null,null,null,null,null,null,null,null,null,null,null,null,null,null,null,null,null,null,null,null,null,null,null,null,null,null,null,null,null,null,null,null,null,null,null,null,null,null,null,null,null,null,null,null,null,null,"Mısır DDGS, Kuru",1,0.90200000000000002,2.73306,1.7769400000000002,267.89400000000001,null,113.05126800000002,1.9844000000000002,7.4866000000000001,19.7,38.799999999999997,0,"Mısır DDGS, Kuru",3.03,1.97,90.2,29.7,38.799999999999997,19.7,42.2,0.22,0.83]
[null,null,null,null,null,null,null,null,null,null,null,null,null,null,null,null,null,null,null,null,null,null,null,null,null,null,null,null,null,null,null,null,null,null,null,null,null,null,null,null,null,null,null,null,null,null,null,null,null,null,null,null,null,null,null,"Mısır Gluten Yemi",1,0.89400000000000002,2.44062,1.5466200000000001,212.77200000000002,null,51.065280000000001,0.62580000000000013,8.9400000000000013,12.1,35.5,0,"Mısır Gluten Yemi",2.73,1.73,89.4,23.8,35.5,12.1,24,7.0000000000000007E-2,1]
[null,null,null,null,null,null,null,null,null,null,null,null,null,null,null,null,null,null,null,null,null,null,null,null,null,null,null,null,null,null,null,null,null,null,null,null,null,null,null,null,null,null,null,null,null,null,null,null,null,null,null,null,null,null,null,"Mısır Hasat Artıkları(fodder)",1,0.8,1.784,1.056,72,null,32.4,4,2,29,48,0,"Mısır Hasat Artıkları(fodder)",2.23,1.32,80,9,48,29,45,0.5,0.25]
[null,null,null,null,null,null,null,null,null,null,null,null,null,null,null,null,null,null,null,null,null,null,null,null,null,null,null,null,null,null,null,null,null,null,null,null,null,null,null,null,null,null,null,null,null,null,null,null,null,null,null,null,null,null,null,"Mısır Hasat Artıkları(saplar)(stover)",1,0.8,1.464,0.8640000000000001,40,null,12,3.6,1.2,43,70,0,"Mısır Hasat Artıkları(saplar)(stover)",1.83,1.08,80,5,70,43,30,0.45,0.15]
[null,null,null,null,null,null,null,null,null,null,null,null,null,null,null,null,null,null,null,null,null,null,null,null,null,null,null,null,null,null,null,null,null,null,null,null,null,null,null,null,null,null,null,null,null,null,null,null,null,null,null,null,null,null,null,"Mısır Özü Küspesi",1,0.93,2.7713999999999999,1.5716999999999999,198.834,null,126.657258,0.372,5.1150000000000002,14.18,47.91,0,"Mısır Özü Küspesi",2.98,1.69,93,21.38,47.91,14.18,63.7,0.04,0.55000000000000004]
[null,null,null,null,null,null,null,null,null,null,null,null,null,null,null,null,null,null,null,null,null,null,null,null,null,null,null,null,null,null,null,null,null,null,null,null,null,null,null,null,null,null,null,null,null,null,null,null,null,null,null,null,null,null,null,"Mısır Sömeği",1,0.90800000000000003,1.5254399999999999,0.89891999999999994,27.24,null,9.5884800000000006,0.90800000000000003,0.54479999999999995,42.2,86.2,0,"Mısır Sömeği",1.68,0.99,90.8,3,86.2,42.2,35.200000000000003,0.1,0.06]
[null,null,null,null,null,null,null,null,null,null,null,null,null,null,null,null,null,null,null,null,null,null,null,null,null,null,null,null,null,null,null,null,null,null,null,null,null,null,null,null,null,null,null,null,null,null,null,null,null,null,null,null,null,null,null,"Pamuk Tohumu Kapçığı",1,0.89,0.84549999999999992,0.42719999999999997,55.180000000000007,null,27.921080000000007,1.6019999999999999,1.0680000000000001,64.900000000000006,85,0,"Pamuk Tohumu Kapçığı",0.95,0.48,89,6.2,85,64.900000000000006,50.6,0.18,0.12]
[null,null,null,null,null,null,null,null,null,null,null,null,null,null,null,null,null,null,null,null,null,null,null,null,null,null,null,null,null,null,null,null,null,null,null,null,null,null,null,null,null,null,null,null,null,null,null,null,null,null,null,null,null,null,null,"Patates Yan Ürünleri",1,0.35399999999999998,1.0053599999999998,0.65489999999999993,37.17,null,24.606539999999999,1.7345999999999999,1.0265999999999997,16.5,22.1,0,"Patates Yan Ürünleri",2.84,1.85,35.4,10.5,22.1,16.5,66.2,0.49,0.28999999999999998]
[null,null,null,null,null,null,null,null,null,null,null,null,null,null,null,null,null,null,null,null,null,null,null,null,null,null,null,null,null,null,null,null,null,null,null,null,null,null,null,null,null,null,null,null,null,null,null,null,null,null,null,null,null,null,null,"Pirinç Kepeği",1,0.90600000000000003,2.7995399999999995,1.8572999999999995,140.43,null,57.155010000000011,0.6342000000000001,16.126799999999999,13.1,26.1,0,"Pirinç Kepeği",3.09,2.0499999999999998,90.6,15.5,26.1,13.1,40.700000000000003,7.0000000000000007E-2,1.78]
[null,null,null,null,null,null,null,null,null,null,null,null,null,null,null,null,null,null,null,null,null,null,null,null,null,null,null,null,null,null,null,null,null,null,null,null,null,null,null,null,null,null,null,null,null,null,null,null,null,null,null,null,null,null,null,"Soya Tohum Kabukları",1,0.90900000000000003,2.1270599999999997,1.32714,126.35100000000003,null,43.46474400000001,5.7267000000000001,1.5453000000000003,44.6,60.3,0,"Soya Tohum Kabukları",2.34,1.46,90.9,13.9,60.3,44.6,34.4,0.63,0.17]
[null,null,null,null,null,null,null,null,null,null,null,null,null,null,null,null,null,null,null,null,null,null,null,null,null,null,null,null,null,null,null,null,null,null,null,null,null,null,null,null,null,null,null,null,null,null,null,null,null,null,null,null,null,null,null,"Şeker Pancarı Posası, Kuru",1,0.88300000000000001,2.0838799999999997,1.2980099999999999,88.3,null,58.454599999999999,8.0352999999999994,0.79469999999999996,23.1,45.8,0,"Şeker Pancarı Posası, Kuru",2.36,1.47,88.3,10,45.8,23.1,66.2,0.91,0.09]
[null,null,null,null,null,null,null,null,null,null,null,null,null,null,null,null,null,null,null,null,null,null,null,null,null,null,null,null,null,null,null,null,null,null,null,null,null,null,null,null,null,null,null,null,null,null,null,null,null,null,null,null,null,null,null,"Şeker Pancarı Posası, Yaş",1,0.17,0.46919999999999995,0.26350000000000001,19.04,null,12.604480000000001,1.4789999999999999,0.17,23.1,45.8,0,"Şeker Pancarı Posası, Yaş",2.76,1.55,17,11.2,45.8,23.1,66.2,0.87,0.1]
[null,null,null,null,null,null,null,null,null,null,null,null,null,null,null,null,null,null,null,null,null,null,null,null,null,null,null,null,null,null,null,null,null,null,null,null,null,null,null,null,null,null,null,null,null,null,null,null,null,null,null,null,null,null,null,"Şeker Pancarı Posası, Yaş, Ambalajlı",1,0.19,0.52439999999999998,0.29449999999999998,21.09,null,13.961580000000001,1.653,0.19,23.1,45.8,0,"Şeker Pancarı Posası, Yaş, Ambalajlı",2.76,1.55,19,11.1,45.8,23.1,66.2,0.87,0.1]
[null,null,null,null,null,null,null,null,null,null,null,null,null,null,null,null,null,null,null,null,null,null,null,null,null,null,null,null,null,null,null,null,null,null,null,null,null,null,null,null,null,null,null,null,null,null,null,null,null,null,null,null,null,null,null,"Turunçgil Posası, Kuru",1,0.85799999999999998,2.3680799999999995,1.5100800000000001,59.201999999999998,null,14.326884,16.473599999999998,1.0295999999999998,22.2,24.2,0,"Turunçgil Posası, Kuru",2.76,1.76,85.8,6.9,24.2,22.2,24.2,1.92,0.12]
[null,null,null,null,null,null,null,null,null,null,null,null,null,null,null,null,null,null,null,null,null,null,null,null,null,null,null,null,null,null,null,null,null,null,null,null,null,null,null,null,null,null,null,null,null,null,null,null,null,null,null,null,null,null,null,"Üzüm Kurusu",1,0.86439999999999995,1.6423599999999998,1.1842280000000001,48.319959999999995,null,9.6639919999999986,5.0135199999999998,1.4694800000000001,19.2,22.84,0,"Üzüm Kurusu",1.9,1.37,86.44,5.59,22.84,19.2,20,0.57999999999999996,0.17]
[null,null,null,null,null,null,null,null,null,null,null,null,null,null,null,null,null,null,null,null,null,null,null,null,null,null,null,null,null,null,null,null,null,null,null,null,null,null,null,null,null,null,null,null,null,null,null,null,null,null,null,null,null,null,null,"Üzüm Posası,Kuru",1,0.9,0.65700000000000003,0.38700000000000001,120.6,null,29.185199999999998,5.22,1.53,54.4,53.2,0,"Üzüm Posası,Kuru",0.73,0.43,90,13.4,53.2,54.4,24.2,0.57999999999999996,0.17]
[null,null,null,null,null,null,null,null,null,null,null,null,null,null,null,null,null,null,null,null,null,null,null,null,null,null,null,null,null,null,null,null,null,null,null,null,null,null,null,null,null,null,null,null,null,null,null,null,null,null,null,null,null,null,null,"Zeytin Küspesi, Yağı Tam Alınmamış",1,0.65400000000000003,1.1445000000000001,0.69978000000000007,51.012,null,0,0,0,60.1,67.8,0,"Zeytin Küspesi, Yağı Tam Alınmamış",1.75,1.07,65.400000000000006,7.8,67.8,60.1,0,0,0]
[null,null,null,null,null,null,null,null,null,null,null,null,null,null,null,null,null,null,null,null,null,null,null,null,null,null,null,null,null,null,null,null,null,null,null,null,null,null,null,null,null,null,null,null,null,null,null,null,null,null,null,null,null,null,null,"Zeytin Küspesi, Yağı Tam Alınmış",1,0.68300000000000005,1.1815899999999999,0.71715000000000007,52.590999999999994,null,0,0,0,61.9,72.400000000000006,0,"Zeytin Küspesi, Yağı Tam Alınmış",1.73,1.05,68.3,7.7,72.400000000000006,61.9,0,0,0]
[null,null,null,null,null,null,null,null,null,null,null,null,null,null,null,null,null,null,null,null,null,null,null,null,null,null,null,null,null,null,null,null,null,null,null,null,null,null,null,null,null,null,null,null,null,null,null,null,null,null,null,null,null,null,null,"Buzağı Başlangıç Yemi",1,0.9,2.952,1.4678453038674033,162,null,40.5,6.2999999999999989,4.05,11.6,12.8,4000,"Buzağı Başlangıç Yemi",3.28,1.630939226519337,90,18,12.8,11.6,25,0.7,0.45,4000]
[null,null,null,null,null,null,null,null,null,null,null,null,null,null,null,null,null,null,null,null,null,null,null,null,null,null,null,null,null,null,null,null,null,null,null,null,null,null,null,null,null,null,null,null,null,null,null,null,null,null,null,null,null,null,null,"Buzağı Büyütme Yemi",1,0.9,2.9160000000000004,1.4499447513812154,144,null,30.24,5.4,3.6,8,18,4000,"Buzağı Büyütme Yemi",3.24,1.6110497237569061,90,16,18,8,21,0.6,0.4,4000]
[null,null,null,null,null,null,null,null,null,null,null,null,null,null,null,null,null,null,null,null,null,null,null,null,null,null,null,null,null,null,null,null,null,null,null,null,null,null,null,null,null,null,null,null,null,null,null,null,null,null,null,null,null,null,null,"Düve Yemi 1. Sınıf (TS11110)",1,0.89100000000000001,2.7799200000000002,1.7730900000000001,171.07199999999997,null,44.889292799999993,10.5138,5.6132999999999997,4.72,10.29,0,"Düve Yemi 1. Sınıf (TS11110)",3.12,1.99,89.1,19.2,10.29,4.72,26.24,1.18,0.63]
[null,null,null,null,null,null,null,null,null,null,null,null,null,null,null,null,null,null,null,null,null,null,null,null,null,null,null,null,null,null,null,null,null,null,null,null,null,null,null,null,null,null,null,null,null,null,null,null,null,null,null,null,null,null,null,"Düve Yemi 2. Sınıf (TS11110)",1,0.8990999999999999,2.7152819999999998,1.735263,161.83799999999999,null,36.041322600000001,10.519469999999998,5.84415,6.27,13.82,0,"Düve Yemi 2. Sınıf (TS11110)",3.02,1.93,89.91,18,13.82,6.27,22.27,1.17,0.65]
[null,null,null,null,null,null,null,null,null,null,null,null,null,null,null,null,null,null,null,null,null,null,null,null,null,null,null,null,null,null,null,null,null,null,null,null,null,null,null,null,null,null,null,null,null,null,null,null,null,null,null,null,null,null,null,"Kazein",1,0.91,4.6228000000000007,2.2986298342541436,843.57,null,0,3.6399999999999997,3.1849999999999996,0,0,0,"Kazein",5.08,2.5259668508287292,91,92.7,0,0,0,0.4,0.35]
[null,null,null,null,null,null,null,null,null,null,null,null,null,null,null,null,null,null,null,null,null,null,null,null,null,null,null,null,null,null,null,null,null,null,null,null,null,null,null,null,null,null,null,null,null,null,null,null,null,null,null,null,null,null,null,"Lor Altı Suyu-Fimar",1,0.05,0.18100000000000002,0.09,4.4249999999999998,null,0,0.36499999999999999,0.32500000000000001,0,0,0,"Lor Altı Suyu-Fimar",3.62,1.8,5,8.85,0,0,0,0.73,0.65]
[null,null,null,null,null,null,null,null,null,null,null,null,null,null,null,null,null,null,null,null,null,null,null,null,null,null,null,null,null,null,null,null,null,null,null,null,null,null,null,null,null,null,null,null,null,null,null,null,null,null,null,null,null,null,null,"Peynir Altı Suyu",1,7.0000000000000007E-2,0.25340000000000001,0.14000000000000001,9.94,null,0,0.5109999999999999,0.45499999999999996,0,0,0,"Peynir Altı Suyu",3.62,2,7,14.2,0,0,0,0.73,0.65]
[null,null,null,null,null,null,null,null,null,null,null,null,null,null,null,null,null,null,null,null,null,null,null,null,null,null,null,null,null,null,null,null,null,null,null,null,null,null,null,null,null,null,null,null,null,null,null,null,null,null,null,null,null,null,null,"Peynir Altı Suyu Protein Konsantresi",1,0.93,3.8780999999999999,2.1425966850828733,345.03000000000003,null,0,5.0220000000000002,5.58,0,0,0,"Peynir Altı Suyu Protein Konsantresi",4.17,2.3038674033149174,93,37.1,0,0,0,0.54,0.6]
[null,null,null,null,null,null,null,null,null,null,null,null,null,null,null,null,null,null,null,null,null,null,null,null,null,null,null,null,null,null,null,null,null,null,null,null,null,null,null,null,null,null,null,null,null,null,null,null,null,null,null,null,null,null,null,"Peynir Altı Suyu Tozu",1,0.98,3.3418000000000001,1.8462983425414368,134.26,null,0,17.346,9.5060000000000002,0,0,0,"Peynir Altı Suyu Tozu",3.41,1.8839779005524864,98,13.7,0,0,0,1.77,0.97]
[null,null,null,null,null,null,null,null,null,null,null,null,null,null,null,null,null,null,null,null,null,null,null,null,null,null,null,null,null,null,null,null,null,null,null,null,null,null,null,null,null,null,null,null,null,null,null,null,null,null,null,null,null,null,null,"Peynir Altı Suyu Tozu, Düşük Laktozlu",1,0.93,3.1619999999999999,1.7469613259668508,166.46999999999997,null,0,15.903,10.416,0,0,0,"Peynir Altı Suyu Tozu, Düşük Laktozlu",3.4,1.8784530386740332,93,17.899999999999999,0,0,0,1.71,1.1200000000000001]
[null,null,null,null,null,null,null,null,null,null,null,null,null,null,null,null,null,null,null,null,null,null,null,null,null,null,null,null,null,null,null,null,null,null,null,null,null,null,null,null,null,null,null,null,null,null,null,null,null,null,null,null,null,null,null,"Peynir Altı Suyu- Fimar",1,0.05,0.18100000000000002,0.1,5.1749999999999998,null,0,0.36499999999999999,0.32500000000000001,0,0,0,"Peynir Altı Suyu- Fimar",3.62,2,5,10.35,0,0,0,0.73,0.65]
[null,null,null,null,null,null,null,null,null,null,null,null,null,null,null,null,null,null,null,null,null,null,null,null,null,null,null,null,null,null,null,null,null,null,null,null,null,null,null,null,null,null,null,null,null,null,null,null,null,null,null,null,null,null,null,"Sığır Besi Yemi",1,0.89,2.5009000000000001,1.5842000000000001,130.47399999999999,null,31.6660398,10.590999999999999,4.984,9.1,21.29,0,"Sığır Besi Yemi",2.81,1.78,89,14.66,21.29,9.1,24.27,1.19,0.56000000000000005]
[null,null,null,null,null,null,null,null,null,null,null,null,null,null,null,null,null,null,null,null,null,null,null,null,null,null,null,null,null,null,null,null,null,null,null,null,null,null,null,null,null,null,null,null,null,null,null,null,null,null,null,null,null,null,null,"Sığır Süt Yemi,16 HP, 2400 ME",1,0.89,2.4119000000000002,1.5307999999999999,162.87,null,36.271149000000001,10.590999999999999,4.984,11.9,26.07,0,"Sığır Süt Yemi,16 HP, 2400 ME",2.71,1.72,89,18.3,26.07,11.9,22.27,1.19,0.56000000000000005]
[null,null,null,null,null,null,null,null,null,null,null,null,null,null,null,null,null,null,null,null,null,null,null,null,null,null,null,null,null,null,null,null,null,null,null,null,null,null,null,null,null,null,null,null,null,null,null,null,null,null,null,null,null,null,null,"Sığır Süt Yemi,16 HP, 2500 ME",1,0.89,2.4563999999999999,1.5842000000000001,162.87,null,36.271149000000001,10.590999999999999,4.984,9.1,21,0,"Sığır Süt Yemi,16 HP, 2500 ME",2.76,1.78,89,18.3,21,9.1,22.27,1.19,0.56000000000000005]
[null,null,null,null,null,null,null,null,null,null,null,null,null,null,null,null,null,null,null,null,null,null,null,null,null,null,null,null,null,null,null,null,null,null,null,null,null,null,null,null,null,null,null,null,null,null,null,null,null,null,null,null,null,null,null,"Sığır Süt Yemi,16 HP, 2600 ME",1,0.89,2.5809999999999995,1.6732,162.87,null,36.271149000000001,10.590999999999999,4.984,8.6999999999999993,19.3,0,"Sığır Süt Yemi,16 HP, 2600 ME",2.9,1.88,89,18.3,19.3,8.6999999999999993,22.27,1.19,0.56000000000000005]
[null,null,null,null,null,null,null,null,null,null,null,null,null,null,null,null,null,null,null,null,null,null,null,null,null,null,null,null,null,null,null,null,null,null,null,null,null,null,null,null,null,null,null,null,null,null,null,null,null,null,null,null,null,null,null,"Sığır Süt Yemi,18 HP, 2400 ME",1,0.89,2.4119000000000002,1.5307999999999999,181.56,null,40.433411999999997,10.590999999999999,4.984,11.9,26.07,0,"Sığır Süt Yemi,18 HP, 2400 ME",2.71,1.72,89,20.399999999999999,26.07,11.9,22.27,1.19,0.56000000000000005]
[null,null,null,null,null,null,null,null,null,null,null,null,null,null,null,null,null,null,null,null,null,null,null,null,null,null,null,null,null,null,null,null,null,null,null,null,null,null,null,null,null,null,null,null,null,null,null,null,null,null,null,null,null,null,null,"Sığır Süt Yemi,18 HP, 2500 ME",1,0.89,2.4563999999999999,1.5842000000000001,181.738,null,40.473052600000003,{"$f":"BT195*BY195/10","v":10.590999999999999},5.2509999999999994,10.5,23.7,0,"Sığır Süt Yemi,18 HP, 2500 ME",2.76,1.78,89,20.420000000000002,23.7,10.5,22.27,1.19,0.59]
[null,null,null,null,null,null,null,null,null,null,null,null,null,null,null,null,null,null,null,null,null,null,null,null,null,null,null,null,null,null,null,null,null,null,null,null,null,null,null,null,null,null,null,null,null,null,null,null,null,null,null,null,null,null,null,{"$f":"BQ196","v":"Sığır Süt Yemi,18 HP, 2600 ME"},1,{"$f":"BT196*10/1000","v":0.89},{"$f":"BR196*BT196/100","v":2.5899000000000001},{"$f":"BS196*BT196/100","v":1.6643000000000001},{"$f":"BU196*BT196/10","v":181.738},null,{"$f":"BI196*BX196/100","v":40.473052600000003},10.590999999999999,{"$f":"BZ196*BT196/10","v":5.2509999999999994},{"$f":"BW196","v":8.17},{"$f":"BV196","v":18.75},{"$f":"CA196","v":0},"Sığır Süt Yemi,18 HP, 2600 ME",2.91,1.87,89,20.420000000000002,18.75,8.17,22.27,1.19,0.59]
[null,null,null,null,null,null,null,null,null,null,null,null,null,null,null,null,null,null,null,null,null,null,null,null,null,null,null,null,null,null,null,null,null,null,null,null,null,null,null,null,null,null,null,null,null,null,null,null,null,null,null,null,null,null,null,"Sığır Süt Yemi, 18 HP, 2650 ME",{"$f":"BE196","v":1},0.89,2.5899000000000001,1.6643000000000001,181.738,null,40.473052600000003,10.590999999999999,5.2509999999999994,8.17,18.75,0,"Sığır Süt Yemi, 18 HP, 2650 ME",2.91,1.87,89,20.420000000000002,18.75,8.17,22.27,1.19,0.59]
[null,null,null,null,null,null,null,null,null,null,null,null,null,null,null,null,null,null,null,null,null,null,null,null,null,null,null,null,null,null,null,null,null,null,null,null,null,null,null,null,null,null,null,null,null,null,null,null,null,null,null,null,null,null,null,"Sığır Süt Yemi, 19 HP, 2600 ME",1,0.89,2.5899000000000001,1.6643000000000001,194.02,null,43.208253999999997,10.590999999999999,5.2509999999999994,8.6999999999999993,20.2,0,"Sığır Süt Yemi, 19 HP, 2600 ME",2.91,1.87,89,21.8,20.2,8.6999999999999993,22.27,1.19,0.59]
[null,null,null,null,null,null,null,null,null,null,null,null,null,null,null,null,null,null,null,null,null,null,null,null,null,null,null,null,null,null,null,null,null,null,null,null,null,null,null,null,null,null,null,null,null,null,null,null,null,null,null,null,null,null,null,"Sığır Süt Yemi, 19 HP, 2700 ME",1,0.89,2.7322999999999995,1.7354999999999998,194.02,null,43.208253999999997,10.590999999999999,5.2509999999999994,8.6999999999999993,20.2,0,"Sığır Süt Yemi, 19 HP, 2700 ME",3.07,1.95,89,21.8,20.2,8.6999999999999993,22.27,1.19,0.59]
[null,null,null,null,null,null,null,null,null,null,null,null,null,null,null,null,null,null,null,null,null,null,null,null,null,null,null,null,null,null,null,null,null,null,null,null,null,null,null,null,null,null,null,null,null,null,null,null,null,null,null,null,null,null,null,"Sığır Süt Yemi, 19 HP, 2800 ME",1,0.89,2.8034999999999997,1.8244999999999998,189.57,null,42.217238999999999,10.501999999999999,4.6280000000000001,8.3000000000000007,19.600000000000001,0,"Sığır Süt Yemi, 19 HP, 2800 ME",3.15,2.0499999999999998,89,21.3,19.600000000000001,8.3000000000000007,22.27,1.18,0.52]
[null,null,null,null,null,null,null,null,null,null,null,null,null,null,null,null,null,null,null,null,null,null,null,null,null,null,null,null,null,null,null,null,null,null,null,null,null,null,null,null,null,null,null,null,null,null,null,null,null,null,null,null,null,null,null,"Sığır Süt Yemi, 20 HP, 2650 ME",1,0.89,2.5899000000000001,1.6643000000000001,194.02,null,43.208253999999997,10.590999999999999,5.2509999999999994,8.17,18.75,0,"Sığır Süt Yemi, 20 HP, 2650 ME",2.91,1.87,89,21.8,18.75,8.17,22.27,1.19,0.59]
[null,null,null,null,null,null,null,null,null,null,null,null,null,null,null,null,null,null,null,null,null,null,null,null,null,null,null,null,null,null,null,null,null,null,null,null,null,null,null,null,null,null,null,null,null,null,null,null,null,null,null,null,null,null,null,"Sığır Süt Yemi, 21 HP, 2600 ME",1,0.89,2.5899000000000001,1.6643000000000001,200.25,null,44.595675,10.590999999999999,5.2509999999999994,8.17,18.75,0,"Sığır Süt Yemi, 21 HP, 2600 ME",2.91,1.87,89,22.5,18.75,8.17,22.27,1.19,0.59]
[null,null,null,null,null,null,null,null,null,null,null,null,null,null,null,null,null,null,null,null,null,null,null,null,null,null,null,null,null,null,null,null,null,null,null,null,null,null,null,null,null,null,null,null,null,null,null,null,null,null,null,null,null,null,null,"Sığır Süt Yemi, 21 HP, 2600 ME",1,0.89,2.5899000000000001,1.6643000000000001,210.57400000000001,null,46.894829799999997,10.590999999999999,5.2509999999999994,8.17,18.75,0,"Sığır Süt Yemi, 21 HP, 2600 ME",2.91,1.87,89,23.66,18.75,8.17,22.27,1.19,0.59]
[null,null,null,null,null,null,null,null,null,null,null,null,null,null,null,null,null,null,null,null,null,null,null,null,null,null,null,null,null,null,null,null,null,null,null,null,null,null,null,null,null,null,null,null,null,null,null,null,null,null,null,null,null,null,null,"Sığır Süt Yemi, 21 HP, 2650 ME",1,0.89,2.6789000000000001,1.6998999999999997,210.57400000000001,null,46.894829799999997,10.501999999999999,4.6280000000000001,10,21.7,0,"Sığır Süt Yemi, 21 HP, 2650 ME",3.01,1.91,89,23.66,21.7,10,22.27,1.18,0.52]
[null,null,null,null,null,null,null,null,null,null,null,null,null,null,null,null,null,null,null,null,null,null,null,null,null,null,null,null,null,null,null,null,null,null,null,null,null,null,null,null,null,null,null,null,null,null,null,null,null,null,null,null,null,null,null,"Sığır Süt Yemi, 21 HP, 2700 ME",1,0.89,2.7322999999999995,1.7354999999999998,210.57400000000001,null,46.894829799999997,10.501999999999999,4.6280000000000001,9,20.2,0,"Sığır Süt Yemi, 21 HP, 2700 ME",3.07,1.95,89,23.66,20.2,9,22.27,1.18,0.52]
[null,null,null,null,null,null,null,null,null,null,null,null,null,null,null,null,null,null,null,null,null,null,null,null,null,null,null,null,null,null,null,null,null,null,null,null,null,null,null,null,null,null,null,null,null,null,null,null,null,null,null,null,null,null,null,"Sığır Süt Yemi, 21 HP, 2750 ME",1,0.89,2.7500999999999998,1.7710999999999999,210.57400000000001,null,46.894829799999997,10.501999999999999,4.6280000000000001,9,20.2,0,"Sığır Süt Yemi, 21 HP, 2750 ME",3.09,1.99,89,23.66,20.2,9,22.27,1.18,0.52]
[null,null,null,null,null,null,null,null,null,null,null,null,null,null,null,null,null,null,null,null,null,null,null,null,null,null,null,null,null,null,null,null,null,null,null,null,null,null,null,null,null,null,null,null,null,null,null,null,null,null,null,null,null,null,null,"Sığır Süt Yemi, 21 HP, 2800 ME",1,0.89,2.7946000000000004,1.8067,210.57400000000001,null,46.894829799999997,10.501999999999999,4.6280000000000001,9,20.2,0,"Sığır Süt Yemi, 21 HP, 2800 ME",3.14,2.0299999999999998,89,23.66,20.2,9,22.27,1.18,0.52]
[null,null,null,null,null,null,null,null,null,null,null,null,null,null,null,null,null,null,null,null,null,null,null,null,null,null,null,null,null,null,null,null,null,null,null,null,null,null,null,null,null,null,null,null,null,null,null,null,null,null,null,null,null,null,null,"Sığır Süt Yemi, 22 HP, 2750 ME",1,0.89,2.7500999999999998,1.7710999999999999,222.5,null,49.550750000000001,10.501999999999999,4.6280000000000001,8.6,19.600000000000001,0,"Sığır Süt Yemi, 22 HP, 2750 ME",3.09,1.99,89,25,19.600000000000001,8.6,22.27,1.18,0.52]
[null,null,null,null,null,null,null,null,null,null,null,null,null,null,null,null,null,null,null,null,null,null,null,null,null,null,null,null,null,null,null,null,null,null,null,null,null,null,null,null,null,null,null,null,null,null,null,null,null,null,null,null,null,null,null,"Sığır Süt Yemi, 24 HP, 2900 ME",1,0.89,2.8925000000000001,1.8600999999999999,239.94400000000002,null,53.4355288,10.590999999999999,5.2509999999999994,10.5,23.7,0,"Sığır Süt Yemi, 24 HP, 2900 ME",3.25,2.09,89,26.96,23.7,10.5,22.27,1.19,0.59]
[null,null,null,null,null,null,null,null,null,null,null,null,null,null,null,null,null,null,null,null,null,null,null,null,null,null,null,null,null,null,null,null,null,null,null,null,null,null,null,null,null,null,null,null,null,null,null,null,null,null,null,null,null,null,null,"Sığır Süt Yemi, 24 HP, 3100 ME",1,0.89,3.0971999999999995,2.2071999999999998,239.94400000000002,null,53.4355288,10.590999999999999,5.2509999999999994,10.5,23.7,0,"Sığır Süt Yemi, 24 HP, 3100 ME",3.48,2.48,89,26.96,23.7,10.5,22.27,1.19,0.59]
[null,null,null,null,null,null,null,null,null,null,null,null,null,null,null,null,null,null,null,null,null,null,null,null,null,null,null,null,null,null,null,null,null,null,null,null,null,null,null,null,null,null,null,null,null,null,null,null,null,null,null,null,null,null,null,"Sığır Süt Yemi, 25 HP, 2550 ME",1,0.89,2.5186999999999999,1.6287,249.2,null,55.496839999999992,10.590999999999999,5.2509999999999994,10.5,23.7,0,"Sığır Süt Yemi, 25 HP, 2550 ME",2.83,1.83,89,28,23.7,10.5,22.27,1.19,0.59]
[null,null,null,null,null,null,null,null,null,null,null,null,null,null,null,null,null,null,null,null,null,null,null,null,null,null,null,null,null,null,null,null,null,null,null,null,null,null,null,null,null,null,null,null,null,null,null,null,null,null,null,null,null,null,null,"Süt",1,0.125,0.67125000000000001,0.60412500000000002,31.75,null,0,1.25,0.9375,0,0,9230,"Süt",5.37,{"$f":"BR212*0.9","v":4.8330000000000002},12.5,25.4,0,0,0,1,0.75,9230]
[null,null,null,null,null,null,null,null,null,null,null,null,null,null,null,null,null,null,null,null,null,null,null,null,null,null,null,null,null,null,null,null,null,null,null,null,null,null,null,null,null,null,null,null,null,null,null,null,null,null,null,null,null,null,null,"Süt İkamesi, 18 HP, 20 YAĞ",1,0.125,0.59,0.53100000000000003,22.5,null,0,1.25,0.875,0,0,9000,"Süt İkamesi, 18 HP, 20 YAĞ",4.72,{"$f":"BR213*0.9","v":4.2480000000000002},12.5,18,0,0,0,1,0.7,9000]
[null,null,null,null,null,null,null,null,null,null,null,null,null,null,null,null,null,null,null,null,null,null,null,null,null,null,null,null,null,null,null,null,null,null,null,null,null,null,null,null,null,null,null,null,null,null,null,null,null,null,null,null,null,null,null,"Süt İkamesi, 20 HP, 20 YAĞ",1,0.125,0.59375,0.53437500000000004,25,null,0,1.25,0.875,0,0,9000,"Süt İkamesi, 20 HP, 20 YAĞ",4.75,4.2750000000000004,12.5,20,0,0,0,1,0.7,9000]
[null,null,null,null,null,null,null,null,null,null,null,null,null,null,null,null,null,null,null,null,null,null,null,null,null,null,null,null,null,null,null,null,null,null,null,null,null,null,null,null,null,null,null,null,null,null,null,null,null,null,null,null,null,null,null,"Süt İkamesi , 22 HP, 10 Yağ",1,0.125,0.53625,0.48262500000000003,27.5,null,0,1.25,0.875,0,0,9000,"Süt İkamesi , 22 HP, 10 Yağ",4.29,3.8610000000000002,12.5,22,0,0,0,1,0.7,9000]
[null,null,null,null,null,null,null,null,null,null,null,null,null,null,null,null,null,null,null,null,null,null,null,null,null,null,null,null,null,null,null,null,null,null,null,null,null,null,null,null,null,null,null,null,null,null,null,null,null,null,null,null,null,null,null,"Süt Tozu",1,0.95,5.1015000000000006,4.5913500000000003,241.3,null,0,9.5,7.125,0,0,0,"Süt Tozu",5.37,4.8330000000000002,95,25.4,0,0,0,1,0.75]
[null,null,null,null,null,null,null,null,null,null,null,null,null,null,null,null,null,null,null,null,null,null,null,null,null,null,null,null,null,null,null,null,null,null,null,null,null,null,null,null,null,null,null,null,null,null,null,null,null,null,null,null,null,null,null,"Yağsız Süt",1,0.1,0.40199999999999997,0.36180000000000001,35.5,null,0,1.35,1.02,0,0,0,"Yağsız Süt",4.0199999999999996,3.6179999999999999,10,35.5,0,0,0,1.35,1.02]
[null,null,null,null,null,null,null,null,null,null,null,null,null,null,null,null,null,null,null,null,null,null,null,null,null,null,null,null,null,null,null,null,null,null,null,null,null,null,null,null,null,null,null,null,null,null,null,null,null,null,null,null,null,null,null,"Yağsız Süt Tozu",1,0.94,3.8351999999999999,3.4516800000000001,351.56,null,0,12.126000000000001,10.152000000000001,0,0,0,"Yağsız Süt Tozu",4.08,3.6720000000000002,94,37.4,0,0,0,1.29,1.08]
[null,null,null,null,null,null,null,null,null,null,null,null,null,null,null,null,null,null,null,null,null,null,null,null,null,null,null,null,null,null,null,null,null,null,null,null,null,null,null,null,null,null,null,null,null,null,null,null,null,null,null,null,null,null,null,"Yumurta Çiğ",1,0.24,1.44,1.2960000000000003,120,null,0,0.48000000000000009,1.7280000000000002,0,0,0,"Yumurta Çiğ",6,5.4,24,50,0,0,0,0.2,0.72]
[null,null,null,null,null,null,null,null,null,null,null,null,null,null,null,null,null,null,null,null,null,null,null,null,null,null,null,null,null,null,null,null,null,null,null,null,null,null,null,null,null,null,null,null,null,null,null,null,null,null,null,null,null,null,null,"Amonyum Fosfat (Dibazik), (NH4) 2HPO4",1,1,0,0,1159,null,0,5.2,206,0,0,0,"Amonyum Fosfat (Dibazik), (NH4) 2HPO4",0,0,100,115.9,0,0,0,0.52,20.6]
[null,null,null,null,null,null,null,null,null,null,null,null,null,null,null,null,null,null,null,null,null,null,null,null,null,null,null,null,null,null,null,null,null,null,null,null,null,null,null,null,null,null,null,null,null,null,null,null,null,null,null,null,null,null,null,"Amonyum Fosfat (Monobazik), (NH4) 2HPO4",1,1,0,0,709.00000000000011,null,0,2.8000000000000003,247.4,0,0,0,"Amonyum Fosfat (Monobazik), (NH4) 2HPO4",0,0,100,70.900000000000006,0,0,0,0.28000000000000003,24.74]
[null,null,null,null,null,null,null,null,null,null,null,null,null,null,null,null,null,null,null,null,null,null,null,null,null,null,null,null,null,null,null,null,null,null,null,null,null,null,null,null,null,null,null,null,null,null,null,null,null,null,null,null,null,null,null,"Amonyum Klorid",1,1,0,0,1636.3,null,0,0,0,0,0,0,"Amonyum Klorid",0,0,100,163.63,0,0,0,0,0]
[null,null,null,null,null,null,null,null,null,null,null,null,null,null,null,null,null,null,null,null,null,null,null,null,null,null,null,null,null,null,null,null,null,null,null,null,null,null,null,null,null,null,null,null,null,null,null,null,null,null,null,null,null,null,null,"Amonyum Sülfat, (NH4) 2SO4",1,1,0,0,1341,null,0,0,0,0,0,0,"Amonyum Sülfat, (NH4) 2SO4",0,0,100,134.1,0,0,0,0,0]
[null,null,null,null,null,null,null,null,null,null,null,null,null,null,null,null,null,null,null,null,null,null,null,null,null,null,null,null,null,null,null,null,null,null,null,null,null,null,null,null,null,null,null,null,null,null,null,null,null,null,null,null,null,null,null,"Bakır Klorid, CuCl2",1,1,0,0,0,null,0,0,0,0,0,0,"Bakır Klorid, CuCl2",0,0,100,0,0,0,0,0,0]
[null,null,null,null,null,null,null,null,null,null,null,null,null,null,null,null,null,null,null,null,null,null,null,null,null,null,null,null,null,null,null,null,null,null,null,null,null,null,null,null,null,null,null,null,null,null,null,null,null,null,null,null,null,null,null,"Bakır Sülfat, 5 Sulu, CuSO4, 5H2O",1,1,0,0,0,null,0,0,0,0,0,0,"Bakır Sülfat, 5 Sulu, CuSO4, 5H2O",0,0,100,0,0,0,0,0,0]
[null,null,null,null,null,null,null,null,null,null,null,null,null,null,null,null,null,null,null,null,null,null,null,null,null,null,null,null,null,null,null,null,null,null,null,null,null,null,null,null,null,null,null,null,null,null,null,null,null,null,null,null,null,null,null,"Çinko Karbonat, ZnCO3",1,1,0,0,0,null,0,0,0,0,0,0,"Çinko Karbonat, ZnCO3",0,0,100,0,0,0,0,0,0]
[null,null,null,null,null,null,null,null,null,null,null,null,null,null,null,null,null,null,null,null,null,null,null,null,null,null,null,null,null,null,null,null,null,null,null,null,null,null,null,null,null,null,null,null,null,null,null,null,null,null,null,null,null,null,null,"Çinko Klorid, ZnCl2",1,1,0,0,0,null,0,0,0,0,0,0,"Çinko Klorid, ZnCl2",0,0,100,0,0,0,0,0,0]
[null,null,null,null,null,null,null,null,null,null,null,null,null,null,null,null,null,null,null,null,null,null,null,null,null,null,null,null,null,null,null,null,null,null,null,null,null,null,null,null,null,null,null,null,null,null,null,null,null,null,null,null,null,null,null,"Çinko Oksit, ZnO",1,1,0,0,0,null,0,0,0,0,0,0,"Çinko Oksit, ZnO",0,0,100,0,0,0,0,0,0]
[null,null,null,null,null,null,null,null,null,null,null,null,null,null,null,null,null,null,null,null,null,null,null,null,null,null,null,null,null,null,null,null,null,null,null,null,null,null,null,null,null,null,null,null,null,null,null,null,null,null,null,null,null,null,null,"Kalsiyum Fosfat, Ca(H2PO4)2",1,1,0,0,0,null,0,163.99999999999997,216,0,0,0,"Kalsiyum Fosfat, Ca(H2PO4)2",0,0,100,0,0,0,0,16.399999999999999,21.6]
[null,null,null,null,null,null,null,null,null,null,null,null,null,null,null,null,null,null,null,null,null,null,null,null,null,null,null,null,null,null,null,null,null,null,null,null,null,null,null,null,null,null,null,null,null,null,null,null,null,null,null,null,null,null,null,"Klasiyum Hidroksit, Ca(OH)2",1,1,0,0,0,null,0,540,0,0,0,0,"Klasiyum Hidroksit, Ca(OH)2",0,0,100,0,0,0,0,54,0]
[null,null,null,null,null,null,null,null,null,null,null,null,null,null,null,null,null,null,null,null,null,null,null,null,null,null,null,null,null,null,null,null,null,null,null,null,null,null,null,null,null,null,null,null,null,null,null,null,null,null,null,null,null,null,null,"Kalsiyum İyodat",1,1,0,0,0,null,0,100,0,0,0,0,"Kalsiyum İyodat",0,0,100,0,0,0,0,10,0]
[null,null,null,null,null,null,null,null,null,null,null,null,null,null,null,null,null,null,null,null,null,null,null,null,null,null,null,null,null,null,null,null,null,null,null,null,null,null,null,null,null,null,null,null,null,null,null,null,null,null,null,null,null,null,null,"Kalsiyum Karbonat, CaCO3",1,1,0,0,0,null,0,390,0.4,0,0,0,"Kalsiyum Karbonat, CaCO3",0,0,100,0,0,0,0,39,0.04]
[null,null,null,null,null,null,null,null,null,null,null,null,null,null,null,null,null,null,null,null,null,null,null,null,null,null,null,null,null,null,null,null,null,null,null,null,null,null,null,null,null,null,null,null,null,null,null,null,null,null,null,null,null,null,null,"Kalsiyum Klorid (susuz), CaCl2",1,1,0,0,0,null,0,342.99999999999994,0,0,0,0,"Kalsiyum Klorid (susuz), CaCl2",0,0,100,0,0,0,0,34.299999999999997,0]
[null,null,null,null,null,null,null,null,null,null,null,null,null,null,null,null,null,null,null,null,null,null,null,null,null,null,null,null,null,null,null,null,null,null,null,null,null,null,null,null,null,null,null,null,null,null,null,null,null,null,null,null,null,null,null,"Kalsiyum Klorid, 2 Sulu, CaCl2, 2H2O",1,1,0,0,0,null,0,280,0,0,0,0,"Kalsiyum Klorid, 2 Sulu, CaCl2, 2H2O",0,0,100,0,0,0,0,28,0]
[null,null,null,null,null,null,null,null,null,null,null,null,null,null,null,null,null,null,null,null,null,null,null,null,null,null,null,null,null,null,null,null,null,null,null,null,null,null,null,null,null,null,null,null,null,null,null,null,null,null,null,null,null,null,null,"Kalsiyum Oksit, Cao",1,1,0,0,0,null,0,714.7,0,0,0,0,"Kalsiyum Oksit, Cao",0,0,100,0,0,0,0,71.47,0]
[null,null,null,null,null,null,null,null,null,null,null,null,null,null,null,null,null,null,null,null,null,null,null,null,null,null,null,null,null,null,null,null,null,null,null,null,null,null,null,null,null,null,null,null,null,null,null,null,null,null,null,null,null,null,null,"Kalsiyum Sülfat, 2 Sulu, CaSO4, 2H2O",1,1,0,0,0,null,0,220,0,0,0,0,"Kalsiyum Sülfat, 2 Sulu, CaSO4, 2H2O",0,0,100,0,0,0,0,22,0]
[null,null,null,null,null,null,null,null,null,null,null,null,null,null,null,null,null,null,null,null,null,null,null,null,null,null,null,null,null,null,null,null,null,null,null,null,null,null,null,null,null,null,null,null,null,null,null,null,null,null,null,null,null,null,null,"Kaya Fosfatı",1,1,0,0,0,null,0,350,130,0,0,0,"Kaya Fosfatı",0,0,100,0,0,0,0,35,13]
[null,null,null,null,null,null,null,null,null,null,null,null,null,null,null,null,null,null,null,null,null,null,null,null,null,null,null,null,null,null,null,null,null,null,null,null,null,null,null,null,null,null,null,null,null,null,null,null,null,null,null,null,null,null,null,"Magnezyum Klorid, 6 Sulu, MgCl2, 6H2O",1,1,0,0,0,null,0,0,0,0,0,0,"Magnezyum Klorid, 6 Sulu, MgCl2, 6H2O",0,0,100,0,0,0,0,0,0]
[null,null,null,null,null,null,null,null,null,null,null,null,null,null,null,null,null,null,null,null,null,null,null,null,null,null,null,null,null,null,null,null,null,null,null,null,null,null,null,null,null,null,null,null,null,null,null,null,null,null,null,null,null,null,null,"Magnezyum Oksit, Mgo",1,1,0,0,0,null,0,30.7,0,0,0,0,"Magnezyum Oksit, Mgo",0,0,100,0,0,0,0,3.07,0]
[null,null,null,null,null,null,null,null,null,null,null,null,null,null,null,null,null,null,null,null,null,null,null,null,null,null,null,null,null,null,null,null,null,null,null,null,null,null,null,null,null,null,null,null,null,null,null,null,null,null,null,null,null,null,null,"Magnezyum Sülfat, 1 Sulu",1,0.98,0,0,0,null,0,0,0,0,0,0,"Magnezyum Sülfat, 1 Sulu",0,0,98,0,0,0,0,0,0]
[null,null,null,null,null,null,null,null,null,null,null,null,null,null,null,null,null,null,null,null,null,null,null,null,null,null,null,null,null,null,null,null,null,null,null,null,null,null,null,null,null,null,null,null,null,null,null,null,null,null,null,null,null,null,null,"Magnezyum Sülfat, 7 Sulu, MuSO4, 7H2O",1,0.98,0,0,0,null,0,0,0,0,0,0,"Magnezyum Sülfat, 7 Sulu, MuSO4, 7H2O",0,0,98,0,0,0,0,0,0]
[null,null,null,null,null,null,null,null,null,null,null,null,null,null,null,null,null,null,null,null,null,null,null,null,null,null,null,null,null,null,null,null,null,null,null,null,null,null,null,null,null,null,null,null,null,null,null,null,null,null,null,null,null,null,null,"Manganez Karbonat, MnCO3",1,1,0,0,0,null,0,0,0,0,0,0,"Manganez Karbonat, MnCO3",0,0,100,0,0,0,0,0,0]
[null,null,null,null,null,null,null,null,null,null,null,null,null,null,null,null,null,null,null,null,null,null,null,null,null,null,null,null,null,null,null,null,null,null,null,null,null,null,null,null,null,null,null,null,null,null,null,null,null,null,null,null,null,null,null,"Manganez Klorid , 4 Sulu , MnCl2, 4H2O",1,1,0,0,0,null,0,0,0,0,0,0,"Manganez Klorid , 4 Sulu , MnCl2, 4H2O",0,0,100,0,0,0,0,0,0]
[null,null,null,null,null,null,null,null,null,null,null,null,null,null,null,null,null,null,null,null,null,null,null,null,null,null,null,null,null,null,null,null,null,null,null,null,null,null,null,null,null,null,null,null,null,null,null,null,null,null,null,null,null,null,null,"Manganez Klorid , MnCl2",1,1,0,0,0,null,0,0,0,0,0,0,"Manganez Klorid , MnCl2",0,0,100,0,0,0,0,0,0]
[null,null,null,null,null,null,null,null,null,null,null,null,null,null,null,null,null,null,null,null,null,null,null,null,null,null,null,null,null,null,null,null,null,null,null,null,null,null,null,null,null,null,null,null,null,null,null,null,null,null,null,null,null,null,null,"Manganez Sülfat, 1 Sulu, MnSO4, H2O",1,1,0,0,0,null,0,0,0,0,0,0,"Manganez Sülfat, 1 Sulu, MnSO4, H2O",0,0,100,0,0,0,0,0,0]
[null,null,null,null,null,null,null,null,null,null,null,null,null,null,null,null,null,null,null,null,null,null,null,null,null,null,null,null,null,null,null,null,null,null,null,null,null,null,null,null,null,null,null,null,null,null,null,null,null,null,null,null,null,null,null,"Manganez Sülfat, MnSO4",1,1,0,0,0,null,0,0,0,0,0,0,"Manganez Sülfat, MnSO4",0,0,100,0,0,0,0,0,0]
[null,null,null,null,null,null,null,null,null,null,null,null,null,null,null,null,null,null,null,null,null,null,null,null,null,null,null,null,null,null,null,null,null,null,null,null,null,null,null,null,null,null,null,null,null,null,null,null,null,null,null,null,null,null,null,"Sodyum Selenit, Na2SeO3",1,1,0,0,0,null,0,0,0,0,0,0,"Sodyum Selenit, Na2SeO3",0,0,100,0,0,0,0,0,0]
[null,null,null,null,null,null,null,null,null,null,null,null,null,null,null,null,null,null,null,null,null,null,null,null,null,null,null,null,null,null,null,null,null,null,null,null,null,null,null,null,null,null,null,null,null,null,null,null,null,null,null,null,null,null,null,"Sodyum Sülfat ,10 Sulu, Na2SO4, 10H2O",1,1,0,0,0,null,0,0,250,0,0,0,"Sodyum Sülfat ,10 Sulu, Na2SO4, 10H2O",0,0,100,0,0,0,0,0,25]
[null,null,null,null,null,null,null,null,null,null,null,null,null,null,null,null,null,null,null,null,null,null,null,null,null,null,null,null,null,null,null,null,null,null,null,null,null,null,null,null,null,null,null,null,null,null,null,null,null,null,null,null,null,null,null,"Sodyum Tripolifosfat, Na5P3O10",1,1,0,0,0,null,0,0,0,0,0,0,"Sodyum Tripolifosfat, Na5P3O10",0,0,100,0,0,0,0,0,0]
[null,null,null,null,null,null,null,null,null,null,null,null,null,null,null,null,null,null,null,null,null,null,null,null,null,null,null,null,null,null,null,null,null,null,null,null,null,null,null,null,null,null,null,null,null,null,null,null,null,null,null,null,null,null,null,"Tuz ",1,1,0,0,0,null,0,0,0,0,0,0,"Tuz ",0,0,100,0,0,0,0,0,0]
[null,null,null,null,null,null,null,null,null,null,null,null,null,null,null,null,null,null,null,null,null,null,null,null,null,null,null,null,null,null,null,null,null,null,null,null,null,null,null,null,null,null,null,null,null,null,null,null,null,null,null,null,null,null,null,"Üre",1,1,0,0,2810,null,0,0,0,0,0,0,"Üre",0,0,100,281,0,0,0,0,0]
[null,null,null,null,null,null,null,null,null,null,null,null,null,null,null,null,null,null,null,null,null,null,null,null,null,null,null,null,null,null,null,null,null,null,null,null,null,null,null,null,null,null,null,null,null,null,null,null,null,null,null,null,null,null,null,"Vitamin Kar. (Kavimix 802-ekonomik)",1,1,0,0,0,null,0,0,0,0,0,0,"Vitamin Kar. (Kavimix 802-ekonomik)",0,0,100,0,0,0,0,0,0]
[null,null,null,null,null,null,null,null,null,null,null,null,null,null,null,null,null,null,null,null,null,null,null,null,null,null,null,null,null,null,null,null,null,null,null,null,null,null,null,null,null,null,null,null,null,null,null,null,null,null,null,null,null,null,null,"Vitamin Kar. (Kavimix 803-zengin)",1,1,0,0,0,null,0,0,0,0,0,0,"Vitamin Kar. (Kavimix 803-zengin)",0,0,100,0,0,0,0,0,0]
[null,null,null,null,null,null,null,null,null,null,null,null,null,null,null,null,null,null,null,null,null,null,null,null,null,null,null,null,null,null,null,null,null,null,null,null,null,null,null,null,null,null,null,null,null,null,null,null,null,null,null,null,null,null,null,"Vitamin Kar. ( Rovimix 302-F/30)",1,1,0,0,0,null,0,0,0,0,0,0,"Vitamin Kar. ( Rovimix 302-F/30)",0,0,100,0,0,0,0,0,0]
[null,null,null,null,null,null,null,null,null,null,null,null,null,null,null,null,null,null,null,null,null,null,null,null,null,null,null,null,null,null,null,null,null,null,null,null,null,null,null,null,null,null,null,null,null,null,null,null,null,null,null,null,null,null,null,"Vitamin Kar. (Farmix-Standart)",1,1,0,0,0,null,0,0,0,0,0,0,"Vitamin Kar. (Farmix-Standart)",0,0,100,0,0,0,0,0,0]
[null,null,null,null,null,null,null,null,null,null,null,null,null,null,null,null,null,null,null,null,null,null,null,null,null,null,null,null,null,null,null,null,null,null,null,null,null,null,null,null,null,null,null,null,null,null,null,null,null,null,null,null,null,null,null,"Vit-Min. Kar. (Rovimix 302-SM) 8Süt), 1kg/ton",1,1,0,0,0,null,0,0,0,0,0,0,"Vit-Min. Kar. (Rovimix 302-SM) 8Süt), 1kg/ton",0,0,100,0,0,0,0,0,0]
[null,null,null,null,null,null,null,null,null,null,null,null,null,null,null,null,null,null,null,null,null,null,null,null,null,null,null,null,null,null,null,null,null,null,null,null,null,null,null,null,null,null,null,null,null,null,null,null,null,null,null,null,null,null,null,"BOŞ",1,0,0,0,0,null,0,0,0,"0","0","0","BOŞ","0","0","0","0","0","0","0","0","0","0"]
[null,null,null,null,null,null,null,null,null,null,null,null,null,null,null,null,null,null,null,null,null,null,null,null,null,null,null,null,null,null,null,null,null,null,null,null,null,null,null,null,null,null,null,null,null,null,null,null,null,null,null,null,null,null,null,"","","","","","","",null,"",""]

{"sheet":"GÜNLÜK YEM (KGBAŞ)","index":6,"n_rows":16,"n_cols":20,"rows_kept":16,"cut":false,"hidden":false,"merged":[[0,1,0,19]]}
[null,"AHIR GÜNLÜK YEM TÜKETİMİ (KG/BAŞ)"]
[{"$f":"HESAP!B2","v":"HAYVAN \nCİNSİ"},{"$f":"HESAP!H2","v":"HAYVAN SAYISI"},{"$f":"HESAP!BN2","v":"Sığır Süt Yemi, 24 HP, 3100 ME"},{"$f":"HESAP!BO2","v":"Sığır Süt Yemi,18 HP, 2600 ME"},{"$f":"HESAP!BP2","v":"Yulaf Kuru Otu, Başaklı"},{"$f":"HESAP!BQ2","v":"Arpa , Ezme"},{"$f":"HESAP!BR2","v":"Buğday Samanı"},{"$f":"HESAP!BS2","v":"Çayır Merası, Soğuk Mevsim, Bakımlı"},{"$f":"HESAP!BT2","v":"Yonca Kuru Otu, 5. Kalite  %13-15 HP, <%48-54 NDF"},{"$f":"HESAP!BU2","v":"Sığır Süt Yemi,16 HP, 2400 ME"},{"$f":"HESAP!BV2","v":"Pamuk Tohumu Küspesi, Pres, % 28 HP "},{"$f":"HESAP!BW2","v":"Baklagil Kuru Otu, Olgun >%46 NDF"},{"$f":"HESAP!BX2","v":"Ayçiçeği Küspesi, Solvent, %32 HP"},{"$f":"HESAP!BY2","v":"Soya Küspesi , Solvent, %51"},{"$f":"HESAP!BZ2","v":"Çayır Kuru Otu , Soğuk Mevsim,Olgun >%60 NDF"},{"$f":"HESAP!CA2","v":"Mısır Silajı, %33-40 KM"},{"$f":"HESAP!CB2","v":"MIsır Gluteni,63"},{"$f":"HESAP!CC2","v":"Yağ, Bitkisel"},{"$f":"HESAP!CD2","v":"Kalsiyum Karbonat, CaCO3"},{"$f":"HESAP!CE2","v":"Amonyum Fosfat (Monobazik), (NH4) 2HPO4"}]
[{"$f":"HESAP!B3","v":"İnek Kuru dönem"},{"$f":"HESAP!H3","v":100},{"$f":"HESAP!BN3","v":0},{"$f":"HESAP!BO3","v":0},{"$f":"HESAP!BP3","v":0},{"$f":"HESAP!BQ3","v":0},{"$f":"HESAP!BR3","v":7.1698106960094483},{"$f":"HESAP!BS3","v":0},{"$f":"HESAP!BT3","v":0},{"$f":"HESAP!BU3","v":0},{"$f":"HESAP!BV3","v":0},{"$f":"HESAP!BW3","v":0},{"$f":"HESAP!BX3","v":0},{"$f":"HESAP!BY3","v":0},{"$f":"HESAP!BZ3","v":0},{"$f":"HESAP!CA3","v":19.783390337966253},{"$f":"HESAP!CB3","v":0},{"$f":"HESAP!CC3","v":1},{"$f":"HESAP!CD3","v":9.600953258870738E-3},{"$f":"HESAP!CE3","v":2.0880961562422567E-2}]
[{"$f":"HESAP!B4","v":"İnek Lakbaşı"},{"$f":"HESAP!H4","v":88},{"$f":"HESAP!BN4","v":8.7140349260625971},{"$f":"HESAP!BO4","v":0},{"$f":"HESAP!BP4","v":0},{"$f":"HESAP!BQ4","v":2.1247640038056801},{"$f":"HESAP!BR4","v":0},{"$f":"HESAP!BS4","v":0},{"$f":"HESAP!BT4","v":0},{"$f":"HESAP!BU4","v":0},{"$f":"HESAP!BV4","v":4.6012634495078188},{"$f":"HESAP!BW4","v":0},{"$f":"HESAP!BX4","v":0},{"$f":"HESAP!BY4","v":0},{"$f":"HESAP!BZ4","v":0},{"$f":"HESAP!CA4","v":7.3481690318432387},{"$f":"HESAP!CB4","v":1.5217748688129613},{"$f":"HESAP!CC4","v":0.27341675757779454},{"$f":"HESAP!CD4","v":0},{"$f":"HESAP!CE4","v":0}]
[{"$f":"HESAP!B5","v":"İnek lak ort"},{"$f":"HESAP!H5","v":88},{"$f":"HESAP!BN5","v":0.12407693701180234},{"$f":"HESAP!BO5","v":0},{"$f":"HESAP!BP5","v":0},{"$f":"HESAP!BQ5","v":8.6947797679919887},{"$f":"HESAP!BR5","v":0},{"$f":"HESAP!BS5","v":52.636184435361656},{"$f":"HESAP!BT5","v":0},{"$f":"HESAP!BU5","v":0},{"$f":"HESAP!BV5","v":0},{"$f":"HESAP!BW5","v":0},{"$f":"HESAP!BX5","v":0},{"$f":"HESAP!BY5","v":0},{"$f":"HESAP!BZ5","v":0},{"$f":"HESAP!CA5","v":0},{"$f":"HESAP!CB5","v":0},{"$f":"HESAP!CC5","v":0},{"$f":"HESAP!CD5","v":8.6617782495970574E-2},{"$f":"HESAP!CE5","v":8.5831083183124809E-2}]
[{"$f":"HESAP!B6","v":"inek lakson"},{"$f":"HESAP!H6","v":88},{"$f":"HESAP!BN6","v":3.9827099996117696},{"$f":"HESAP!BO6","v":0},{"$f":"HESAP!BP6","v":0},{"$f":"HESAP!BQ6","v":6.0032199513818671},{"$f":"HESAP!BR6","v":1.4974439352651451E-8},{"$f":"HESAP!BS6","v":0},{"$f":"HESAP!BT6","v":0},{"$f":"HESAP!BU6","v":0},{"$f":"HESAP!BV6","v":0},{"$f":"HESAP!BW6","v":0},{"$f":"HESAP!BX6","v":0},{"$f":"HESAP!BY6","v":0},{"$f":"HESAP!BZ6","v":0},{"$f":"HESAP!CA6","v":10.14565302216235},{"$f":"HESAP!CB6","v":0},{"$f":"HESAP!CC6","v":0.13137079639662147},{"$f":"HESAP!CD6","v":4.275646847673481E-2},{"$f":"HESAP!CE6","v":8.2821304805933069E-2}]
[{"$f":"A2","v":"HAYVAN \nCİNSİ"},{"$f":"B2","v":"HAYVAN SAYISI"},{"$f":"HESAP!BN9","v":"Çayır-Baklagil Kuru Otu, Olgun> %53 NDF"},{"$f":"HESAP!BO9","v":"Yağ, Ca Sabunları"},{"$f":"HESAP!BP9","v":"Buğday, Ezme"},{"$f":"HESAP!BQ9","v":"Buzağı Başlangıç Yemi"},{"$f":"HESAP!BR9","v":"Buzağı Büyütme Yemi"},{"$f":"HESAP!BS9","v":"Sığır Besi Yemi"},{"$f":"HESAP!BT9","v":"Mısır Silajı, %33-40 KM"},{"$f":"HESAP!BU9","v":"Çayır Merası, Soğuk Mevsim, Bakımlı"},{"$f":"HESAP!BV9","v":"Soya Küspesi, Ekspeller, %45 HP"},{"$f":"HESAP!BW9","v":"Çayır Kuru Otu, Soğuk Mevsim"},{"$f":"HESAP!BX9","v":"Buğday Samanı"},{"$f":"HESAP!BY9","v":"Çayır Merası, Soğuk Mevsim, Bakımlı"},{"$f":"HESAP!BZ9","v":"Melas, Şeker Pancarı"},{"$f":"HESAP!CA9","v":"Arpa , Ezme"},{"$f":"HESAP!CB9","v":"Amonyum Fosfat (Dibazik), (NH4) 2HPO4"},{"$f":"HESAP!CC9","v":"Kalsiyum Karbonat, CaCO3"},{"$f":"HESAP!CD9","v":"Süt"},{"$f":"HESAP!CE9","v":"Süt İkamesi, 18 HP, 20 YAĞ"}]
[{"$f":"HESAP!B10","v":"Erkek Buzağı"},{"$f":"HESAP!H10","v":40},{"$f":"HESAP!BN10","v":0},{"$f":"HESAP!BO10","v":0.31601671214772759},{"$f":"HESAP!BP10","v":0},{"$f":"HESAP!BQ10","v":0},{"$f":"HESAP!BR10","v":0},{"$f":"HESAP!BS10","v":0},{"$f":"HESAP!BT10","v":0},{"$f":"HESAP!BU10","v":0},{"$f":"HESAP!BV10","v":0.44230943557287594},{"$f":"HESAP!BW10","v":0},{"$f":"HESAP!BX10","v":0},{"$f":"HESAP!BY10","v":0},{"$f":"HESAP!BZ10","v":0},{"$f":"HESAP!CA10","v":0},{"$f":"HESAP!CB10","v":1.9581208119317853E-7},{"$f":"HESAP!CC10","v":0},{"$f":"HESAP!CD10","v":4.4000000000000004},{"$f":"HESAP!CE10","v":0}]
[{"$f":"HESAP!B11","v":"Tosun Başlangıç"},{"$f":"HESAP!H11","v":40},{"$f":"HESAP!BN11","v":0},{"$f":"HESAP!BO11","v":0.77281061635428572},{"$f":"HESAP!BP11","v":1.6027105856240389},{"$f":"HESAP!BQ11","v":0},{"$f":"HESAP!BR11","v":0},{"$f":"HESAP!BS11","v":0},{"$f":"HESAP!BT11","v":4.3072338976905327},{"$f":"HESAP!BU11","v":0},{"$f":"HESAP!BV11","v":0.70904342455895142},{"$f":"HESAP!BW11","v":0},{"$f":"HESAP!BX11","v":0},{"$f":"HESAP!BY11","v":0},{"$f":"HESAP!BZ11","v":0},{"$f":"HESAP!CA11","v":0},{"$f":"HESAP!CB11","v":6.8988244002715415E-2},{"$f":"HESAP!CC11","v":5.4031233696375039E-2},{"$f":"HESAP!CD11","v":0},{"$f":"HESAP!CE11","v":0}]
[{"$f":"HESAP!B12","v":"Tosun Besleme Ortası"},{"$f":"HESAP!H12","v":40},{"$f":"HESAP!BN12","v":0},{"$f":"HESAP!BO12","v":0},{"$f":"HESAP!BP12","v":0},{"$f":"HESAP!BQ12","v":0},{"$f":"HESAP!BR12","v":0},{"$f":"HESAP!BS12","v":0},{"$f":"HESAP!BT12","v":0},{"$f":"HESAP!BU12","v":25},{"$f":"HESAP!BV12","v":0},{"$f":"HESAP!BW12","v":0},{"$f":"HESAP!BX12","v":0},{"$f":"HESAP!BY12","v":0},{"$f":"HESAP!BZ12","v":0},{"$f":"HESAP!CA12","v":2.5},{"$f":"HESAP!CB12","v":2.2645082662199542E-2},{"$f":"HESAP!CC12","v":4.3118807820025737E-2},{"$f":"HESAP!CD12","v":0},{"$f":"HESAP!CE12","v":0}]
[{"$f":"HESAP!B13","v":"Tosun Bitiş"},{"$f":"HESAP!H13","v":40},{"$f":"HESAP!BN13","v":0},{"$f":"HESAP!BO13","v":0.92245948060402227},{"$f":"HESAP!BP13","v":2},{"$f":"HESAP!BQ13","v":0},{"$f":"HESAP!BR13","v":0},{"$f":"HESAP!BS13","v":0},{"$f":"HESAP!BT13","v":8.6242642450684421},{"$f":"HESAP!BU13","v":0},{"$f":"HESAP!BV13","v":0.40306627847975379},{"$f":"HESAP!BW13","v":0},{"$f":"HESAP!BX13","v":0},{"$f":"HESAP!BY13","v":0},{"$f":"HESAP!BZ13","v":0},{"$f":"HESAP!CA13","v":3.5154688067393027},{"$f":"HESAP!CB13","v":2.0224814716820052E-2},{"$f":"HESAP!CC13","v":5.6955278228026519E-2},{"$f":"HESAP!CD13","v":0},{"$f":"HESAP!CE13","v":0}]
[{"$f":"A7","v":"HAYVAN \nCİNSİ"},{"$f":"B7","v":"HAYVAN SAYISI"},{"$f":"HESAP!BN14","v":"Çayır-Baklagil Kuru Otu, Orta Olgun, %47-53 NDF"},{"$f":"HESAP!BO14","v":"Arpa , Ezme"},{"$f":"HESAP!BP14","v":"Yonca Kuru Otu, 2. Kalite  %19-21 HP, <%37-40 NDF"},{"$f":"HESAP!BQ14","v":"Buzağı Başlangıç Yemi"},{"$f":"HESAP!BR14","v":"Buzağı Büyütme Yemi"},{"$f":"HESAP!BS14","v":"Düve Yemi 1. Sınıf (TS11110)"},{"$f":"HESAP!BT14","v":"Düve Yemi 2. Sınıf (TS11110)"},{"$f":"HESAP!BU14","v":"Yonca Kuru Otu, 1. Kalite >%21 HP,     <%37 NDF"},{"$f":"HESAP!BV14","v":"Çayır Merası, Soğuk Mevsim, Bakımlı"},{"$f":"HESAP!BW14","v":"Çayır Kuru Otu, Soğuk Mevsim"},{"$f":"HESAP!BX14","v":"Yağ, Bitkisel"},{"$f":"HESAP!BY14","v":"Mısır Silajı, %29-33 KM"},{"$f":"HESAP!BZ14","v":"Buğday Samanı"},{"$f":"HESAP!CA14","v":"Soya Küspesi , Solvent, %51"},{"$f":"HESAP!CB14","v":"Amonyum Fosfat (Dibazik), (NH4) 2HPO4"},{"$f":"HESAP!CC14","v":"Kalsiyum Karbonat, CaCO3"},{"$f":"HESAP!CD14","v":"Süt"},{"$f":"HESAP!CE14","v":"Süt İkamesi, 18 HP, 20 YAĞ"}]
[{"$f":"HESAP!B15","v":"Dişi Buzağı"},{"$f":"HESAP!H15","v":44},{"$f":"HESAP!BN15","v":0},{"$f":"HESAP!BO15","v":0},{"$f":"HESAP!BP15","v":0},{"$f":"HESAP!BQ15","v":0},{"$f":"HESAP!BR15","v":0},{"$f":"HESAP!BS15","v":5.3342007385804878E-2},{"$f":"HESAP!BT15","v":0},{"$f":"HESAP!BU15","v":0},{"$f":"HESAP!BV15","v":0},{"$f":"HESAP!BW15","v":0},{"$f":"HESAP!BX15","v":0.30811824416253109},{"$f":"HESAP!BY15","v":0},{"$f":"HESAP!BZ15","v":0},{"$f":"HESAP!CA15","v":0.41485260499993343},{"$f":"HESAP!CB15","v":0},{"$f":"HESAP!CC15","v":0},{"$f":"HESAP!CD15","v":2.88},{"$f":"HESAP!CE15","v":0}]
[{"$f":"HESAP!B16","v":"Düve Başlangıç"},{"$f":"HESAP!H16","v":44},{"$f":"HESAP!BN16","v":0},{"$f":"HESAP!BO16","v":1.3933475208176795},{"$f":"HESAP!BP16","v":1.4941150189329973},{"$f":"HESAP!BQ16","v":0},{"$f":"HESAP!BR16","v":0},{"$f":"HESAP!BS16","v":0},{"$f":"HESAP!BT16","v":0},{"$f":"HESAP!BU16","v":0},{"$f":"HESAP!BV16","v":0},{"$f":"HESAP!BW16","v":2.7329285854110839},{"$f":"HESAP!BX16","v":0},{"$f":"HESAP!BY16","v":0},{"$f":"HESAP!BZ16","v":0},{"$f":"HESAP!CA16","v":0.49609010342248733},{"$f":"HESAP!CB16","v":6.010833022422693E-2},{"$f":"HESAP!CC16","v":0},{"$f":"HESAP!CD16","v":0},{"$f":"HESAP!CE16","v":0}]
[{"$f":"HESAP!B17","v":"Düve Besleme Ortası"},{"$f":"HESAP!H17","v":44},{"$f":"HESAP!BN17","v":0},{"$f":"HESAP!BO17","v":5.5710375245639545},{"$f":"HESAP!BP17","v":0},{"$f":"HESAP!BQ17","v":0},{"$f":"HESAP!BR17","v":0},{"$f":"HESAP!BS17","v":0},{"$f":"HESAP!BT17","v":0},{"$f":"HESAP!BU17","v":0},{"$f":"HESAP!BV17","v":0},{"$f":"HESAP!BW17","v":0},{"$f":"HESAP!BX17","v":0.17401718247629516},{"$f":"HESAP!BY17","v":0.78723392893353605},{"$f":"HESAP!BZ17","v":3.7442459799452914},{"$f":"HESAP!CA17","v":0},{"$f":"HESAP!CB17","v":1.1849203988315973E-2},{"$f":"HESAP!CC17","v":4.8030732357658978E-2},{"$f":"HESAP!CD17","v":0},{"$f":"HESAP!CE17","v":0}]
[{"$f":"HESAP!B18","v":"Düve Bitiş"},{"$f":"HESAP!H18","v":44},{"$f":"HESAP!BN18","v":0},{"$f":"HESAP!BO18","v":8.316561570241344},{"$f":"HESAP!BP18","v":0},{"$f":"HESAP!BQ18","v":0},{"$f":"HESAP!BR18","v":0},{"$f":"HESAP!BS18","v":0},{"$f":"HESAP!BT18","v":0},{"$f":"HESAP!BU18","v":0},{"$f":"HESAP!BV18","v":0},{"$f":"HESAP!BW18","v":0},{"$f":"HESAP!BX18","v":0.20972363886674963},{"$f":"HESAP!BY18","v":4.9628892207685835},{"$f":"HESAP!BZ18","v":2.7168796687082826},{"$f":"HESAP!CA18","v":0},{"$f":"HESAP!CB18","v":2.6176997695280632E-2},{"$f":"HESAP!CC18","v":7.6151036761159488E-2},{"$f":"HESAP!CD18","v":0},{"$f":"HESAP!CE18","v":0}]

{"sheet":"AHIR YEM (KGGÜN)","index":7,"n_rows":16,"n_cols":19,"rows_kept":16,"cut":false,"hidden":false,"merged":[[0,1,0,18]]}
[null,"AHIR GÜNLÜK TOPLAM YEM TÜKETİMİ (KG)"]
[{"$f":"'GÜNLÜK YEM (KGBAŞ)'!A2","v":"HAYVAN \nCİNSİ"},{"$f":"'GÜNLÜK YEM (KGBAŞ)'!C2","v":"Sığır Süt Yemi, 24 HP, 3100 ME"},{"$f":"'GÜNLÜK YEM (KGBAŞ)'!D2","v":"Sığır Süt Yemi,18 HP, 2600 ME"},{"$f":"'GÜNLÜK YEM (KGBAŞ)'!E2","v":"Yulaf Kuru Otu, Başaklı"},{"$f":"'GÜNLÜK YEM (KGBAŞ)'!F2","v":"Arpa , Ezme"},{"$f":"'GÜNLÜK YEM (KGBAŞ)'!G2","v":"Buğday Samanı"},{"$f":"'GÜNLÜK YEM (KGBAŞ)'!H2","v":"Çayır Merası, Soğuk Mevsim, Bakımlı"},{"$f":"'GÜNLÜK YEM (KGBAŞ)'!I2","v":"Yonca Kuru Otu, 5. Kalite  %13-15 HP, <%48-54 NDF"},{"$f":"'GÜNLÜK YEM (KGBAŞ)'!J2","v":"Sığır Süt Yemi,16 HP, 2400 ME"},{"$f":"'GÜNLÜK YEM (KGBAŞ)'!K2","v":"Pamuk Tohumu Küspesi, Pres, % 28 HP "},{"$f":"'GÜNLÜK YEM (KGBAŞ)'!L2","v":"Baklagil Kuru Otu, Olgun >%46 NDF"},{"$f":"'GÜNLÜK YEM (KGBAŞ)'!M2","v":"Ayçiçeği Küspesi, Solvent, %32 HP"},{"$f":"'GÜNLÜK YEM (KGBAŞ)'!N2","v":"Soya Küspesi , Solvent, %51"},{"$f":"'GÜNLÜK YEM (KGBAŞ)'!O2","v":"Çayır Kuru Otu , Soğuk Mevsim,Olgun >%60 NDF"},{"$f":"'GÜNLÜK YEM (KGBAŞ)'!P2","v":"Mısır Silajı, %33-40 KM"},{"$f":"'GÜNLÜK YEM (KGBAŞ)'!Q2","v":"MIsır Gluteni,63"},{"$f":"'GÜNLÜK YEM (KGBAŞ)'!R2","v":"Yağ, Bitkisel"},{"$f":"'GÜNLÜK YEM (KGBAŞ)'!S2","v":"Kalsiyum Karbonat, CaCO3"},{"$f":"'GÜNLÜK YEM (KGBAŞ)'!T2","v":"Amonyum Fosfat (Monobazik), (NH4) 2HPO4"}]
[{"$f":"'GÜNLÜK YEM (KGBAŞ)'!A3","v":"İnek Kuru dönem"},{"$f":"'GÜNLÜK YEM (KGBAŞ)'!$B3*'GÜNLÜK YEM (KGBAŞ)'!C3","v":0},{"$f":"'GÜNLÜK YEM (KGBAŞ)'!$B3*'GÜNLÜK YEM (KGBAŞ)'!D3","v":0},{"$f":"'GÜNLÜK YEM (KGBAŞ)'!$B3*'GÜNLÜK YEM (KGBAŞ)'!E3","v":0},{"$f":"'GÜNLÜK YEM (KGBAŞ)'!$B3*'GÜNLÜK YEM (KGBAŞ)'!F3","v":0},{"$f":"'GÜNLÜK YEM (KGBAŞ)'!$B3*'GÜNLÜK YEM (KGBAŞ)'!G3","v":716.98106960094481},{"$f":"'GÜNLÜK YEM (KGBAŞ)'!$B3*'GÜNLÜK YEM (KGBAŞ)'!H3","v":0},{"$f":"'GÜNLÜK YEM (KGBAŞ)'!$B3*'GÜNLÜK YEM (KGBAŞ)'!I3","v":0},{"$f":"'GÜNLÜK YEM (KGBAŞ)'!$B3*'GÜNLÜK YEM (KGBAŞ)'!J3","v":0},{"$f":"'GÜNLÜK YEM (KGBAŞ)'!$B3*'GÜNLÜK YEM (KGBAŞ)'!K3","v":0},{"$f":"'GÜNLÜK YEM (KGBAŞ)'!$B3*'GÜNLÜK YEM (KGBAŞ)'!L3","v":0},{"$f":"'GÜNLÜK YEM (KGBAŞ)'!$B3*'GÜNLÜK YEM (KGBAŞ)'!M3","v":0},{"$f":"'GÜNLÜK YEM (KGBAŞ)'!$B3*'GÜNLÜK YEM (KGBAŞ)'!N3","v":0},{"$f":"'GÜNLÜK YEM (KGBAŞ)'!$B3*'GÜNLÜK YEM (KGBAŞ)'!O3","v":0},{"$f":"'GÜNLÜK YEM (KGBAŞ)'!$B3*'GÜNLÜK YEM (KGBAŞ)'!P3","v":1978.3390337966252},{"$f":"'GÜNLÜK YEM (KGBAŞ)'!$B3*'GÜNLÜK YEM (KGBAŞ)'!Q3","v":0},{"$f":"'GÜNLÜK YEM (KGBAŞ)'!$B3*'GÜNLÜK YEM (KGBAŞ)'!R3","v":100},{"$f":"'GÜNLÜK YEM (KGBAŞ)'!$B3*'GÜNLÜK YEM (KGBAŞ)'!S3","v":0.9600953258870738},{"$f":"'GÜNLÜK YEM (KGBAŞ)'!$B3*'GÜNLÜK YEM (KGBAŞ)'!T3","v":2.0880961562422566}]
[{"$f":"'GÜNLÜK YEM (KGBAŞ)'!A4","v":"İnek Lakbaşı"},{"$f":"'GÜNLÜK YEM (KGBAŞ)'!$B4*'GÜNLÜK YEM (KGBAŞ)'!C4","v":766.8350734935085},{"$f":"'GÜNLÜK YEM (KGBAŞ)'!$B4*'GÜNLÜK YEM (KGBAŞ)'!D4","v":0},{"$f":"'GÜNLÜK YEM (KGBAŞ)'!$B4*'GÜNLÜK YEM (KGBAŞ)'!E4","v":0},{"$f":"'GÜNLÜK YEM (KGBAŞ)'!$B4*'GÜNLÜK YEM (KGBAŞ)'!F4","v":186.97923233489985},{"$f":"'GÜNLÜK YEM (KGBAŞ)'!$B4*'GÜNLÜK YEM (KGBAŞ)'!G4","v":0},{"$f":"'GÜNLÜK YEM (KGBAŞ)'!$B4*'GÜNLÜK YEM (KGBAŞ)'!H4","v":0},{"$f":"'GÜNLÜK YEM (KGBAŞ)'!$B4*'GÜNLÜK YEM (KGBAŞ)'!I4","v":0},{"$f":"'GÜNLÜK YEM (KGBAŞ)'!$B4*'GÜNLÜK YEM (KGBAŞ)'!J4","v":0},{"$f":"'GÜNLÜK YEM (KGBAŞ)'!$B4*'GÜNLÜK YEM (KGBAŞ)'!K4","v":404.91118355668806},{"$f":"'GÜNLÜK YEM (KGBAŞ)'!$B4*'GÜNLÜK YEM (KGBAŞ)'!L4","v":0},{"$f":"'GÜNLÜK YEM (KGBAŞ)'!$B4*'GÜNLÜK YEM (KGBAŞ)'!M4","v":0},{"$f":"'GÜNLÜK YEM (KGBAŞ)'!$B4*'GÜNLÜK YEM (KGBAŞ)'!N4","v":0},{"$f":"'GÜNLÜK YEM (KGBAŞ)'!$B4*'GÜNLÜK YEM (KGBAŞ)'!O4","v":0},{"$f":"'GÜNLÜK YEM (KGBAŞ)'!$B4*'GÜNLÜK YEM (KGBAŞ)'!P4","v":646.63887480220501},{"$f":"'GÜNLÜK YEM (KGBAŞ)'!$B4*'GÜNLÜK YEM (KGBAŞ)'!Q4","v":133.91618845554061},{"$f":"'GÜNLÜK YEM (KGBAŞ)'!$B4*'GÜNLÜK YEM (KGBAŞ)'!R4","v":24.060674666845919},{"$f":"'GÜNLÜK YEM (KGBAŞ)'!$B4*'GÜNLÜK YEM (KGBAŞ)'!S4","v":0},{"$f":"'GÜNLÜK YEM (KGBAŞ)'!$B4*'GÜNLÜK YEM (KGBAŞ)'!T4","v":0}]
[{"$f":"'GÜNLÜK YEM (KGBAŞ)'!A5","v":"İnek lak ort"},{"$f":"'GÜNLÜK YEM (KGBAŞ)'!$B5*'GÜNLÜK YEM (KGBAŞ)'!C5","v":10.918770457038605},{"$f":"'GÜNLÜK YEM (KGBAŞ)'!$B5*'GÜNLÜK YEM (KGBAŞ)'!D5","v":0},{"$f":"'GÜNLÜK YEM (KGBAŞ)'!$B5*'GÜNLÜK YEM (KGBAŞ)'!E5","v":0},{"$f":"'GÜNLÜK YEM (KGBAŞ)'!$B5*'GÜNLÜK YEM (KGBAŞ)'!F5","v":765.14061958329501},{"$f":"'GÜNLÜK YEM (KGBAŞ)'!$B5*'GÜNLÜK YEM (KGBAŞ)'!G5","v":0},{"$f":"'GÜNLÜK YEM (KGBAŞ)'!$B5*'GÜNLÜK YEM (KGBAŞ)'!H5","v":4631.9842303118257},{"$f":"'GÜNLÜK YEM (KGBAŞ)'!$B5*'GÜNLÜK YEM (KGBAŞ)'!I5","v":0},{"$f":"'GÜNLÜK YEM (KGBAŞ)'!$B5*'GÜNLÜK YEM (KGBAŞ)'!J5","v":0},{"$f":"'GÜNLÜK YEM (KGBAŞ)'!$B5*'GÜNLÜK YEM (KGBAŞ)'!K5","v":0},{"$f":"'GÜNLÜK YEM (KGBAŞ)'!$B5*'GÜNLÜK YEM (KGBAŞ)'!L5","v":0},{"$f":"'GÜNLÜK YEM (KGBAŞ)'!$B5*'GÜNLÜK YEM (KGBAŞ)'!M5","v":0},{"$f":"'GÜNLÜK YEM (KGBAŞ)'!$B5*'GÜNLÜK YEM (KGBAŞ)'!N5","v":0},{"$f":"'GÜNLÜK YEM (KGBAŞ)'!$B5*'GÜNLÜK YEM (KGBAŞ)'!O5","v":0},{"$f":"'GÜNLÜK YEM (KGBAŞ)'!$B5*'GÜNLÜK YEM (KGBAŞ)'!P5","v":0},{"$f":"'GÜNLÜK YEM (KGBAŞ)'!$B5*'GÜNLÜK YEM (KGBAŞ)'!Q5","v":0},{"$f":"'GÜNLÜK YEM (KGBAŞ)'!$B5*'GÜNLÜK YEM (KGBAŞ)'!R5","v":0},{"$f":"'GÜNLÜK YEM (KGBAŞ)'!$B5*'GÜNLÜK YEM (KGBAŞ)'!S5","v":7.6223648596454101},{"$f":"'GÜNLÜK YEM (KGBAŞ)'!$B5*'GÜNLÜK YEM (KGBAŞ)'!T5","v":7.5531353201149836}]
[{"$f":"'GÜNLÜK YEM (KGBAŞ)'!A6","v":"inek lakson"},{"$f":"'GÜNLÜK YEM (KGBAŞ)'!$B6*'GÜNLÜK YEM (KGBAŞ)'!C6","v":350.47847996583573},{"$f":"'GÜNLÜK YEM (KGBAŞ)'!$B6*'GÜNLÜK YEM (KGBAŞ)'!D6","v":0},{"$f":"'GÜNLÜK YEM (KGBAŞ)'!$B6*'GÜNLÜK YEM (KGBAŞ)'!E6","v":0},{"$f":"'GÜNLÜK YEM (KGBAŞ)'!$B6*'GÜNLÜK YEM (KGBAŞ)'!F6","v":528.28335572160427},{"$f":"'GÜNLÜK YEM (KGBAŞ)'!$B6*'GÜNLÜK YEM (KGBAŞ)'!G6","v":1.3177506630333275E-6},{"$f":"'GÜNLÜK YEM (KGBAŞ)'!$B6*'GÜNLÜK YEM (KGBAŞ)'!H6","v":0},{"$f":"'GÜNLÜK YEM (KGBAŞ)'!$B6*'GÜNLÜK YEM (KGBAŞ)'!I6","v":0},{"$f":"'GÜNLÜK YEM (KGBAŞ)'!$B6*'GÜNLÜK YEM (KGBAŞ)'!J6","v":0},{"$f":"'GÜNLÜK YEM (KGBAŞ)'!$B6*'GÜNLÜK YEM (KGBAŞ)'!K6","v":0},{"$f":"'GÜNLÜK YEM (KGBAŞ)'!$B6*'GÜNLÜK YEM (KGBAŞ)'!L6","v":0},{"$f":"'GÜNLÜK YEM (KGBAŞ)'!$B6*'GÜNLÜK YEM (KGBAŞ)'!M6","v":0},{"$f":"'GÜNLÜK YEM (KGBAŞ)'!$B6*'GÜNLÜK YEM (KGBAŞ)'!N6","v":0},{"$f":"'GÜNLÜK YEM (KGBAŞ)'!$B6*'GÜNLÜK YEM (KGBAŞ)'!O6","v":0},{"$f":"'GÜNLÜK YEM (KGBAŞ)'!$B6*'GÜNLÜK YEM (KGBAŞ)'!P6","v":892.81746595028676},{"$f":"'GÜNLÜK YEM (KGBAŞ)'!$B6*'GÜNLÜK YEM (KGBAŞ)'!Q6","v":0},{"$f":"'GÜNLÜK YEM (KGBAŞ)'!$B6*'GÜNLÜK YEM (KGBAŞ)'!R6","v":11.560630082902689},{"$f":"'GÜNLÜK YEM (KGBAŞ)'!$B6*'GÜNLÜK YEM (KGBAŞ)'!S6","v":3.7625692259526633},{"$f":"'GÜNLÜK YEM (KGBAŞ)'!$B6*'GÜNLÜK YEM (KGBAŞ)'!T6","v":7.2882748229221104}]
[{"$f":"'GÜNLÜK YEM (KGBAŞ)'!A7","v":"HAYVAN \nCİNSİ"},{"$f":"'GÜNLÜK YEM (KGBAŞ)'!C7","v":"Çayır-Baklagil Kuru Otu, Olgun> %53 NDF"},{"$f":"'GÜNLÜK YEM (KGBAŞ)'!D7","v":"Yağ, Ca Sabunları"},{"$f":"'GÜNLÜK YEM (KGBAŞ)'!E7","v":"Buğday, Ezme"},{"$f":"'GÜNLÜK YEM (KGBAŞ)'!F7","v":"Buzağı Başlangıç Yemi"},{"$f":"'GÜNLÜK YEM (KGBAŞ)'!G7","v":"Buzağı Büyütme Yemi"},{"$f":"'GÜNLÜK YEM (KGBAŞ)'!H7","v":"Sığır Besi Yemi"},{"$f":"'GÜNLÜK YEM (KGBAŞ)'!I7","v":"Mısır Silajı, %33-40 KM"},{"$f":"'GÜNLÜK YEM (KGBAŞ)'!J7","v":"Çayır Merası, Soğuk Mevsim, Bakımlı"},{"$f":"'GÜNLÜK YEM (KGBAŞ)'!K7","v":"Soya Küspesi, Ekspeller, %45 HP"},{"$f":"'GÜNLÜK YEM (KGBAŞ)'!L7","v":"Çayır Kuru Otu, Soğuk Mevsim"},{"$f":"'GÜNLÜK YEM (KGBAŞ)'!M7","v":"Buğday Samanı"},{"$f":"'GÜNLÜK YEM (KGBAŞ)'!N7","v":"Çayır Merası, Soğuk Mevsim, Bakımlı"},{"$f":"'GÜNLÜK YEM (KGBAŞ)'!O7","v":"Melas, Şeker Pancarı"},{"$f":"'GÜNLÜK YEM (KGBAŞ)'!P7","v":"Arpa , Ezme"},{"$f":"'GÜNLÜK YEM (KGBAŞ)'!Q7","v":"Amonyum Fosfat (Dibazik), (NH4) 2HPO4"},{"$f":"'GÜNLÜK YEM (KGBAŞ)'!R7","v":"Kalsiyum Karbonat, CaCO3"},{"$f":"'GÜNLÜK YEM (KGBAŞ)'!S7","v":"Süt"},{"$f":"'GÜNLÜK YEM (KGBAŞ)'!T7","v":"Süt İkamesi, 18 HP, 20 YAĞ"}]
[{"$f":"'GÜNLÜK YEM (KGBAŞ)'!A8","v":"Erkek Buzağı"},{"$f":"'GÜNLÜK YEM (KGBAŞ)'!$B8*'GÜNLÜK YEM (KGBAŞ)'!C8","v":0},{"$f":"'GÜNLÜK YEM (KGBAŞ)'!$B8*'GÜNLÜK YEM (KGBAŞ)'!D8","v":12.640668485909103},{"$f":"'GÜNLÜK YEM (KGBAŞ)'!$B8*'GÜNLÜK YEM (KGBAŞ)'!E8","v":0},{"$f":"'GÜNLÜK YEM (KGBAŞ)'!$B8*'GÜNLÜK YEM (KGBAŞ)'!F8","v":0},{"$f":"'GÜNLÜK YEM (KGBAŞ)'!$B8*'GÜNLÜK YEM (KGBAŞ)'!G8","v":0},{"$f":"'GÜNLÜK YEM (KGBAŞ)'!$B8*'GÜNLÜK YEM (KGBAŞ)'!H8","v":0},{"$f":"'GÜNLÜK YEM (KGBAŞ)'!$B8*'GÜNLÜK YEM (KGBAŞ)'!I8","v":0},{"$f":"'GÜNLÜK YEM (KGBAŞ)'!$B8*'GÜNLÜK YEM (KGBAŞ)'!J8","v":0},{"$f":"'GÜNLÜK YEM (KGBAŞ)'!$B8*'GÜNLÜK YEM (KGBAŞ)'!K8","v":17.692377422915037},{"$f":"'GÜNLÜK YEM (KGBAŞ)'!$B8*'GÜNLÜK YEM (KGBAŞ)'!L8","v":0},{"$f":"'GÜNLÜK YEM (KGBAŞ)'!$B8*'GÜNLÜK YEM (KGBAŞ)'!M8","v":0},{"$f":"'GÜNLÜK YEM (KGBAŞ)'!$B8*'GÜNLÜK YEM (KGBAŞ)'!N8","v":0},{"$f":"'GÜNLÜK YEM (KGBAŞ)'!$B8*'GÜNLÜK YEM (KGBAŞ)'!O8","v":0},{"$f":"'GÜNLÜK YEM (KGBAŞ)'!$B8*'GÜNLÜK YEM (KGBAŞ)'!P8","v":0},{"$f":"'GÜNLÜK YEM (KGBAŞ)'!$B8*'GÜNLÜK YEM (KGBAŞ)'!Q8","v":7.8324832477271404E-6},{"$f":"'GÜNLÜK YEM (KGBAŞ)'!$B8*'GÜNLÜK YEM (KGBAŞ)'!R8","v":0},{"$f":"'GÜNLÜK YEM (KGBAŞ)'!$B8*'GÜNLÜK YEM (KGBAŞ)'!S8","v":176},{"$f":"'GÜNLÜK YEM (KGBAŞ)'!$B8*'GÜNLÜK YEM (KGBAŞ)'!T8","v":0}]
[{"$f":"'GÜNLÜK YEM (KGBAŞ)'!A9","v":"Tosun Başlangıç"},{"$f":"'GÜNLÜK YEM (KGBAŞ)'!$B9*'GÜNLÜK YEM (KGBAŞ)'!C9","v":0},{"$f":"'GÜNLÜK YEM (KGBAŞ)'!$B9*'GÜNLÜK YEM (KGBAŞ)'!D9","v":30.912424654171428},{"$f":"'GÜNLÜK YEM (KGBAŞ)'!$B9*'GÜNLÜK YEM (KGBAŞ)'!E9","v":64.108423424961558},{"$f":"'GÜNLÜK YEM (KGBAŞ)'!$B9*'GÜNLÜK YEM (KGBAŞ)'!F9","v":0},{"$f":"'GÜNLÜK YEM (KGBAŞ)'!$B9*'GÜNLÜK YEM (KGBAŞ)'!G9","v":0},{"$f":"'GÜNLÜK YEM (KGBAŞ)'!$B9*'GÜNLÜK YEM (KGBAŞ)'!H9","v":0},{"$f":"'GÜNLÜK YEM (KGBAŞ)'!$B9*'GÜNLÜK YEM (KGBAŞ)'!I9","v":172.28935590762131},{"$f":"'GÜNLÜK YEM (KGBAŞ)'!$B9*'GÜNLÜK YEM (KGBAŞ)'!J9","v":0},{"$f":"'GÜNLÜK YEM (KGBAŞ)'!$B9*'GÜNLÜK YEM (KGBAŞ)'!K9","v":28.361736982358057},{"$f":"'GÜNLÜK YEM (KGBAŞ)'!$B9*'GÜNLÜK YEM (KGBAŞ)'!L9","v":0},{"$f":"'GÜNLÜK YEM (KGBAŞ)'!$B9*'GÜNLÜK YEM (KGBAŞ)'!M9","v":0},{"$f":"'GÜNLÜK YEM (KGBAŞ)'!$B9*'GÜNLÜK YEM (KGBAŞ)'!N9","v":0},{"$f":"'GÜNLÜK YEM (KGBAŞ)'!$B9*'GÜNLÜK YEM (KGBAŞ)'!O9","v":0},{"$f":"'GÜNLÜK YEM (KGBAŞ)'!$B9*'GÜNLÜK YEM (KGBAŞ)'!P9","v":0},{"$f":"'GÜNLÜK YEM (KGBAŞ)'!$B9*'GÜNLÜK YEM (KGBAŞ)'!Q9","v":2.7595297601086166},{"$f":"'GÜNLÜK YEM (KGBAŞ)'!$B9*'GÜNLÜK YEM (KGBAŞ)'!R9","v":2.1612493478550014},{"$f":"'GÜNLÜK YEM (KGBAŞ)'!$B9*'GÜNLÜK YEM (KGBAŞ)'!S9","v":0},{"$f":"'GÜNLÜK YEM (KGBAŞ)'!$B9*'GÜNLÜK YEM (KGBAŞ)'!T9","v":0}]
[{"$f":"'GÜNLÜK YEM (KGBAŞ)'!A10","v":"Tosun Besleme Ortası"},{"$f":"'GÜNLÜK YEM (KGBAŞ)'!$B10*'GÜNLÜK YEM (KGBAŞ)'!C10","v":0},{"$f":"'GÜNLÜK YEM (KGBAŞ)'!$B10*'GÜNLÜK YEM (KGBAŞ)'!D10","v":0},{"$f":"'GÜNLÜK YEM (KGBAŞ)'!$B10*'GÜNLÜK YEM (KGBAŞ)'!E10","v":0},{"$f":"'GÜNLÜK YEM (KGBAŞ)'!$B10*'GÜNLÜK YEM (KGBAŞ)'!F10","v":0},{"$f":"'GÜNLÜK YEM (KGBAŞ)'!$B10*'GÜNLÜK YEM (KGBAŞ)'!G10","v":0},{"$f":"'GÜNLÜK YEM (KGBAŞ)'!$B10*'GÜNLÜK YEM (KGBAŞ)'!H10","v":0},{"$f":"'GÜNLÜK YEM (KGBAŞ)'!$B10*'GÜNLÜK YEM (KGBAŞ)'!I10","v":0},{"$f":"'GÜNLÜK YEM (KGBAŞ)'!$B10*'GÜNLÜK YEM (KGBAŞ)'!J10","v":1000},{"$f":"'GÜNLÜK YEM (KGBAŞ)'!$B10*'GÜNLÜK YEM (KGBAŞ)'!K10","v":0},{"$f":"'GÜNLÜK YEM (KGBAŞ)'!$B10*'GÜNLÜK YEM (KGBAŞ)'!L10","v":0},{"$f":"'GÜNLÜK YEM (KGBAŞ)'!$B10*'GÜNLÜK YEM (KGBAŞ)'!M10","v":0},{"$f":"'GÜNLÜK YEM (KGBAŞ)'!$B10*'GÜNLÜK YEM (KGBAŞ)'!N10","v":0},{"$f":"'GÜNLÜK YEM (KGBAŞ)'!$B10*'GÜNLÜK YEM (KGBAŞ)'!O10","v":0},{"$f":"'GÜNLÜK YEM (KGBAŞ)'!$B10*'GÜNLÜK YEM (KGBAŞ)'!P10","v":100},{"$f":"'GÜNLÜK YEM (KGBAŞ)'!$B10*'GÜNLÜK YEM (KGBAŞ)'!Q10","v":0.90580330648798169},{"$f":"'GÜNLÜK YEM (KGBAŞ)'!$B10*'GÜNLÜK YEM (KGBAŞ)'!R10","v":1.7247523128010296},{"$f":"'GÜNLÜK YEM (KGBAŞ)'!$B10*'GÜNLÜK YEM (KGBAŞ)'!S10","v":0},{"$f":"'GÜNLÜK YEM (KGBAŞ)'!$B10*'GÜNLÜK YEM (KGBAŞ)'!T10","v":0}]
[{"$f":"'GÜNLÜK YEM (KGBAŞ)'!A11","v":"Tosun Bitiş"},{"$f":"'GÜNLÜK YEM (KGBAŞ)'!$B11*'GÜNLÜK YEM (KGBAŞ)'!C11","v":0},{"$f":"'GÜNLÜK YEM (KGBAŞ)'!$B11*'GÜNLÜK YEM (KGBAŞ)'!D11","v":36.898379224160891},{"$f":"'GÜNLÜK YEM (KGBAŞ)'!$B11*'GÜNLÜK YEM (KGBAŞ)'!E11","v":80},{"$f":"'GÜNLÜK YEM (KGBAŞ)'!$B11*'GÜNLÜK YEM (KGBAŞ)'!F11","v":0},{"$f":"'GÜNLÜK YEM (KGBAŞ)'!$B11*'GÜNLÜK YEM (KGBAŞ)'!G11","v":0},{"$f":"'GÜNLÜK YEM (KGBAŞ)'!$B11*'GÜNLÜK YEM (KGBAŞ)'!H11","v":0},{"$f":"'GÜNLÜK YEM (KGBAŞ)'!$B11*'GÜNLÜK YEM (KGBAŞ)'!I11","v":344.97056980273771},{"$f":"'GÜNLÜK YEM (KGBAŞ)'!$B11*'GÜNLÜK YEM (KGBAŞ)'!J11","v":0},{"$f":"'GÜNLÜK YEM (KGBAŞ)'!$B11*'GÜNLÜK YEM (KGBAŞ)'!K11","v":16.12265113919015},{"$f":"'GÜNLÜK YEM (KGBAŞ)'!$B11*'GÜNLÜK YEM (KGBAŞ)'!L11","v":0},{"$f":"'GÜNLÜK YEM (KGBAŞ)'!$B11*'GÜNLÜK YEM (KGBAŞ)'!M11","v":0},{"$f":"'GÜNLÜK YEM (KGBAŞ)'!$B11*'GÜNLÜK YEM (KGBAŞ)'!N11","v":0},{"$f":"'GÜNLÜK YEM (KGBAŞ)'!$B11*'GÜNLÜK YEM (KGBAŞ)'!O11","v":0},{"$f":"'GÜNLÜK YEM (KGBAŞ)'!$B11*'GÜNLÜK YEM (KGBAŞ)'!P11","v":140.6187522695721},{"$f":"'GÜNLÜK YEM (KGBAŞ)'!$B11*'GÜNLÜK YEM (KGBAŞ)'!Q11","v":0.8089925886728021},{"$f":"'GÜNLÜK YEM (KGBAŞ)'!$B11*'GÜNLÜK YEM (KGBAŞ)'!R11","v":2.2782111291210607},{"$f":"'GÜNLÜK YEM (KGBAŞ)'!$B11*'GÜNLÜK YEM (KGBAŞ)'!S11","v":0},{"$f":"'GÜNLÜK YEM (KGBAŞ)'!$B11*'GÜNLÜK YEM (KGBAŞ)'!T11","v":0}]
[{"$f":"'GÜNLÜK YEM (KGBAŞ)'!A12","v":"HAYVAN \nCİNSİ"},{"$f":"'GÜNLÜK YEM (KGBAŞ)'!C12","v":"Çayır-Baklagil Kuru Otu, Orta Olgun, %47-53 NDF"},{"$f":"'GÜNLÜK YEM (KGBAŞ)'!D12","v":"Arpa , Ezme"},{"$f":"'GÜNLÜK YEM (KGBAŞ)'!E12","v":"Yonca Kuru Otu, 2. Kalite  %19-21 HP, <%37-40 NDF"},{"$f":"'GÜNLÜK YEM (KGBAŞ)'!F12","v":"Buzağı Başlangıç Yemi"},{"$f":"'GÜNLÜK YEM (KGBAŞ)'!G12","v":"Buzağı Büyütme Yemi"},{"$f":"'GÜNLÜK YEM (KGBAŞ)'!H12","v":"Düve Yemi 1. Sınıf (TS11110)"},{"$f":"'GÜNLÜK YEM (KGBAŞ)'!I12","v":"Düve Yemi 2. Sınıf (TS11110)"},{"$f":"'GÜNLÜK YEM (KGBAŞ)'!J12","v":"Yonca Kuru Otu, 1. Kalite >%21 HP,     <%37 NDF"},{"$f":"'GÜNLÜK YEM (KGBAŞ)'!K12","v":"Çayır Merası, Soğuk Mevsim, Bakımlı"},{"$f":"'GÜNLÜK YEM (KGBAŞ)'!L12","v":"Çayır Kuru Otu, Soğuk Mevsim"},{"$f":"'GÜNLÜK YEM (KGBAŞ)'!M12","v":"Yağ, Bitkisel"},{"$f":"'GÜNLÜK YEM (KGBAŞ)'!N12","v":"Mısır Silajı, %29-33 KM"},{"$f":"'GÜNLÜK YEM (KGBAŞ)'!O12","v":"Buğday Samanı"},{"$f":"'GÜNLÜK YEM (KGBAŞ)'!P12","v":"Soya Küspesi , Solvent, %51"},{"$f":"'GÜNLÜK YEM (KGBAŞ)'!Q12","v":"Amonyum Fosfat (Dibazik), (NH4) 2HPO4"},{"$f":"'GÜNLÜK YEM (KGBAŞ)'!R12","v":"Kalsiyum Karbonat, CaCO3"},{"$f":"'GÜNLÜK YEM (KGBAŞ)'!S12","v":"Süt"},{"$f":"'GÜNLÜK YEM (KGBAŞ)'!T12","v":"Süt İkamesi, 18 HP, 20 YAĞ"}]
[{"$f":"'GÜNLÜK YEM (KGBAŞ)'!A13","v":"Dişi Buzağı"},{"$f":"'GÜNLÜK YEM (KGBAŞ)'!$B13*'GÜNLÜK YEM (KGBAŞ)'!C13","v":0},{"$f":"'GÜNLÜK YEM (KGBAŞ)'!$B13*'GÜNLÜK YEM (KGBAŞ)'!D13","v":0},{"$f":"'GÜNLÜK YEM (KGBAŞ)'!$B13*'GÜNLÜK YEM (KGBAŞ)'!E13","v":0},{"$f":"'GÜNLÜK YEM (KGBAŞ)'!$B13*'GÜNLÜK YEM (KGBAŞ)'!F13","v":0},{"$f":"'GÜNLÜK YEM (KGBAŞ)'!$B13*'GÜNLÜK YEM (KGBAŞ)'!G13","v":0},{"$f":"'GÜNLÜK YEM (KGBAŞ)'!$B13*'GÜNLÜK YEM (KGBAŞ)'!H13","v":2.3470483249754146},{"$f":"'GÜNLÜK YEM (KGBAŞ)'!$B13*'GÜNLÜK YEM (KGBAŞ)'!I13","v":0},{"$f":"'GÜNLÜK YEM (KGBAŞ)'!$B13*'GÜNLÜK YEM (KGBAŞ)'!J13","v":0},{"$f":"'GÜNLÜK YEM (KGBAŞ)'!$B13*'GÜNLÜK YEM (KGBAŞ)'!K13","v":0},{"$f":"'GÜNLÜK YEM (KGBAŞ)'!$B13*'GÜNLÜK YEM (KGBAŞ)'!L13","v":0},{"$f":"'GÜNLÜK YEM (KGBAŞ)'!$B13*'GÜNLÜK YEM (KGBAŞ)'!M13","v":13.557202743151368},{"$f":"'GÜNLÜK YEM (KGBAŞ)'!$B13*'GÜNLÜK YEM (KGBAŞ)'!N13","v":0},{"$f":"'GÜNLÜK YEM (KGBAŞ)'!$B13*'GÜNLÜK YEM (KGBAŞ)'!O13","v":0},{"$f":"'GÜNLÜK YEM (KGBAŞ)'!$B13*'GÜNLÜK YEM (KGBAŞ)'!P13","v":18.25351461999707},{"$f":"'GÜNLÜK YEM (KGBAŞ)'!$B13*'GÜNLÜK YEM (KGBAŞ)'!Q13","v":0},{"$f":"'GÜNLÜK YEM (KGBAŞ)'!$B13*'GÜNLÜK YEM (KGBAŞ)'!R13","v":0},{"$f":"'GÜNLÜK YEM (KGBAŞ)'!$B13*'GÜNLÜK YEM (KGBAŞ)'!S13","v":126.72},{"$f":"'GÜNLÜK YEM (KGBAŞ)'!$B13*'GÜNLÜK YEM (KGBAŞ)'!T13","v":0}]
[{"$f":"'GÜNLÜK YEM (KGBAŞ)'!A14","v":"Düve Başlangıç"},{"$f":"'GÜNLÜK YEM (KGBAŞ)'!$B14*'GÜNLÜK YEM (KGBAŞ)'!C14","v":0},{"$f":"'GÜNLÜK YEM (KGBAŞ)'!$B14*'GÜNLÜK YEM (KGBAŞ)'!D14","v":61.307290915977902},{"$f":"'GÜNLÜK YEM (KGBAŞ)'!$B14*'GÜNLÜK YEM (KGBAŞ)'!E14","v":65.741060833051876},{"$f":"'GÜNLÜK YEM (KGBAŞ)'!$B14*'GÜNLÜK YEM (KGBAŞ)'!F14","v":0},{"$f":"'GÜNLÜK YEM (KGBAŞ)'!$B14*'GÜNLÜK YEM (KGBAŞ)'!G14","v":0},{"$f":"'GÜNLÜK YEM (KGBAŞ)'!$B14*'GÜNLÜK YEM (KGBAŞ)'!H14","v":0},{"$f":"'GÜNLÜK YEM (KGBAŞ)'!$B14*'GÜNLÜK YEM (KGBAŞ)'!I14","v":0},{"$f":"'GÜNLÜK YEM (KGBAŞ)'!$B14*'GÜNLÜK YEM (KGBAŞ)'!J14","v":0},{"$f":"'GÜNLÜK YEM (KGBAŞ)'!$B14*'GÜNLÜK YEM (KGBAŞ)'!K14","v":0},{"$f":"'GÜNLÜK YEM (KGBAŞ)'!$B14*'GÜNLÜK YEM (KGBAŞ)'!L14","v":120.24885775808769},{"$f":"'GÜNLÜK YEM (KGBAŞ)'!$B14*'GÜNLÜK YEM (KGBAŞ)'!M14","v":0},{"$f":"'GÜNLÜK YEM (KGBAŞ)'!$B14*'GÜNLÜK YEM (KGBAŞ)'!N14","v":0},{"$f":"'GÜNLÜK YEM (KGBAŞ)'!$B14*'GÜNLÜK YEM (KGBAŞ)'!O14","v":0},{"$f":"'GÜNLÜK YEM (KGBAŞ)'!$B14*'GÜNLÜK YEM (KGBAŞ)'!P14","v":21.827964550589442},{"$f":"'GÜNLÜK YEM (KGBAŞ)'!$B14*'GÜNLÜK YEM (KGBAŞ)'!Q14","v":2.644766529865985},{"$f":"'GÜNLÜK YEM (KGBAŞ)'!$B14*'GÜNLÜK YEM (KGBAŞ)'!R14","v":0},{"$f":"'GÜNLÜK YEM (KGBAŞ)'!$B14*'GÜNLÜK YEM (KGBAŞ)'!S14","v":0},{"$f":"'GÜNLÜK YEM (KGBAŞ)'!$B14*'GÜNLÜK YEM (KGBAŞ)'!T14","v":0}]
[{"$f":"'GÜNLÜK YEM (KGBAŞ)'!A15","v":"Düve Besleme Ortası"},{"$f":"'GÜNLÜK YEM (KGBAŞ)'!$B15*'GÜNLÜK YEM (KGBAŞ)'!C15","v":0},{"$f":"'GÜNLÜK YEM (KGBAŞ)'!$B15*'GÜNLÜK YEM (KGBAŞ)'!D15","v":245.12565108081401},{"$f":"'GÜNLÜK YEM (KGBAŞ)'!$B15*'GÜNLÜK YEM (KGBAŞ)'!E15","v":0},{"$f":"'GÜNLÜK YEM (KGBAŞ)'!$B15*'GÜNLÜK YEM (KGBAŞ)'!F15","v":0},{"$f":"'GÜNLÜK YEM (KGBAŞ)'!$B15*'GÜNLÜK YEM (KGBAŞ)'!G15","v":0},{"$f":"'GÜNLÜK YEM (KGBAŞ)'!$B15*'GÜNLÜK YEM (KGBAŞ)'!H15","v":0},{"$f":"'GÜNLÜK YEM (KGBAŞ)'!$B15*'GÜNLÜK YEM (KGBAŞ)'!I15","v":0},{"$f":"'GÜNLÜK YEM (KGBAŞ)'!$B15*'GÜNLÜK YEM (KGBAŞ)'!J15","v":0},{"$f":"'GÜNLÜK YEM (KGBAŞ)'!$B15*'GÜNLÜK YEM (KGBAŞ)'!K15","v":0},{"$f":"'GÜNLÜK YEM (KGBAŞ)'!$B15*'GÜNLÜK YEM (KGBAŞ)'!L15","v":0},{"$f":"'GÜNLÜK YEM (KGBAŞ)'!$B15*'GÜNLÜK YEM (KGBAŞ)'!M15","v":7.6567560289569876},{"$f":"'GÜNLÜK YEM (KGBAŞ)'!$B15*'GÜNLÜK YEM (KGBAŞ)'!N15","v":34.638292873075585},{"$f":"'GÜNLÜK YEM (KGBAŞ)'!$B15*'GÜNLÜK YEM (KGBAŞ)'!O15","v":164.74682311759281},{"$f":"'GÜNLÜK YEM (KGBAŞ)'!$B15*'GÜNLÜK YEM (KGBAŞ)'!P15","v":0},{"$f":"'GÜNLÜK YEM (KGBAŞ)'!$B15*'GÜNLÜK YEM (KGBAŞ)'!Q15","v":0.52136497548590288},{"$f":"'GÜNLÜK YEM (KGBAŞ)'!$B15*'GÜNLÜK YEM (KGBAŞ)'!R15","v":2.1133522237369951},{"$f":"'GÜNLÜK YEM (KGBAŞ)'!$B15*'GÜNLÜK YEM (KGBAŞ)'!S15","v":0},{"$f":"'GÜNLÜK YEM (KGBAŞ)'!$B15*'GÜNLÜK YEM (KGBAŞ)'!T15","v":0}]
[{"$f":"'GÜNLÜK YEM (KGBAŞ)'!A16","v":"Düve Bitiş"},{"$f":"'GÜNLÜK YEM (KGBAŞ)'!$B16*'GÜNLÜK YEM (KGBAŞ)'!C16","v":0},{"$f":"'GÜNLÜK YEM (KGBAŞ)'!$B16*'GÜNLÜK YEM (KGBAŞ)'!D16","v":365.92870909061912},{"$f":"'GÜNLÜK YEM (KGBAŞ)'!$B16*'GÜNLÜK YEM (KGBAŞ)'!E16","v":0},{"$f":"'GÜNLÜK YEM (KGBAŞ)'!$B16*'GÜNLÜK YEM (KGBAŞ)'!F16","v":0},{"$f":"'GÜNLÜK YEM (KGBAŞ)'!$B16*'GÜNLÜK YEM (KGBAŞ)'!G16","v":0},{"$f":"'GÜNLÜK YEM (KGBAŞ)'!$B16*'GÜNLÜK YEM (KGBAŞ)'!H16","v":0},{"$f":"'GÜNLÜK YEM (KGBAŞ)'!$B16*'GÜNLÜK YEM (KGBAŞ)'!I16","v":0},{"$f":"'GÜNLÜK YEM (KGBAŞ)'!$B16*'GÜNLÜK YEM (KGBAŞ)'!J16","v":0},{"$f":"'GÜNLÜK YEM (KGBAŞ)'!$B16*'GÜNLÜK YEM (KGBAŞ)'!K16","v":0},{"$f":"'GÜNLÜK YEM (KGBAŞ)'!$B16*'GÜNLÜK YEM (KGBAŞ)'!L16","v":0},{"$f":"'GÜNLÜK YEM (KGBAŞ)'!$B16*'GÜNLÜK YEM (KGBAŞ)'!M16","v":9.2278401101369845},{"$f":"'GÜNLÜK YEM (KGBAŞ)'!$B16*'GÜNLÜK YEM (KGBAŞ)'!N16","v":218.36712571381767},{"$f":"'GÜNLÜK YEM (KGBAŞ)'!$B16*'GÜNLÜK YEM (KGBAŞ)'!O16","v":119.54270542316443},{"$f":"'GÜNLÜK YEM (KGBAŞ)'!$B16*'GÜNLÜK YEM (KGBAŞ)'!P16","v":0},{"$f":"'GÜNLÜK YEM (KGBAŞ)'!$B16*'GÜNLÜK YEM (KGBAŞ)'!Q16","v":1.1517878985923478},{"$f":"'GÜNLÜK YEM (KGBAŞ)'!$B16*'GÜNLÜK YEM (KGBAŞ)'!R16","v":3.3506456174910175},{"$f":"'GÜNLÜK YEM (KGBAŞ)'!$B16*'GÜNLÜK YEM (KGBAŞ)'!S16","v":0},{"$f":"'GÜNLÜK YEM (KGBAŞ)'!$B16*'GÜNLÜK YEM (KGBAŞ)'!T16","v":0}]

{"sheet":"TOPLAM YEM ","index":8,"n_rows":19,"n_cols":19,"rows_kept":19,"cut":false,"hidden":false,"merged":[[0,1,0,18]]}
[null,"AHIR YILLIK TOPLAM YEM TÜKETİMİ (KG)"]
[{"$f":"'AHIR YEM (KGGÜN)'!A2","v":"HAYVAN \nCİNSİ"},{"$f":"HESAP!CF2","v":"Sığır Süt Yemi, 24 HP, 3100 ME"},{"$f":"HESAP!CG2","v":"Sığır Süt Yemi,18 HP, 2600 ME"},{"$f":"HESAP!CH2","v":"Yulaf Kuru Otu, Başaklı"},{"$f":"HESAP!CI2","v":"Arpa , Ezme"},{"$f":"HESAP!CJ2","v":"Buğday Samanı"},{"$f":"HESAP!CK2","v":"Çayır Merası, Soğuk Mevsim, Bakımlı"},{"$f":"HESAP!CL2","v":"Yonca Kuru Otu, 5. Kalite  %13-15 HP, <%48-54 NDF"},{"$f":"HESAP!CM2","v":"Sığır Süt Yemi,16 HP, 2400 ME"},{"$f":"HESAP!CN2","v":"Pamuk Tohumu Küspesi, Pres, % 28 HP "},{"$f":"HESAP!CO2","v":"Baklagil Kuru Otu, Olgun >%46 NDF"},{"$f":"HESAP!CP2","v":"Ayçiçeği Küspesi, Solvent, %32 HP"},{"$f":"HESAP!CQ2","v":"Soya Küspesi , Solvent, %51"},{"$f":"HESAP!CR2","v":"Çayır Kuru Otu , Soğuk Mevsim,Olgun >%60 NDF"},{"$f":"HESAP!CS2","v":"Mısır Silajı, %33-40 KM"},{"$f":"HESAP!CT2","v":"MIsır Gluteni,63"},{"$f":"HESAP!CU2","v":"Yağ, Bitkisel"},{"$f":"HESAP!CV2","v":"Kalsiyum Karbonat, CaCO3"},{"$f":"HESAP!CW2","v":"Amonyum Fosfat (Monobazik), (NH4) 2HPO4"}]
[{"$f":"'AHIR YEM (KGGÜN)'!A3","v":"İnek Kuru dönem"},{"$f":"HESAP!CF3","v":0},{"$f":"HESAP!CG3","v":0},{"$f":"HESAP!CH3","v":0},{"$f":"HESAP!CI3","v":0},{"$f":"HESAP!CJ3","v":43018.86417605669},{"$f":"HESAP!CK3","v":0},{"$f":"HESAP!CL3","v":0},{"$f":"HESAP!CM3","v":0},{"$f":"HESAP!CN3","v":0},{"$f":"HESAP!CO3","v":0},{"$f":"HESAP!CP3","v":0},{"$f":"HESAP!CQ3","v":0},{"$f":"HESAP!CR3","v":0},{"$f":"HESAP!CS3","v":118700.34202779751},{"$f":"HESAP!CT3","v":0},{"$f":"HESAP!CU3","v":6000},{"$f":"HESAP!CV3","v":57.605719553224425},{"$f":"HESAP!CW3","v":125.28576937453539}]
[{"$f":"'AHIR YEM (KGGÜN)'!A4","v":"İnek Lakbaşı"},{"$f":"HESAP!CF4","v":57512.630512013136},{"$f":"HESAP!CG4","v":0},{"$f":"HESAP!CH4","v":0},{"$f":"HESAP!CI4","v":14023.442425117488},{"$f":"HESAP!CJ4","v":0},{"$f":"HESAP!CK4","v":0},{"$f":"HESAP!CL4","v":0},{"$f":"HESAP!CM4","v":0},{"$f":"HESAP!CN4","v":30368.338766751604},{"$f":"HESAP!CO4","v":0},{"$f":"HESAP!CP4","v":0},{"$f":"HESAP!CQ4","v":0},{"$f":"HESAP!CR4","v":0},{"$f":"HESAP!CS4","v":48497.915610165379},{"$f":"HESAP!CT4","v":10043.714134165546},{"$f":"HESAP!CU4","v":1804.550600013444},{"$f":"HESAP!CV4","v":0},{"$f":"HESAP!CW4","v":0}]
[{"$f":"'AHIR YEM (KGGÜN)'!A5","v":"İnek lak ort"},{"$f":"HESAP!CF5","v":1747.0032731261767},{"$f":"HESAP!CG5","v":0},{"$f":"HESAP!CH5","v":0},{"$f":"HESAP!CI5","v":122422.4991333272},{"$f":"HESAP!CJ5","v":0},{"$f":"HESAP!CK5","v":741117.47684989218},{"$f":"HESAP!CL5","v":0},{"$f":"HESAP!CM5","v":0},{"$f":"HESAP!CN5","v":0},{"$f":"HESAP!CO5","v":0},{"$f":"HESAP!CP5","v":0},{"$f":"HESAP!CQ5","v":0},{"$f":"HESAP!CR5","v":0},{"$f":"HESAP!CS5","v":0},{"$f":"HESAP!CT5","v":0},{"$f":"HESAP!CU5","v":0},{"$f":"HESAP!CV5","v":1219.5783775432656},{"$f":"HESAP!CW5","v":1208.5016512183975}]
[{"$f":"'AHIR YEM (KGGÜN)'!A6","v":"inek lakson"},{"$f":"HESAP!CF6","v":26285.885997437679},{"$f":"HESAP!CG6","v":0},{"$f":"HESAP!CH6","v":0},{"$f":"HESAP!CI6","v":39621.251679120323},{"$f":"HESAP!CJ6","v":9.8831299727499564E-5},{"$f":"HESAP!CK6","v":0},{"$f":"HESAP!CL6","v":0},{"$f":"HESAP!CM6","v":0},{"$f":"HESAP!CN6","v":0},{"$f":"HESAP!CO6","v":0},{"$f":"HESAP!CP6","v":0},{"$f":"HESAP!CQ6","v":0},{"$f":"HESAP!CR6","v":0},{"$f":"HESAP!CS6","v":66961.309946271504},{"$f":"HESAP!CT6","v":0},{"$f":"HESAP!CU6","v":867.04725621770172},{"$f":"HESAP!CV6","v":282.19269194644977},{"$f":"HESAP!CW6","v":546.62061171915832}]
["TOPLAM",{"$f":"SUM(B3:B6)","v":85545.519782576986},0,0,176067.19323756502,43018.864274887987,741117.47684989218,0,0,30368.338766751604,0,0,0,0,234159.56758423438,10043.714134165546,8671.5978562311448,1559.3767890429397,1880.4080323120911]
[{"$f":"'AHIR YEM (KGGÜN)'!A7","v":"HAYVAN \nCİNSİ"},{"$f":"HESAP!CF9","v":"Çayır-Baklagil Kuru Otu, Olgun> %53 NDF"},{"$f":"HESAP!CG9","v":"Yağ, Ca Sabunları"},{"$f":"HESAP!CH9","v":"Buğday, Ezme"},{"$f":"HESAP!CI9","v":"Buzağı Başlangıç Yemi"},{"$f":"HESAP!CJ9","v":"Buzağı Büyütme Yemi"},{"$f":"HESAP!CK9","v":"Sığır Besi Yemi"},{"$f":"HESAP!CL9","v":"Mısır Silajı, %33-40 KM"},{"$f":"HESAP!CM9","v":"Çayır Merası, Soğuk Mevsim, Bakımlı"},{"$f":"HESAP!CN9","v":"Soya Küspesi, Ekspeller, %45 HP"},{"$f":"HESAP!CO9","v":"Çayır Kuru Otu, Soğuk Mevsim"},{"$f":"HESAP!CP9","v":"Buğday Samanı"},{"$f":"HESAP!CQ9","v":"Çayır Merası, Soğuk Mevsim, Bakımlı"},{"$f":"HESAP!CR9","v":"Melas, Şeker Pancarı"},{"$f":"HESAP!CS9","v":"Arpa , Ezme"},{"$f":"HESAP!CT9","v":"Amonyum Fosfat (Dibazik), (NH4) 2HPO4"},{"$f":"HESAP!CU9","v":"Kalsiyum Karbonat, CaCO3"},{"$f":"HESAP!CV9","v":"Süt"},{"$f":"HESAP!CW9","v":"Süt İkamesi, 18 HP, 20 YAĞ"}]
[{"$f":"'AHIR YEM (KGGÜN)'!A8","v":"Erkek Buzağı"},{"$f":"HESAP!CF10","v":0},{"$f":"HESAP!CG10","v":758.44010915454624},{"$f":"HESAP!CH10","v":0},{"$f":"HESAP!CI10","v":0},{"$f":"HESAP!CJ10","v":0},{"$f":"HESAP!CK10","v":0},{"$f":"HESAP!CL10","v":0},{"$f":"HESAP!CM10","v":0},{"$f":"HESAP!CN10","v":1061.5426453749021},{"$f":"HESAP!CO10","v":0},{"$f":"HESAP!CP10","v":0},{"$f":"HESAP!CQ10","v":0},{"$f":"HESAP!CR10","v":0},{"$f":"HESAP!CS10","v":0},{"$f":"HESAP!CT10","v":4.6994899486362842E-4},{"$f":"HESAP!CU10","v":0},{"$f":"HESAP!CV10","v":10560},{"$f":"HESAP!CW10","v":0}]
[{"$f":"'AHIR YEM (KGGÜN)'!A9","v":"Tosun Başlangıç"},{"$f":"HESAP!CF11","v":0},{"$f":"HESAP!CG11","v":3709.4909585005712},{"$f":"HESAP!CH11","v":7693.0108109953871},{"$f":"HESAP!CI11","v":0},{"$f":"HESAP!CJ11","v":0},{"$f":"HESAP!CK11","v":0},{"$f":"HESAP!CL11","v":20674.722708914556},{"$f":"HESAP!CM11","v":0},{"$f":"HESAP!CN11","v":3403.4084378829666},{"$f":"HESAP!CO11","v":0},{"$f":"HESAP!CP11","v":0},{"$f":"HESAP!CQ11","v":0},{"$f":"HESAP!CR11","v":0},{"$f":"HESAP!CS11","v":0},{"$f":"HESAP!CT11","v":331.14357121303397},{"$f":"HESAP!CU11","v":259.34992174260015},{"$f":"HESAP!CV11","v":0},{"$f":"HESAP!CW11","v":0}]
[{"$f":"'AHIR YEM (KGGÜN)'!A10","v":"Tosun Besleme Ortası"},{"$f":"HESAP!CF12","v":0},{"$f":"HESAP!CG12","v":0},{"$f":"HESAP!CH12","v":0},{"$f":"HESAP!CI12","v":0},{"$f":"HESAP!CJ12","v":0},{"$f":"HESAP!CK12","v":0},{"$f":"HESAP!CL12","v":0},{"$f":"HESAP!CM12","v":180000},{"$f":"HESAP!CN12","v":0},{"$f":"HESAP!CO12","v":0},{"$f":"HESAP!CP12","v":0},{"$f":"HESAP!CQ12","v":0},{"$f":"HESAP!CR12","v":0},{"$f":"HESAP!CS12","v":18000},{"$f":"HESAP!CT12","v":163.04459516783669},{"$f":"HESAP!CU12","v":310.45541630418535},{"$f":"HESAP!CV12","v":0},{"$f":"HESAP!CW12","v":0}]
[{"$f":"'AHIR YEM (KGGÜN)'!A11","v":"Tosun Bitiş"},{"$f":"HESAP!CF13","v":0},{"$f":"HESAP!CG13","v":3689.837922416089},{"$f":"HESAP!CH13","v":8000},{"$f":"HESAP!CI13","v":0},{"$f":"HESAP!CJ13","v":0},{"$f":"HESAP!CK13","v":0},{"$f":"HESAP!CL13","v":34497.056980273774},{"$f":"HESAP!CM13","v":0},{"$f":"HESAP!CN13","v":1612.265113919015},{"$f":"HESAP!CO13","v":0},{"$f":"HESAP!CP13","v":0},{"$f":"HESAP!CQ13","v":0},{"$f":"HESAP!CR13","v":0},{"$f":"HESAP!CS13","v":14061.875226957211},{"$f":"HESAP!CT13","v":80.89925886728021},{"$f":"HESAP!CU13","v":227.82111291210606},{"$f":"HESAP!CV13","v":0},{"$f":"HESAP!CW13","v":0}]
["TOPLAM",{"$f":"SUM(B9:B12)","v":0},{"$f":"SUM(C9:C12)","v":8157.7689900712066},15693.010810995387,0,0,0,55171.779689188334,180000,6077.2161971768837,0,0,0,0,32061.875226957211,575.08789519714571,797.6264509588915,10560,0]
[{"$f":"'AHIR YEM (KGGÜN)'!A12","v":"HAYVAN \nCİNSİ"},{"$f":"HESAP!CF14","v":"Çayır-Baklagil Kuru Otu, Orta Olgun, %47-53 NDF"},{"$f":"HESAP!CG14","v":"Arpa , Ezme"},{"$f":"HESAP!CH14","v":"Yonca Kuru Otu, 2. Kalite  %19-21 HP, <%37-40 NDF"},{"$f":"HESAP!CI14","v":"Buzağı Başlangıç Yemi"},{"$f":"HESAP!CJ14","v":"Buzağı Büyütme Yemi"},{"$f":"HESAP!CK14","v":"Düve Yemi 1. Sınıf (TS11110)"},{"$f":"HESAP!CL14","v":"Düve Yemi 2. Sınıf (TS11110)"},{"$f":"HESAP!CM14","v":"Yonca Kuru Otu, 1. Kalite >%21 HP,     <%37 NDF"},{"$f":"HESAP!CN14","v":"Çayır Merası, Soğuk Mevsim, Bakımlı"},{"$f":"HESAP!CO14","v":"Çayır Kuru Otu, Soğuk Mevsim"},{"$f":"HESAP!CP14","v":"Yağ, Bitkisel"},{"$f":"HESAP!CQ14","v":"Mısır Silajı, %29-33 KM"},{"$f":"HESAP!CR14","v":"Buğday Samanı"},{"$f":"HESAP!CS14","v":"Soya Küspesi , Solvent, %51"},{"$f":"HESAP!CT14","v":"Amonyum Fosfat (Dibazik), (NH4) 2HPO4"},{"$f":"HESAP!CU14","v":"Kalsiyum Karbonat, CaCO3"},{"$f":"HESAP!CV14","v":"Süt"},{"$f":"HESAP!CW14","v":"Süt İkamesi, 18 HP, 20 YAĞ"}]
[{"$f":"'AHIR YEM (KGGÜN)'!A13","v":"Dişi Buzağı"},{"$f":"HESAP!CF15","v":0},{"$f":"HESAP!CG15","v":0},{"$f":"HESAP!CH15","v":0},{"$f":"HESAP!CI15","v":0},{"$f":"HESAP!CJ15","v":0},{"$f":"HESAP!CK15","v":140.82289949852486},{"$f":"HESAP!CL15","v":0},{"$f":"HESAP!CM15","v":0},{"$f":"HESAP!CN15","v":0},{"$f":"HESAP!CO15","v":0},{"$f":"HESAP!CP15","v":813.43216458908205},{"$f":"HESAP!CQ15","v":0},{"$f":"HESAP!CR15","v":0},{"$f":"HESAP!CS15","v":1095.2108771998242},{"$f":"HESAP!CT15","v":0},{"$f":"HESAP!CU15","v":0},{"$f":"HESAP!CV15","v":7603.2},{"$f":"HESAP!CW15","v":0}]
[{"$f":"'AHIR YEM (KGGÜN)'!A14","v":"Düve Başlangıç"},{"$f":"HESAP!CF16","v":0},{"$f":"HESAP!CG16","v":24522.91636639116},{"$f":"HESAP!CH16","v":26296.424333220752},{"$f":"HESAP!CI16","v":0},{"$f":"HESAP!CJ16","v":0},{"$f":"HESAP!CK16","v":0},{"$f":"HESAP!CL16","v":0},{"$f":"HESAP!CM16","v":0},{"$f":"HESAP!CN16","v":0},{"$f":"HESAP!CO16","v":48099.543103235075},{"$f":"HESAP!CP16","v":0},{"$f":"HESAP!CQ16","v":0},{"$f":"HESAP!CR16","v":0},{"$f":"HESAP!CS16","v":8731.1858202357762},{"$f":"HESAP!CT16","v":1057.9066119463939},{"$f":"HESAP!CU16","v":0},{"$f":"HESAP!CV16","v":0},{"$f":"HESAP!CW16","v":0}]
[{"$f":"'AHIR YEM (KGGÜN)'!A15","v":"Düve Besleme Ortası"},{"$f":"HESAP!CF17","v":0},{"$f":"HESAP!CG17","v":43632.365892384893},{"$f":"HESAP!CH17","v":0},{"$f":"HESAP!CI17","v":0},{"$f":"HESAP!CJ17","v":0},{"$f":"HESAP!CK17","v":0},{"$f":"HESAP!CL17","v":0},{"$f":"HESAP!CM17","v":0},{"$f":"HESAP!CN17","v":0},{"$f":"HESAP!CO17","v":0},{"$f":"HESAP!CP17","v":1362.9025731543438},{"$f":"HESAP!CQ17","v":6165.6161314074543},{"$f":"HESAP!CR17","v":29324.93451493152},{"$f":"HESAP!CS17","v":0},{"$f":"HESAP!CT17","v":92.802965636490711},{"$f":"HESAP!CU17","v":376.17669582518511},{"$f":"HESAP!CV17","v":0},{"$f":"HESAP!CW17","v":0}]
[{"$f":"'AHIR YEM (KGGÜN)'!A16","v":"Düve Bitiş"},{"$f":"HESAP!CF18","v":0},{"$f":"HESAP!CG18","v":39520.300581786869},{"$f":"HESAP!CH18","v":0},{"$f":"HESAP!CI18","v":0},{"$f":"HESAP!CJ18","v":0},{"$f":"HESAP!CK18","v":0},{"$f":"HESAP!CL18","v":0},{"$f":"HESAP!CM18","v":0},{"$f":"HESAP!CN18","v":0},{"$f":"HESAP!CO18","v":0},{"$f":"HESAP!CP18","v":996.60673189479428},{"$f":"HESAP!CQ18","v":23583.64957709231},{"$f":"HESAP!CR18","v":12910.612185701759},{"$f":"HESAP!CS18","v":0},{"$f":"HESAP!CT18","v":124.39309304797357},{"$f":"HESAP!CU18","v":361.8697266890299},{"$f":"HESAP!CV18","v":0},{"$f":"HESAP!CW18","v":0}]
["TOPLAM",{"$f":"SUM(B15:B18)","v":0},107675.58284056291,26296.424333220752,0,0,140.82289949852486,0,0,0,48099.543103235075,3172.94146963822,29749.265708499763,42235.546700633276,9826.3966974356008,1275.102670630858,738.04642251421501,7603.2,0]

{"sheet":"NET GELİR","index":9,"n_rows":7,"n_cols":10,"rows_kept":7,"cut":false,"hidden":false,"merged":[[0,0,0,9]]}
["GENEL SONUÇ"]
["İNEK SAYISI",{"$f":"HESAP!H2","v":"HAYVAN SAYISI"},{"$f":"HESAP!P2","v":"BBHB CİNSİNDEN TOPLAM HAYVAN VARLIĞI"},{"$f":"HESAP!I2","v":"SATILAN HAYVAN SAYISI"},{"$f":"HESAP!S2","v":"TOPLAM KARKAS AĞIRLIĞI\n(KG)"},{"$f":"HESAP!AA2","v":"TOPLAM SÜT ÜRETİMİ\n(KG)"},{"$f":"HESAP!AJ2","v":"TOPLAM SATILAN HAYVAN GELİRİ\n(TL)"},{"$f":"HESAP!AM2","v":"TOPLAM SÜT GELİRİ\n(TL)"},{"$f":"HESAP!AS2","v":"TOPLAM GÜBRE GELİRİ\n(TL)"},{"$f":"HESAP!FQ2","v":"TEŞVİK GENEL TOPLAM (TL)"}]
[{"$f":"HESAP!H3","v":100},{"$f":"HESAP!H9","v":268},{"$f":"HESAP!P3","v":163.27800028432495},{"$f":"HESAP!I9","v":84},{"$f":"HESAP!S9","v":27098.570000000003},{"$f":"HESAP!AA9","v":627000},{"$f":"HESAP!AJ9","v":873841.10000000009},{"$f":"HESAP!AM9","v":1254000},{"$f":"HESAP!AS9","v":29949.896672640614},{"$f":"HESAP!FQ9","v":0}]
[{"$f":"HESAP!DP2","v":"TOPLAM YEM  MASRAFI\n(TL)"},{"$f":"HESAP!DU2","v":"GENEL TOPLAM İŞÇİ MALİYETİ (TL)"},{"$f":"HESAP!DY2","v":"TOPLAM VETERİNER ZİYARET MASRAFI (TL)"},{"$f":"HESAP!EA2","v":"SUNİ TOHUMLAMA MASRAFI (TL)"},{"$f":"HESAP!EK2","v":"YILLIK TOPLAM İLAÇ AŞI VE DEZENFEKTAN MASRAFI"},"TOPLAM DİĞER HARCAMALAR (TL)",{"$f":"HESAP!FL2","v":"TOPLAM BİNA AMORTİSMAN TL"},{"$f":"HESAP!FO2","v":"TOPLAM ALET EKİPMAN AMORTİSMAN TL"},{"$f":"HESAP!FS2","v":"VERGİ GENEL TOPLAM (TL)"},{"$f":"HESAP!FU2","v":"FAİZ GENEL TOPLAM (TL)"}]
[{"$f":"HESAP!DP9","v":1597415.499005323},{"$f":"HESAP!DU9","v":0},{"$f":"HESAP!DY9","v":0},{"$f":"HESAP!EA9","v":0},{"$f":"HESAP!EK9","v":0},{"$f":"HESAP!EZ9","v":0},{"$f":"HESAP!FL9","v":0},{"$f":"HESAP!FO9","v":0},{"$f":"HESAP!FS9","v":0},{"$f":"HESAP!FU9","v":0}]
["1 KG HAYVANSAL PROTEİN İÇİN TÜKETİLEN YEM ENERJİSİ (MJ)","1 KG HAYVANSAL PROTEİN İÇİN METAN SALINIMI (MJ)","TOPLAM GELİR",{"$f":"HESAP!GM2","v":"TOPLAM MASRAF (TL)"},"NET GELİR (TL)",null," (+ %10 NET GELİR (TL))",null,"(- %10 NET GELİR (TL))"]
[{"$f":"HESAP!FY9","v":407.42325172630717},{"$f":"HESAP!GH9","v":31.164142654532},{"$f":"SUM(G3:J3)","v":2157790.9966726406},{"$f":"SUM(A5:J5)","v":1597415.499005323},{"$f":"C7-D7","v":560375.49766731751},null,{"$f":"C7*1.1-D7*0.9","v":935896.14723511389},null,{"$f":"C7*0.9-D7*1.1","v":184854.84809952113}]

{"sheet":"İNEK GİZLİ","index":10,"n_rows":4,"n_cols":132,"rows_kept":4,"cut":false,"hidden":true,"merged":[[0,0,1,0],[0,2,0,5],[0,6,0,9],[0,10,0,13],[0,31,0,35],[0,26,0,30],[0,23,0,25],[0,1,1,1],[0,14,0,17],[0,18,0,21],[0,22,1,22],[0,131,1,131],[0,36,0,39],[0,40,1,40],[0,41,1,41],[0,42,1,42],[0,43,1,43],[0,129,1,129],[0,44,0,47],[0,48,0,51],[0,52,0,55],[0,56,0,59],[0,60,0,63],[0,68,0,72],[0,73,0,77],[0,64,0,67],[0,87,0,90],[0,91,0,94],[0,95,0,98],[0,99,0,102],[0,78,0,82],[0,83,1,83],[0,84,1,84],[0,85,1,85],[0,86,1,86],[0,126,1,126],[0,127,1,127],[0,128,1,128],[0,130,1,130],[0,103,0,106],[0,107,0,110],[0,111,0,115],[0,116,0,120],[0,121,0,125]]}
["HESAP YILI","SÜT FİYATI \n(TL/KG)","BİRİM KARKAS FİYATI(TL/KG)",null,null,null,"DIŞ İZALASYON",null,null,null,"MEVCUT ÇEVRE SICAKLIĞI(0C)",null,null,null,"MERA KULLANIMI",null,null,null,"İNEK CA\n(KG)",null,null,null,"LAKTASYON VERİMİ\n(KG)","GÜNLÜK SÜT VERİMİ\n(KG)",null,null,"BİRİM YEM KM MALİYETİ(TL/KG)",null,null,null,null,"BİRİM YEM MALİYETİ(TL/KG)",null,null,null,null,"SÜTÜN YEM MALİYETİ\n(TL/KG)",null,null,null,"YILLIK SÜT GELİRİ\n(TL)","YILLIK YEM MASRAFI\n(TL)","YILLIK SÜT-YEM GELİR\n(TL)","YILLIK NET GELİR\n(TL)","BİRİM KARKAS FİYATI(TL/KG)",null,null,null,"DIŞ İZALASYON",null,null,null,"MEVCUT ÇEVRE SICAKLIĞI(0C)",null,null,null,"MERA KULLANIMI",null,null,null,"BUZAĞI/DÜVE CA\n(KG)",null,null,null,"BUZAĞI/DÜVE GÜNLÜK CAA (KG/GÜN)",null,null,null,"BİRİM YEM MALİYETİ(TL/KG)",null,null,null,null,"BİRİM KM YEM MALİYETİ(TL/KG)",null,null,null,null,"1 KG CAA YEM MALİYETİ\n(TL/KG)",null,null,null,null,"YILLIK DÜVE GELİRİ\n(TL)","YILLIK YEM MASRAFI\n(TL)","YILLIK DÜVE-YEM GELİR\n(TL)","YILLIK NET GELİR\n(TL)","BİRİM BUZAĞI/TOSUN KARKAS FİYATI(TL/KG)",null,null,null,"DIŞ İZALASYON",null,null,null,"MEVCUT ÇEVRE SICAKLIĞI(0C)",null,null,null,"MERA KULLANIMI",null,null,null,"BUZAĞI/TOSUN CA\n(KG)",null,null,null,"BUZAĞI/TOSUN GÜNLÜK CAA (KG/GÜN)",null,null,null,"BİRİM YEM MALİYETİ(TL/KG)",null,null,null,null,"BİRİM YEM KM MALİYETİ(TL/KG)",null,null,null,null,"1 KG CAA YEM MALİYETİ\n(TL/KG)",null,null,null,null,"YILLIK TOSUN GELİRİ\n(TL)","YILLIK YEM MASRAFI\n(TL)","YILLIK TOSUN-YEM GELİR\n(TL)","YILLIK NET GELİR\n(TL)","1 KG HAYVANSAL PROTEİN İÇİN TÜKETİLEN YEM METABOLİK  ENERJİSİ (MJ)","1 KG HAYVANSAL PROTEİN İÇİN METAN SALINIMI (MJ)"]
[null,null,"KURU","LAK. BAŞI","LAK. ORT.","LAK. SONU","KURU","LAK. BAŞI","LAK. ORT.","LAK. SONU","KURU","LAK. BAŞI","LAK. ORT.","LAK. SONU","KURU","LAK. BAŞI","LAK. ORT.","LAK. SONU","KURU","LAK. BAŞI","LAK. ORT.","LAK. SONU",null,"LAK. BAŞI","LAK. ORT.","LAK. SONU","KURU","LAK. BAŞI","LAK. ORT.","LAK. SONU","GENEL","KURU","LAK. BAŞI","LAK. ORT.","LAK. SONU","GENEL","LAK. BAŞI","LAK. ORT.","LAK. SONU","GENEL",null,null,null,null,"90 gün > Dişi Buzağı","90 gün < Buzağı-Düve ","1-180 Gün Gebe Düve","180-288 Gün Gebe Düve","90 gün > Dişi Buzağı","90 gün < Buzağı-Düve ","1-180 Gün Gebe Düve","180-288 Gün Gebe Düve","90 gün > Dişi Buzağı","90 gün < Buzağı-Düve ","1-180 Gün Gebe Düve","180-288 Gün Gebe Düve","90 gün > Dişi Buzağı","90 gün < Buzağı-Düve ","1-180 Gün Gebe Düve","180-288 Gün Gebe Düve","90 gün > Dişi Buzağı","90 gün < Buzağı-Düve ","1-180 Gün Gebe Düve","180-288 Gün Gebe Düve","90 gün > Dişi Buzağı","90 gün < Buzağı-Düve ","1-180 Gün Gebe Düve","180-288 Gün Gebe Düve","90 gün > Dişi Buzağı","90 gün < Buzağı-Düve ","1-180 Gün Gebe Düve","180-288 Gün Gebe Düve","GENEL","90 gün > Dişi Buzağı","90 gün < Buzağı-Düve ","1-180 Gün Gebe Düve","180-288 Gün Gebe Düve","GENEL","90 gün > Dişi Buzağı","90 gün < Buzağı-Düve ","1-180 Gün Gebe Düve","180-288 Gün Gebe Düve","GENEL",null,null,null,null,"Erkek Buzağı","90 gün < Buzağı-Tosun ","Besleme Ortası Canlı Ağırlık","Bitiş Canlı Ağırlık","Erkek Buzağı","90 gün < Buzağı-Tosun ","Besleme Ortası Canlı Ağırlık","Bitiş Canlı Ağırlık","Erkek Buzağı","90 gün < Buzağı-Tosun ","Besleme Ortası Canlı Ağırlık","Bitiş Canlı Ağırlık","Erkek Buzağı","90 gün < Buzağı-Tosun ","Besleme Ortası Canlı Ağırlık","Bitiş Canlı Ağırlık","Erkek Buzağı","90 gün < Buzağı-Tosun ","Besleme Ortası Canlı Ağırlık","Bitiş Canlı Ağırlık","Erkek Buzağı","90 gün < Buzağı-Tosun ","Besleme Ortası Canlı Ağırlık","Bitiş Canlı Ağırlık","Erkek Buzağı","90 gün < Buzağı-Tosun ","Besleme Ortası Canlı Ağırlık","Bitiş Canlı Ağırlık","GENEL","Erkek Buzağı","90 gün < Buzağı-Tosun ","Besleme Ortası Canlı Ağırlık","Bitiş Canlı Ağırlık","GENEL","Erkek Buzağı","90 gün < Buzağı-Tosun ","Besleme Ortası Canlı Ağırlık","Bitiş Canlı Ağırlık","GENEL"]
[{"$f":"İNEK!C38","v":"Soğuk iklim ilkbahar mera"},{"$f":"GENELVERİ!G11","v":"2"},{"$f":"GENELVERİ!B2","v":"30"},{"$f":"GENELVERİ!B3","v":"25"},{"$f":"GENELVERİ!B4","v":"26"},{"$f":"GENELVERİ!B5","v":"30"},{"$f":"İNEK!L15","v":"Kuru-temiz"},{"$f":"İNEK!M15","v":"Kuru-temiz"},{"$f":"İNEK!N15","v":"Kuru-temiz"},{"$f":"İNEK!O15","v":"Kuru-temiz"},{"$f":"İNEK!L18","v":-25},{"$f":"İNEK!M18","v":5},{"$f":"İNEK!N18","v":18},{"$f":"İNEK!O18","v":5},{"$f":"İNEK!L22","v":"hayır"},{"$f":"İNEK!M22","v":"hayır"},{"$f":"İNEK!N22","v":"evet"},{"$f":"İNEK!O22","v":"hayır"},{"$f":"İNEK!L3","v":700},{"$f":"İNEK!M3","v":500},{"$f":"İNEK!N3","v":560},{"$f":"İNEK!O3","v":600},{"$f":"İNEK!M6*İNEK!M8+İNEK!N6*İNEK!N8+İNEK!O6*İNEK!O8","v":7125},{"$f":"İNEK!M6","v":30},{"$f":"İNEK!N6","v":25},{"$f":"İNEK!O6","v":15},{"$f":"İNEK!Q31","v":1.4874313576469782},{"$f":"İNEK!Q33","v":2.79653885070022},{"$f":"İNEK!Q35","v":0.66107325257845262},{"$f":"İNEK!Q37","v":1.6009747240011136},{"$f":"İNEK!Q39","v":1.6361378358052454},{"$f":"İNEK!Q19","v":1.0187037383167126},{"$f":"İNEK!Q21","v":2.383601052225274},{"$f":"İNEK!Q23","v":0.22780036976148263},{"$f":"İNEK!Q25","v":1.262096786665581},{"$f":"İNEK!Q27","v":0.9427275389997406},{"$f":"İNEK!Q9","v":1.9532357673248819},{"$f":"İNEK!Q11","v":0.56155060043396088},{"$f":"İNEK!Q13","v":1.7154866775960955},{"$f":"İNEK!Q15","v":1.3940786896842012},{"$f":"'NET GELİR'!H3","v":1254000},{"$f":"HESAP!GL3+HESAP!GL4+HESAP!GL5+HESAP!GL6","v":925282.16895594902},{"$f":"AO3-AP3","v":328717.83104405098},{"$f":"'NET GELİR'!E7","v":560375.49766731751},{"$f":"GENELVERİ!B7","v":"40"},{"$f":"GENELVERİ!B9","v":"30"},{"$f":"GENELVERİ!B9","v":"30"},{"$f":"GENELVERİ!B9","v":"30"},{"$f":"'D.BUZAĞI-DÜVE'!L12","v":"Kuru-temiz"},{"$f":"'D.BUZAĞI-DÜVE'!M12","v":"Kuru-temiz"},{"$f":"'D.BUZAĞI-DÜVE'!N12","v":"Kuru-temiz"},{"$f":"'D.BUZAĞI-DÜVE'!O12","v":"Kuru-temiz"},{"$f":"'D.BUZAĞI-DÜVE'!L15","v":5},{"$f":"'D.BUZAĞI-DÜVE'!M15","v":5},{"$f":"'D.BUZAĞI-DÜVE'!N15","v":15},{"$f":"'D.BUZAĞI-DÜVE'!O15","v":-20},{"$f":"'D.BUZAĞI-DÜVE'!L19","v":"hayır"},{"$f":"'D.BUZAĞI-DÜVE'!M19","v":"hayır"},{"$f":"'D.BUZAĞI-DÜVE'!N19","v":"evet"},{"$f":"'D.BUZAĞI-DÜVE'!O19","v":"hayır"},78,358,482.6,590.6,{"$f":"İNEK!L4","v":900},{"$f":"İNEK!M4","v":800},{"$f":"İNEK!N4","v":250},{"$f":"İNEK!O4","v":800},{"$f":"'D.BUZAĞI-DÜVE'!Q18","v":3.4358987305230326},{"$f":"'D.BUZAĞI-DÜVE'!Q19","v":1.4340638387207301},{"$f":"'D.BUZAĞI-DÜVE'!Q20","v":1.3222049525650472},{"$f":"'D.BUZAĞI-DÜVE'!Q21","v":1.2162210342277493},{"$f":"'D.BUZAĞI-DÜVE'!Q22","v":1.5056267715996705},{"$f":"'D.BUZAĞI-DÜVE'!Q24","v":6.7099387943327171},{"$f":"'D.BUZAĞI-DÜVE'!Q25","v":1.4386448917461856},{"$f":"'D.BUZAĞI-DÜVE'!Q26","v":1.3834993038658967},{"$f":"'D.BUZAĞI-DÜVE'!Q27","v":1.4129880199371847},{"$f":"'D.BUZAĞI-DÜVE'!Q28","v":1.6174016370808815},{"$f":"'D.BUZAĞI-DÜVE'!Q12","v":17.946743860298916},{"$f":"'D.BUZAĞI-DÜVE'!Q13","v":12.653748189867517},{"$f":"'D.BUZAĞI-DÜVE'!Q14","v":19.524083589671825},{"$f":"'D.BUZAĞI-DÜVE'!Q15","v":19.83459738442896},{"$f":"'D.BUZAĞI-DÜVE'!Q16","v":15.9964840751657},{"$f":"SUM(HESAP!GJ15:GJ18)+HESAP!GJ3","v":458160.23010378284},{"$f":"SUM(HESAP!GL15:GL18)","v":390352.60299582349},{"$f":"CF3-CG3","v":67807.627107959357},{"$f":"HESAP!GO9","v":560375.49766731763},{"$f":"GENELVERİ!B6","v":"40"},{"$f":"GENELVERİ!B8","v":"35"},{"$f":"GENELVERİ!B8","v":"35"},{"$f":"GENELVERİ!B8","v":"35"},{"$f":"'E.BUZAĞI-TOSUN'!L12","v":"Kuru-temiz"},{"$f":"'E.BUZAĞI-TOSUN'!M12","v":"Kuru-temiz"},{"$f":"'E.BUZAĞI-TOSUN'!N12","v":"Kuru-temiz"},{"$f":"'E.BUZAĞI-TOSUN'!O12","v":"Kuru-temiz"},{"$f":"'E.BUZAĞI-TOSUN'!L15","v":5},{"$f":"'E.BUZAĞI-TOSUN'!M15","v":-20},{"$f":"'E.BUZAĞI-TOSUN'!N15","v":18},{"$f":"'E.BUZAĞI-TOSUN'!O15","v":5},{"$f":"'E.BUZAĞI-TOSUN'!L19","v":"hayır"},{"$f":"'E.BUZAĞI-TOSUN'!M19","v":"hayır"},{"$f":"'E.BUZAĞI-TOSUN'!N19","v":"evet"},{"$f":"'E.BUZAĞI-TOSUN'!O19","v":"hayır"},89,191,371,491,{"$f":"'E.BUZAĞI-TOSUN'!L4","v":750},{"$f":"'E.BUZAĞI-TOSUN'!M4","v":850},{"$f":"'E.BUZAĞI-TOSUN'!N4","v":1000},{"$f":"'E.BUZAĞI-TOSUN'!O4","v":1200},{"$f":"'E.BUZAĞI-TOSUN'!Q14","v":3.0536645041160266},{"$f":"'E.BUZAĞI-TOSUN'!Q15","v":2.6945166280362933},{"$f":"'E.BUZAĞI-TOSUN'!Q16","v":0.14749324222014515},{"$f":"'E.BUZAĞI-TOSUN'!Q17","v":1.8901258440400077},{"$f":"'E.BUZAĞI-TOSUN'!Q18","v":1.2449238503827076},{"$f":"'E.BUZAĞI-TOSUN'!Q20","v":3.1823314847161703},{"$f":"'E.BUZAĞI-TOSUN'!Q21","v":3.491007756514068},{"$f":"'E.BUZAĞI-TOSUN'!Q22","v":0.15707644233727669},{"$f":"'E.BUZAĞI-TOSUN'!Q23","v":2.4028001175282152},{"$f":"'E.BUZAĞI-TOSUN'!Q24","v":1.411854628459575},{"$f":"'E.BUZAĞI-TOSUN'!Q8","v":21.002397407856503},{"$f":"'E.BUZAĞI-TOSUN'!Q9","v":23.822120073951183},{"$f":"'E.BUZAĞI-TOSUN'!Q10","v":4.0657638904822253},{"$f":"'E.BUZAĞI-TOSUN'!Q11","v":24.480971209628304},{"$f":"'E.BUZAĞI-TOSUN'!Q12","v":15.759548492927877},{"$f":"SUM(HESAP!GJ10:GJ13)","v":430017.46979391959},{"$f":"SUM(HESAP!GL10:GL13)","v":281780.72705355042},{"$f":"DW3-DX3","v":148236.74274036917},{"$f":"HESAP!GO9","v":560375.49766731763},{"$f":"'NET GELİR'!A7","v":407.42325172630717},{"$f":"'NET GELİR'!B7","v":31.164142654532}]
["Soğuk iklim ilkbahar mera","2","30","25","26","30","Kuru-temiz","Kuru-temiz","Kuru-temiz","Kuru-temiz",-25,5,18,5,"hayır","hayır","evet","hayır",700,500,560,600,7125,30,25,15,1.4874313576469782,2.79653885070022,0.66107325257845262,1.6009747240011136,1.6361378358052454,1.0187037383167126,2.383601052225274,0.22780036976148263,1.262096786665581,0.9427275389997406,1.9532357673248819,0.56155060043396088,1.7154866775960955,1.3940786896842012,1254000,925282.16895594902,328717.83104405098,560375.49766731751,"40","30","30","30","Kuru-temiz","Kuru-temiz","Kuru-temiz","Kuru-temiz",5,5,15,-20,"hayır","hayır","evet","hayır",78,358,482.6,590.6,900,800,250,800,3.4358987305230326,1.4340638387207301,1.3222049525650472,1.2162210342277493,1.5056267715996705,6.7099387943327171,1.4386448917461856,1.3834993038658967,1.4129880199371847,1.6174016370808815,17.946743860298916,12.653748189867517,19.524083589671825,19.83459738442896,15.9964840751657,458160.23010378284,390352.60299582349,67807.627107959357,560375.49766731763,"40","35","35","35","Kuru-temiz","Kuru-temiz","Kuru-temiz","Kuru-temiz",5,-20,18,5,"hayır","hayır","evet","hayır",89,191,371,491,750,850,1000,1200,3.0536645041160266,2.6945166280362933,0.14749324222014515,1.8901258440400077,1.2449238503827076,3.1823314847161703,3.491007756514068,0.15707644233727669,2.4028001175282152,1.411854628459575,21.002397407856503,23.822120073951183,4.0657638904822253,24.480971209628304,15.759548492927877,430017.46979391959,281780.72705355042,148236.74274036917,560375.49766731763,407.42325172630717,31.164142654532]

{"sheet":"İNEK ARŞİV","index":11,"n_rows":3,"n_cols":132,"rows_kept":3,"cut":false,"hidden":false,"merged":[[0,14,0,17],[0,18,0,21],[0,22,1,22],[0,23,0,25],[0,0,1,0],[0,1,1,1],[0,2,0,5],[0,6,0,9],[0,10,0,13],[0,44,0,47],[0,48,0,51],[0,52,0,55],[0,56,0,59],[0,26,0,30],[0,31,0,35],[0,36,0,39],[0,40,1,40],[0,41,1,41],[0,42,1,42],[0,43,1,43],[0,60,0,63],[0,64,0,67],[0,68,0,72],[0,73,0,77],[0,78,0,82],[0,83,1,83],[0,84,1,84],[0,85,1,85],[0,86,1,86],[0,87,0,90],[0,91,0,94],[0,95,0,98],[0,99,0,102],[0,103,0,106],[0,107,0,110],[0,128,1,128],[0,129,1,129],[0,130,1,130],[0,131,1,131],[0,111,0,115],[0,116,0,120],[0,121,0,125],[0,126,1,126],[0,127,1,127]]}
["HESAP YILI","SÜT FİYATI \n(TL/KG)","BİRİM KARKAS FİYATI(TL/KG)",null,null,null,"DIŞ İZALASYON",null,null,null,"MEVCUT ÇEVRE SICAKLIĞI(0C)",null,null,null,"MERA KULLANIMI",null,null,null,"İNEK CA\n(KG)",null,null,null,"LAKTASYON VERİMİ\n(KG)","GÜNLÜK SÜT VERİMİ\n(KG)",null,null,"BİRİM YEM KM MALİYETİ(TL/KG)",null,null,null,null,"BİRİM YEM MALİYETİ(TL/KG)",null,null,null,null,"SÜTÜN YEM MALİYETİ\n(TL/KG)",null,null,null,"YILLIK SÜT GELİRİ\n(TL)","YILLIK YEM MASRAFI\n(TL)","YILLIK SÜT-YEM GELİR\n(TL)","YILLIK NET GELİR\n(TL)","BİRİM KARKAS FİYATI(TL/KG)",null,null,null,"DIŞ İZALASYON",null,null,null,"MEVCUT ÇEVRE SICAKLIĞI(0C)",null,null,null,"MERA KULLANIMI",null,null,null,"BUZAĞI/DÜVE CA\n(KG)",null,null,null,"BUZAĞI/DÜVE GÜNLÜK CAA (KG/GÜN)",null,null,null,"BİRİM YEM MALİYETİ(TL/KG)",null,null,null,null,"BİRİM KM YEM MALİYETİ(TL/KG)",null,null,null,null,"1 KG CAA YEM MALİYETİ\n(TL/KG)",null,null,null,null,"YILLIK DÜVE GELİRİ\n(TL)","YILLIK YEM MASRAFI\n(TL)","YILLIK DÜVE-YEM GELİR\n(TL)","YILLIK NET GELİR\n(TL)","BİRİM BUZAĞI/TOSUN KARKAS FİYATI(TL/KG)",null,null,null,"DIŞ İZALASYON",null,null,null,"MEVCUT ÇEVRE SICAKLIĞI(0C)",null,null,null,"MERA KULLANIMI",null,null,null,"BUZAĞI/TOSUN CA\n(KG)",null,null,null,"BUZAĞI/TOSUN GÜNLÜK CAA (KG/GÜN)",null,null,null,"BİRİM YEM MALİYETİ(TL/KG)",null,null,null,null,"BİRİM YEM KM MALİYETİ(TL/KG)",null,null,null,null,"1 KG CAA YEM MALİYETİ\n(TL/KG)",null,null,null,null,"YILLIK TOSUN GELİRİ\n(TL)","YILLIK YEM MASRAFI\n(TL)","YILLIK TOSUN-YEM GELİR\n(TL)","YILLIK NET GELİR\n(TL)","1 KG HAYVANSAL PROTEİN İÇİN TÜKETİLEN YEM METABOLİK  ENERJİSİ (MJ)","1 KG HAYVANSAL PROTEİN İÇİN METAN SALINIMI (MJ)"]
[null,null,"KURU","LAK. BAŞI","LAK. ORT.","LAK. SONU","KURU","LAK. BAŞI","LAK. ORT.","LAK. SONU","KURU","LAK. BAŞI","LAK. ORT.","LAK. SONU","KURU","LAK. BAŞI","LAK. ORT.","LAK. SONU","KURU","LAK. BAŞI","LAK. ORT.","LAK. SONU",null,"LAK. BAŞI","LAK. ORT.","LAK. SONU","KURU","LAK. BAŞI","LAK. ORT.","LAK. SONU","GENEL","KURU","LAK. BAŞI","LAK. ORT.","LAK. SONU","GENEL","LAK. BAŞI","LAK. ORT.","LAK. SONU","GENEL",null,null,null,null,"90 gün > Dişi Buzağı","90 gün < Buzağı-Düve ","1-180 Gün Gebe Düve","180-288 Gün Gebe Düve","90 gün > Dişi Buzağı","90 gün < Buzağı-Düve ","1-180 Gün Gebe Düve","180-288 Gün Gebe Düve","90 gün > Dişi Buzağı","90 gün < Buzağı-Düve ","1-180 Gün Gebe Düve","180-288 Gün Gebe Düve","90 gün > Dişi Buzağı","90 gün < Buzağı-Düve ","1-180 Gün Gebe Düve","180-288 Gün Gebe Düve","90 gün > Dişi Buzağı","90 gün < Buzağı-Düve ","1-180 Gün Gebe Düve","180-288 Gün Gebe Düve","90 gün > Dişi Buzağı","90 gün < Buzağı-Düve ","1-180 Gün Gebe Düve","180-288 Gün Gebe Düve","90 gün > Dişi Buzağı","90 gün < Buzağı-Düve ","1-180 Gün Gebe Düve","180-288 Gün Gebe Düve","GENEL","90 gün > Dişi Buzağı","90 gün < Buzağı-Düve ","1-180 Gün Gebe Düve","180-288 Gün Gebe Düve","GENEL","90 gün > Dişi Buzağı","90 gün < Buzağı-Düve ","1-180 Gün Gebe Düve","180-288 Gün Gebe Düve","GENEL",null,null,null,null,"Erkek Buzağı","90 gün < Buzağı-Tosun ","Besleme Ortası Canlı Ağırlık","Bitiş Canlı Ağırlık","Erkek Buzağı","90 gün < Buzağı-Tosun ","Besleme Ortası Canlı Ağırlık","Bitiş Canlı Ağırlık","Erkek Buzağı","90 gün < Buzağı-Tosun ","Besleme Ortası Canlı Ağırlık","Bitiş Canlı Ağırlık","Erkek Buzağı","90 gün < Buzağı-Tosun ","Besleme Ortası Canlı Ağırlık","Bitiş Canlı Ağırlık","Erkek Buzağı","90 gün < Buzağı-Tosun ","Besleme Ortası Canlı Ağırlık","Bitiş Canlı Ağırlık","Erkek Buzağı","90 gün < Buzağı-Tosun ","Besleme Ortası Canlı Ağırlık","Bitiş Canlı Ağırlık","Erkek Buzağı","90 gün < Buzağı-Tosun ","Besleme Ortası Canlı Ağırlık","Bitiş Canlı Ağırlık","GENEL","Erkek Buzağı","90 gün < Buzağı-Tosun ","Besleme Ortası Canlı Ağırlık","Bitiş Canlı Ağırlık","GENEL","Erkek Buzağı","90 gün < Buzağı-Tosun ","Besleme Ortası Canlı Ağırlık","Bitiş Canlı Ağırlık","GENEL"]
["Soğuk iklim ilkbahar mera","2","30","25","26","30","Kuru-temiz","Kuru-temiz","Kuru-temiz","Kuru-temiz",-25,5,18,5,"hayır","hayır","evet","hayır",700,500,560,600,7125,30,25,15,1.4874313576469782,2.79653885070022,0.66107325257845262,1.6009747240011136,1.6361378358052454,1.0187037383167126,2.383601052225274,0.22780036976148263,1.262096786665581,0.9427275389997406,1.9532357673248819,0.56155060043396088,1.7154866775960955,1.3940786896842012,1254000,925282.16895594902,328717.83104405098,560375.49766731751,"40","30","30","30","Kuru-temiz","Kuru-temiz","Kuru-temiz","Kuru-temiz",5,5,15,-20,"hayır","hayır","evet","hayır",78,358,482.6,590.6,900,800,250,800,3.4358987305230326,1.4340638387207301,1.3222049525650472,1.2162210342277493,1.5056267715996705,6.7099387943327171,1.4386448917461856,1.3834993038658967,1.4129880199371847,1.6174016370808815,17.946743860298916,12.653748189867517,19.524083589671825,19.83459738442896,15.9964840751657,458160.23010378284,390352.60299582349,67807.627107959357,560375.49766731763,"40","35","35","35","Kuru-temiz","Kuru-temiz","Kuru-temiz","Kuru-temiz",5,-20,18,5,"hayır","hayır","evet","hayır",89,191,371,491,750,850,1000,1200,3.0536645041160266,2.6945166280362933,0.14749324222014515,1.8901258440400077,1.2449238503827076,3.1823314847161703,3.491007756514068,0.15707644233727669,2.4028001175282152,1.411854628459575,21.002397407856503,23.822120073951183,4.0657638904822253,24.480971209628304,15.759548492927877,430017.46979391959,281780.72705355042,148236.74274036917,560375.49766731763,407.42325172630717,31.164142654532]